From mboxrd@z Thu Jan 1 00:00:00 1970 Return-Path: Received: from mails.dpdk.org (mails.dpdk.org [217.70.189.124]) by inbox.dpdk.org (Postfix) with ESMTP id 1B3AB46AC3 for ; Tue, 1 Jul 2025 05:36:15 +0200 (CEST) Received: from mails.dpdk.org (localhost [127.0.0.1]) by mails.dpdk.org (Postfix) with ESMTP id DDE8C40276; Tue, 1 Jul 2025 05:36:14 +0200 (CEST) Received: from mail-io1-f98.google.com (mail-io1-f98.google.com [209.85.166.98]) by mails.dpdk.org (Postfix) with ESMTP id 69CA640276 for ; Tue, 1 Jul 2025 05:36:13 +0200 (CEST) Received: by mail-io1-f98.google.com with SMTP id ca18e2360f4ac-86cf3a3d4ccso522017639f.3 for ; Mon, 30 Jun 2025 20:36:13 -0700 (PDT) DKIM-Signature: v=1; a=rsa-sha256; c=relaxed/relaxed; d=iol.unh.edu; s=unh-iol; t=1751340972; x=1751945772; darn=dpdk.org; h=references:in-reply-to:cc:to:from:subject:message-id:date:from:to :cc:subject:date:message-id:reply-to; bh=p0pwTtn19el9nhNq7/ZYgtQw5NCQK5Tg/+fO8K2LIbA=; b=TRGlcQHLEF3lx8+5e3O2di5gX7KNnvp/WnZ7KkMDpneHjEoMLTMim2gRDdGdHJLKUB GvYbgwWNwSO+6D9Lh+6d0WgouRoHUwvywG8JyEjja0PhwjV77iQQPwHdfNGpU6eQNTWK qSBAIRdrNXV4QVXwJE1WZa72xaS4QrhyhbMXM= X-Google-DKIM-Signature: v=1; a=rsa-sha256; c=relaxed/relaxed; d=1e100.net; s=20230601; t=1751340972; x=1751945772; h=references:in-reply-to:cc:to:from:subject:message-id:date :x-gm-message-state:from:to:cc:subject:date:message-id:reply-to; bh=p0pwTtn19el9nhNq7/ZYgtQw5NCQK5Tg/+fO8K2LIbA=; b=tTe+iF1+aeUJMUFTQpQGCiF9ridL2jahAHlJpLbQxvNIyPmt4Sos/0+CqgpFypcMT2 p980G9k+nuDcL2Hyn4K80H/3I79PrInIZma0oyYKmvyb9Bwc1wolcaysFWDiPshZZ/dh CD7xBh4f6XHXc6DzIIGzPddSK8rExDS4e9tYAuU89ySto9Mu/Y3ow+6xmTpRgUoKepJ3 GuCThaGQ3XwDtJXcSSEMRc0Mm4KwKdFwbAhNWbuKbu4ZDB/qh1qoQAbKIqNXtW3QOzZ/ I3yK/WWYamW+bOBJqc4fOLPr5wMLt7sUt0KaA/ZYNMaZjJvgIN1xNlfxhSgRsRoT4g00 QK0A== X-Gm-Message-State: AOJu0Ywud6G5tDcGffQqt+XfVbz6dyjm/JT1Zcl87ClPNKP+MXZMzKFE cVrxwcZ9KJzEZF2TgbU2Ve7HA75Ufl/qc69DzFtPg57AJ+iCw6H5AD5jnYIzEYKvq1ALJjSJu4D tkaE2pdmrr+opwa7Z8sZRDJUkaFpIIz2eis2KkbaMA1aDt5xVWvhCpD4Tkn76 X-Gm-Gg: ASbGnctyNvSts5Ircuy9YlhIllLHAOPhZx6eVET9AlQS0LpLvLF/+lCLMEarLvDq2xr BV6Brk/QqhlHfLdFuUw6qVKFnx8kG2uUU02RgoswwhyGHya1e8x6e9K7PLFehyte7KHEvWl7Ll/ Ikdb6zzcRmHwooa5hqCksHuxwahYrxRHfunZC5JvXIr48/fJbFTR/mXk8jlnkfpxli+Cnjx4S/d M89d4QMhke92s2Jt5GYYbpczJwzBYYPUmrxnvWhC/UtIl6x47Hu+THLhLrocAPTAEWLclCN/fxB MlhLuZFNbj7jb3ZKb7txX+7RfPfkNwpnwGUboux28ZYYWHQ= X-Google-Smtp-Source: AGHT+IGtL8sVvanuXBOlDhbRN9pSX3ToBe/6GLkfJtoKnFDps6NGvD/6O4xzgKpEEPgqlV0rVcXaE/n1vtn3 X-Received: by 2002:a05:6e02:1608:b0:3dd:89b0:8e1b with SMTP id e9e14a558f8ab-3df4abbb2d4mr186244165ab.15.1751340972598; Mon, 30 Jun 2025 20:36:12 -0700 (PDT) Received: from postal.iol.unh.edu (postal.iol.unh.edu. [2606:4100:3880:1234::84]) by smtp-relay.gmail.com with ESMTPS id e9e14a558f8ab-3df4a0260fdsm5382145ab.16.2025.06.30.20.36.12 (version=TLS1_2 cipher=ECDHE-ECDSA-AES128-GCM-SHA256 bits=128/128); Mon, 30 Jun 2025 20:36:12 -0700 (PDT) X-Relaying-Domain: iol.unh.edu Date: Mon, 30 Jun 2025 20:36:12 -0700 (PDT) Message-ID: <686357ac.920a0220.2d396b.dc96SMTPIN_ADDED_MISSING@mx.google.com> Received: from [172.17.0.2] (unknown [172.18.0.74]) by postal.iol.unh.edu (Postfix) with ESMTP id 184616051830; Mon, 30 Jun 2025 23:36:12 -0400 (EDT) Subject: |SUCCESS| pw154863-154879 [PATCH] [V4,18/18] drivers/net: add hinic3 From: dpdklab@iol.unh.edu To: Test Report Cc: dpdk-test-reports@iol.unh.edu In-Reply-To: <20250701014223.2440-19-wff_light@vip.163.com> References: <20250701014223.2440-19-wff_light@vip.163.com> Content-Type: text/plain X-BeenThere: test-report@dpdk.org X-Mailman-Version: 2.1.29 Precedence: list List-Id: automatic DPDK test reports List-Unsubscribe: , List-Archive: List-Post: List-Help: List-Subscribe: , Errors-To: test-report-bounces@dpdk.org Test-Label: iol-abi-testing Test-Status: SUCCESS http://dpdk.org/patch/154879 _Testing PASS_ Submitter: Feifei Wang Date: Tuesday, July 01 2025 01:42:09 DPDK git baseline: Repo:dpdk Branch: master CommitID:77864da82f25a9e1e43c14b2cba68c2049a3ee3e 154863-154879 --> testing pass Upstream job id: Generic-DPDK-Compile-ABI#132463 Test environment and result as below: +-------------------------------+----------+ | Environment | abi_test | +===============================+==========+ | CentOS Stream 10 | PASS | +-------------------------------+----------+ | CentOS Stream 9 | PASS | +-------------------------------+----------+ | Debian GNU/Linux 12 | PASS | +-------------------------------+----------+ | Fedora Linux 40 | PASS | +-------------------------------+----------+ | Fedora Linux 41 | PASS | +-------------------------------+----------+ | openSUSE Leap 15.6 | PASS | +-------------------------------+----------+ | Red Hat Enterprise Linux 9.5 | PASS | +-------------------------------+----------+ | Ubuntu 24.04 | PASS | +-------------------------------+----------+ | Red Hat Enterprise Linux 8.10 | PASS | +-------------------------------+----------+ | Ubuntu 22.04 | PASS | +-------------------------------+----------+ CentOS Stream 10 Kernel: 5.15 Compiler: gcc gcc (GCC) 14.2.1 20250110 (Red Hat 14.2.1-8) CentOS Stream 9 Kernel: 5.15 Compiler: gcc gcc (GCC) 11.5.0 20240719 (Red Hat 11.5.0-7) Debian GNU/Linux 12 Kernel: 5.15 Compiler: gcc gcc (Debian 12.2.0-14+deb12u1) 12.2.0 Fedora Linux 40 Kernel: 5.15 Compiler: gcc gcc (GCC) 14.2.1 20240912 (Red Hat 14.2.1-3) Fedora Linux 41 Kernel: 5.15 Compiler: clang gcc (GCC) 14.3.1 20250523 (Red Hat 14.3.1-1) openSUSE Leap 15.6 Kernel: 5.15 Compiler: gcc gcc (SUSE Linux) 7.5.0 Red Hat Enterprise Linux 9.5 Kernel: 5.15 Compiler: gcc gcc (GCC) 11.5.0 20240719 (Red Hat 11.5.0-2) Ubuntu 24.04 Kernel: 5.15 Compiler: gcc gcc (Ubuntu 13.3.0-6ubuntu2~24.04) 13.3.0 Red Hat Enterprise Linux 8.10 Kernel: 5.15 Compiler: gcc gcc (GCC) 8.5.0 20210514 (Red Hat 8.5.0-22) Ubuntu 22.04 Kernel: 5.15 Compiler: gcc gcc (Ubuntu 11.4.0-1ubuntu1~22.04) 11.4.0 To view detailed results, visit: https://lab.dpdk.org/results/dashboard/patchsets/33548/ UNH-IOL DPDK Community Lab To manage your email subscriptions, visit: https://lab.dpdk.org/results/dashboard/preferences/subscriptions/