From mboxrd@z Thu Jan 1 00:00:00 1970 Return-Path: Received: from mails.dpdk.org (mails.dpdk.org [217.70.189.124]) by inbox.dpdk.org (Postfix) with ESMTP id 2EE1246AC9 for ; Tue, 1 Jul 2025 06:01:13 +0200 (CEST) Received: from mails.dpdk.org (localhost [127.0.0.1]) by mails.dpdk.org (Postfix) with ESMTP id 101EF40276; Tue, 1 Jul 2025 06:01:13 +0200 (CEST) Received: from mail-pj1-f99.google.com (mail-pj1-f99.google.com [209.85.216.99]) by mails.dpdk.org (Postfix) with ESMTP id B773A40276 for ; Tue, 1 Jul 2025 06:01:12 +0200 (CEST) Received: by mail-pj1-f99.google.com with SMTP id 98e67ed59e1d1-311c95ddfb5so3899922a91.2 for ; Mon, 30 Jun 2025 21:01:12 -0700 (PDT) DKIM-Signature: v=1; a=rsa-sha256; c=relaxed/relaxed; d=iol.unh.edu; s=unh-iol; t=1751342472; x=1751947272; darn=dpdk.org; h=references:in-reply-to:cc:to:from:subject:message-id:date:from:to :cc:subject:date:message-id:reply-to; bh=W1xcYgfYlvf9xdK99tFrfyZHHa3iN+2oftxtHP3CIqA=; b=OmT+Amzezuds7db/Gw8Ic5fc9yxtChI41m5iOlXY20Rv+m0WhUqLzE55+hKb6vzEro 6KmdAnKK6PJp5GbK/UB6ODDFAR52ZirSKav/8Fy0cL50BmJq+fFhzeCiXViUk1seRKSf jl6/HesphtyQfe0THT2z//jVV6LIb8PRXTZqY= X-Google-DKIM-Signature: v=1; a=rsa-sha256; c=relaxed/relaxed; d=1e100.net; s=20230601; t=1751342472; x=1751947272; h=references:in-reply-to:cc:to:from:subject:message-id:date :x-gm-message-state:from:to:cc:subject:date:message-id:reply-to; bh=W1xcYgfYlvf9xdK99tFrfyZHHa3iN+2oftxtHP3CIqA=; b=wyjqEOQm3j7/NY1Xoe6IWcgjT+5kNAmhLrpAeYxOI+EySp2IYkQfMH2WzpRqVFSSfc v6xk33EtRn1jtOalFvCwBzGiAYxl5GOvnuv+KP3PoOZ+oLt4sOafM8hv7sY32f8xLgb1 vmGL9HSMO+2w2UY7PgzJ+TZxfNKnIUqytf/24/GhNNBJZBWM9LxLNHYe0QHVgYsswpOx 0bNkOEiGJoDGhzGHj77U/yAxNcn/n853dYpkJ/5VZ2A9ZvRGp9sYNw+D9yY0QCGZUO+l 6rYc9f9fNkge7rw6Nix/46jOxggpeKsAzj8UCztFTxwI88ED78OSqsALDI4rYAbueWqb KB4Q== X-Gm-Message-State: AOJu0YwDvXEf0hndmC6q9f58E2/6YUe/aRNekoBlL7NhntLNNzdFTTHq QFEB+Q+3EoPWwP+sPZ0K6hNAQjoNY5eH9IKE+RxH//oIq2KP6+cVkcrHENGMQy3C01IotvZwwDg SA+myqWPSErawHvzJDwgei7yc0jvZgmTzR7qjdRaMrFRb X-Gm-Gg: ASbGncvKRBluzUuQpJYS/X/PuASyulowfMvoCMVigznAe94pTtW9ol6gP7o3tRLNXTN hJVydyxDaRcYr57Z/T15pp1+vHq9zNgdWvkypKajLO8v58RrLbYXMRVVT1UiW+oV0CQE7iqT8Mw 3hb/F/+A5dYFudmqrvkz7fyeYE8Zm3HWcUZG8S8u6cU0VABi5MqT3b1BHo+otIHi3RfbUbkGgHE qYceNBNZn5gPKlJA6R2c7w8/RG4rjXR5fbaG5rb9Gft+oFbxuHvxLN10ET0S6pTXlD/+xABjxPQ xeu4bCXqPprlLT2ddkI90PCeW0Xaaeqcmg4CAuO3bpcQ2nZvOnxVA4Rt37YX+66lHPgcag== X-Google-Smtp-Source: AGHT+IF00gxw0U1esWTTQxdpzVHI0vyBpk0XFNNX2FNQ20/bOglThVeJL5zWHubxltU/bhgaVBARj4/uPegX X-Received: by 2002:a17:90b:1e51:b0:311:a314:c2dc with SMTP id 98e67ed59e1d1-318c921f566mr25104325a91.14.1751342471670; Mon, 30 Jun 2025 21:01:11 -0700 (PDT) Received: from postal.iol.unh.edu (postal.iol.unh.edu. [132.177.123.84]) by smtp-relay.gmail.com with ESMTPS id 98e67ed59e1d1-318c1471c04sm657323a91.13.2025.06.30.21.01.11 (version=TLS1_2 cipher=ECDHE-ECDSA-AES128-GCM-SHA256 bits=128/128); Mon, 30 Jun 2025 21:01:11 -0700 (PDT) X-Relaying-Domain: iol.unh.edu Date: Mon, 30 Jun 2025 21:01:11 -0700 (PDT) Message-ID: <68635d87.170a0220.2192ad.48e7SMTPIN_ADDED_MISSING@mx.google.com> Received: from [172.17.0.2] (unknown [172.18.0.74]) by postal.iol.unh.edu (Postfix) with ESMTP id B965D6051830; Tue, 1 Jul 2025 00:01:10 -0400 (EDT) Subject: |SUCCESS| pw154863-154879 [PATCH] [V4,18/18] drivers/net: add hinic3 From: dpdklab@iol.unh.edu To: Test Report Cc: dpdk-test-reports@iol.unh.edu In-Reply-To: <20250701014223.2440-19-wff_light@vip.163.com> References: <20250701014223.2440-19-wff_light@vip.163.com> Content-Type: text/plain X-BeenThere: test-report@dpdk.org X-Mailman-Version: 2.1.29 Precedence: list List-Id: automatic DPDK test reports List-Unsubscribe: , List-Archive: List-Post: List-Help: List-Subscribe: , Errors-To: test-report-bounces@dpdk.org Test-Label: iol-unit-arm64-testing Test-Status: SUCCESS http://dpdk.org/patch/154879 _Testing PASS_ Submitter: Feifei Wang Date: Tuesday, July 01 2025 01:42:09 DPDK git baseline: Repo:dpdk Branch: master CommitID:77864da82f25a9e1e43c14b2cba68c2049a3ee3e 154863-154879 --> testing pass Upstream job id: Generic-Unit-Test-DPDK#351240 Test environment and result as below: +------------------------------+--------------+---------------------------+------------------------------+----------------+ | Environment | lpm_autotest | cryptodev_sw_zuc_autotest | cryptodev_sw_snow3g_autotest | dpdk_unit_test | +==============================+==============+===========================+==============================+================+ | Ubuntu 20.04 | PASS | SKIPPED | SKIPPED | PASS | +------------------------------+--------------+---------------------------+------------------------------+----------------+ | Debian 12 (arm) | SKIPPED | PASS | PASS | SKIPPED | +------------------------------+--------------+---------------------------+------------------------------+----------------+ | CentOS Stream 10 | SKIPPED | SKIPPED | SKIPPED | PASS | +------------------------------+--------------+---------------------------+------------------------------+----------------+ | Ubuntu 24.04 | SKIPPED | SKIPPED | SKIPPED | PASS | +------------------------------+--------------+---------------------------+------------------------------+----------------+ | CentOS Stream 9 | SKIPPED | SKIPPED | SKIPPED | PASS | +------------------------------+--------------+---------------------------+------------------------------+----------------+ | Ubuntu 22.04 | SKIPPED | SKIPPED | SKIPPED | PASS | +------------------------------+--------------+---------------------------+------------------------------+----------------+ | Debian GNU/Linux 12 | SKIPPED | SKIPPED | SKIPPED | PASS | +------------------------------+--------------+---------------------------+------------------------------+----------------+ | Fedora Linux 41 | SKIPPED | SKIPPED | SKIPPED | PASS | +------------------------------+--------------+---------------------------+------------------------------+----------------+ | Fedora Linux 40 | SKIPPED | SKIPPED | SKIPPED | PASS | +------------------------------+--------------+---------------------------+------------------------------+----------------+ | Red Hat Enterprise Linux 9.5 | SKIPPED | SKIPPED | SKIPPED | PASS | +------------------------------+--------------+---------------------------+------------------------------+----------------+ Ubuntu 20.04 Kernel: 5.4 Compiler: gcc gcc (Ubuntu 9.4.0-1ubuntu1~20.04.2) 9.4.0 Debian 12 (arm) Kernel: Depends on container host Compiler: gcc (Debian 12.2.0-14) 12.2.0 CentOS Stream 10 Kernel: 5.4 Compiler: gcc gcc (GCC) 14.2.1 20250110 (Red Hat 14.2.1-8) Ubuntu 24.04 Kernel: 5.4 Compiler: gcc gcc (Ubuntu 13.3.0-6ubuntu2~24.04) 13.3.0 CentOS Stream 9 Kernel: 5.4 Compiler: gcc gcc (GCC) 11.5.0 20240719 (Red Hat 11.5.0-7) Ubuntu 22.04 Kernel: 5.4 Compiler: gcc gcc (Ubuntu 11.4.0-1ubuntu1~22.04) 11.4.0 Debian GNU/Linux 12 Kernel: 5.4 Compiler: gcc gcc (Debian 12.2.0-14+deb12u1) 12.2.0 Fedora Linux 41 Kernel: 5.4 Compiler: clang gcc (GCC) 14.3.1 20250523 (Red Hat 14.3.1-1) Fedora Linux 40 Kernel: 5.4 Compiler: clang gcc (GCC) 14.2.1 20240912 (Red Hat 14.2.1-3) Red Hat Enterprise Linux 9.5 Kernel: 5.4 Compiler: gcc gcc (GCC) 11.5.0 20240719 (Red Hat 11.5.0-2) To view detailed results, visit: https://lab.dpdk.org/results/dashboard/patchsets/33548/ UNH-IOL DPDK Community Lab To manage your email subscriptions, visit: https://lab.dpdk.org/results/dashboard/preferences/subscriptions/