From mboxrd@z Thu Jan 1 00:00:00 1970 Return-Path: Received: from mails.dpdk.org (mails.dpdk.org [217.70.189.124]) by inbox.dpdk.org (Postfix) with ESMTP id 88BF946AC9 for ; Tue, 1 Jul 2025 06:05:05 +0200 (CEST) Received: from mails.dpdk.org (localhost [127.0.0.1]) by mails.dpdk.org (Postfix) with ESMTP id 69DE140276; Tue, 1 Jul 2025 06:05:05 +0200 (CEST) Received: from mail-qv1-f99.google.com (mail-qv1-f99.google.com [209.85.219.99]) by mails.dpdk.org (Postfix) with ESMTP id F1FD440276 for ; Tue, 1 Jul 2025 06:05:04 +0200 (CEST) Received: by mail-qv1-f99.google.com with SMTP id 6a1803df08f44-6facba680a1so34685436d6.3 for ; Mon, 30 Jun 2025 21:05:04 -0700 (PDT) DKIM-Signature: v=1; a=rsa-sha256; c=relaxed/relaxed; d=iol.unh.edu; s=unh-iol; t=1751342704; x=1751947504; darn=dpdk.org; h=references:in-reply-to:cc:to:from:subject:message-id:date:from:to :cc:subject:date:message-id:reply-to; bh=YAp5V8H+2aDpvlD7Ya5a91JNitqtMdogPGdgPRPPTLI=; b=EQzsfBajZ1G4LsW+vGOXWFraQEEE0j6Uz8T9fL7UmmX/d/ACk45PremMoGRoYa9EeF r6tolq1xTy1nuIOViHg8MMkTlHnn1iDT9PkmycB3BChhziy9lSbR91kSFteUnELC7NhE HFAe3aeH1Lo1W9edZ0qMJiF6MdL1ZkPBPbef8= X-Google-DKIM-Signature: v=1; a=rsa-sha256; c=relaxed/relaxed; d=1e100.net; s=20230601; t=1751342704; x=1751947504; h=references:in-reply-to:cc:to:from:subject:message-id:date :x-gm-message-state:from:to:cc:subject:date:message-id:reply-to; bh=YAp5V8H+2aDpvlD7Ya5a91JNitqtMdogPGdgPRPPTLI=; b=aADy3qal9c3/RWmq5lKHpy4x0I3I83A7nRsbDtKM/7Es53pXCRs3YBmVUFa7nbp0kp rbuk58VVtJWkxUr6wdsOEmsbsCVE0K4cqlwxZy1og1suOe0pO6OcSIC4ZeU9wHoEs4LE k/AjlVOEc5NCK8hhtDgd/Q5dmCjQUu6GvxuBb2S3BYsTMk09CzlhB9f67XxR/QmM5f65 AIAz1ckGoXl9/WRpBRq5RpyYAQ2csVKrzPd9Bbo79qMHFodIClVWpLhFWMePLNfSnyIF x6yks+jub1+iUFgMSszy7RecNfr6VwlE/HTx1OpEQZKdLRLg8aPYmi6Jrt4tlY/SZyUm U0WQ== X-Gm-Message-State: AOJu0YxGJIMHpL5pNthW7BV05QInsmX6Fl5x/aeumORY9QrgoF22uGfb JjSKd5kM8ePiedoKbGYHJpGwapWqOYKhI9L52MJpeWuPndQ6enXpr3ZEBAbdGPGNRdJ2pGpm7ia BXfzQyKDPDMNN5y4ldlNVInX1vwyt9/0rD8YxFS8rPsZPBiOvI3ug1YXDTIBT X-Gm-Gg: ASbGncscFU/9iVw2peJLjwjectcpVZdNf9Cs5YNn7XRcNeO5nY1rDH5hrM2T0QRQH/u MMUPqb+dKcTkFHJveSfAxLsv/9DwABpCo+ufdONLhLVAFAP3RdL1wZCRzB9/kz7aL9qgui0WE9y CcyKRtzdiXZD4vQ0noeUmpIN3o8a7j7TJG6j8NIF+XkgJ5ayfQC7fvr/bHF4tBh2t5g/srz7+nL PPMRN868T7QLnrnpVxl2sJ7OSPeRtEYajsuzIr8+1H+ehJ+NUaB0JIdMhvclHDqjp5l+iqpsEbl NEdqUq9nmFcy7DodZypHQlOlX+03yYMDkpJYb+/gcktKHj8= X-Google-Smtp-Source: AGHT+IF5JGeD98RsdHj/zcd9k6SK0AJRtIFmRFq6S6yRe1wx0cBxvI/huZZ/5FXDqKNeSDbyX84ynFxIsxB1 X-Received: by 2002:ad4:5aaf:0:b0:6fa:d8bb:294c with SMTP id 6a1803df08f44-70002deaefamr275153306d6.14.1751342704292; Mon, 30 Jun 2025 21:05:04 -0700 (PDT) Received: from postal.iol.unh.edu (postal.iol.unh.edu. [2606:4100:3880:1234::84]) by smtp-relay.gmail.com with ESMTPS id 6a1803df08f44-6fd771a6ef6sm6208936d6.18.2025.06.30.21.05.04 (version=TLS1_2 cipher=ECDHE-ECDSA-AES128-GCM-SHA256 bits=128/128); Mon, 30 Jun 2025 21:05:04 -0700 (PDT) X-Relaying-Domain: iol.unh.edu Date: Mon, 30 Jun 2025 21:05:04 -0700 (PDT) Message-ID: <68635e70.050a0220.1a1830.2069SMTPIN_ADDED_MISSING@mx.google.com> Received: from [172.17.0.2] (unknown [172.18.0.74]) by postal.iol.unh.edu (Postfix) with ESMTP id 04E9C6051830; Tue, 1 Jul 2025 00:05:04 -0400 (EDT) Subject: |WARNING| pw154863-154879 [PATCH] [V4,18/18] drivers/net: add hinic3 From: dpdklab@iol.unh.edu To: Test Report Cc: dpdk-test-reports@iol.unh.edu In-Reply-To: <20250701014223.2440-19-wff_light@vip.163.com> References: <20250701014223.2440-19-wff_light@vip.163.com> Content-Type: text/plain X-BeenThere: test-report@dpdk.org X-Mailman-Version: 2.1.29 Precedence: list List-Id: automatic DPDK test reports List-Unsubscribe: , List-Archive: List-Post: List-Help: List-Subscribe: , Errors-To: test-report-bounces@dpdk.org Test-Label: iol-compile-amd64-testing Test-Status: WARNING http://dpdk.org/patch/154879 _Testing issues_ Submitter: Feifei Wang Date: Tuesday, July 01 2025 01:42:09 DPDK git baseline: Repo:dpdk Branch: master CommitID:77864da82f25a9e1e43c14b2cba68c2049a3ee3e 154863-154879 --> testing issues Upstream job id: Generic-DPDK-Compile-Meson#403930 Test environment and result as below: +-------------------------------+--------------------+-------------------+------------------+-------------------+-------------------------+----------------------+ | Environment | dpdk_meson_compile | dpdk_compile_spdk | dpdk_compile_ovs | dpdk_msvc_compile | dpdk_llvm_clang_compile | dpdk_mingw64_compile | +===============================+====================+===================+==================+===================+=========================+======================+ | CentOS Stream 9 | PASS | PASS | SKIPPED | SKIPPED | SKIPPED | SKIPPED | +-------------------------------+--------------------+-------------------+------------------+-------------------+-------------------------+----------------------+ | CentOS Stream 10 | PASS | SKIPPED | SKIPPED | SKIPPED | SKIPPED | SKIPPED | +-------------------------------+--------------------+-------------------+------------------+-------------------+-------------------------+----------------------+ | Fedora Linux 40 | PASS | PASS | SKIPPED | SKIPPED | SKIPPED | SKIPPED | +-------------------------------+--------------------+-------------------+------------------+-------------------+-------------------------+----------------------+ | Debian GNU/Linux 12 | PASS | PASS | SKIPPED | SKIPPED | SKIPPED | SKIPPED | +-------------------------------+--------------------+-------------------+------------------+-------------------+-------------------------+----------------------+ | Ubuntu 20.04 | PASS | SKIPPED | SKIPPED | SKIPPED | SKIPPED | SKIPPED | +-------------------------------+--------------------+-------------------+------------------+-------------------+-------------------------+----------------------+ | Red Hat Enterprise Linux 8.10 | PASS | SKIPPED | SKIPPED | SKIPPED | SKIPPED | SKIPPED | +-------------------------------+--------------------+-------------------+------------------+-------------------+-------------------------+----------------------+ | Fedora Linux 41 | PASS | PASS | PASS | SKIPPED | SKIPPED | SKIPPED | +-------------------------------+--------------------+-------------------+------------------+-------------------+-------------------------+----------------------+ | openSUSE Leap 15.6 | PASS | SKIPPED | SKIPPED | SKIPPED | SKIPPED | SKIPPED | +-------------------------------+--------------------+-------------------+------------------+-------------------+-------------------------+----------------------+ | Ubuntu 22.04 | PASS | PASS | SKIPPED | SKIPPED | SKIPPED | SKIPPED | +-------------------------------+--------------------+-------------------+------------------+-------------------+-------------------------+----------------------+ | Red Hat Enterprise Linux 9.5 | PASS | SKIPPED | SKIPPED | SKIPPED | SKIPPED | SKIPPED | +-------------------------------+--------------------+-------------------+------------------+-------------------+-------------------------+----------------------+ | Ubuntu 24.04 | PASS | PASS | PASS | SKIPPED | SKIPPED | SKIPPED | +-------------------------------+--------------------+-------------------+------------------+-------------------+-------------------------+----------------------+ | Alpine Linux 3.22.0 | PASS | SKIPPED | SKIPPED | SKIPPED | SKIPPED | SKIPPED | +-------------------------------+--------------------+-------------------+------------------+-------------------+-------------------------+----------------------+ | FreeBSD 14.2 | PASS | SKIPPED | SKIPPED | SKIPPED | SKIPPED | SKIPPED | +-------------------------------+--------------------+-------------------+------------------+-------------------+-------------------------+----------------------+ | Windows Server 2022 | SKIPPED | SKIPPED | SKIPPED | PASS | PASS | PASS | +-------------------------------+--------------------+-------------------+------------------+-------------------+-------------------------+----------------------+ CentOS Stream 9 Kernel: 5.15 Compiler: gcc gcc (GCC) 11.5.0 20240719 (Red Hat 11.5.0-7) CentOS Stream 10 Kernel: 5.15 Compiler: gcc gcc (GCC) 14.2.1 20250110 (Red Hat 14.2.1-8) Fedora Linux 40 Kernel: 5.15 Compiler: clang gcc (GCC) 14.2.1 20240912 (Red Hat 14.2.1-3) Debian GNU/Linux 12 Kernel: 5.15 Compiler: gcc gcc (Debian 12.2.0-14+deb12u1) 12.2.0 Ubuntu 20.04 Kernel: 5.15 Compiler: gcc gcc (Ubuntu 9.4.0-1ubuntu1~20.04.2) 9.4.0 Red Hat Enterprise Linux 8.10 Kernel: 5.15 Compiler: gcc gcc (GCC) 8.5.0 20210514 (Red Hat 8.5.0-22) Fedora Linux 41 Kernel: 5.15 Compiler: clang gcc (GCC) 14.3.1 20250523 (Red Hat 14.3.1-1) openSUSE Leap 15.6 Kernel: 5.15 Compiler: gcc gcc (SUSE Linux) 7.5.0 Ubuntu 22.04 Kernel: 5.15 Compiler: gcc gcc (Ubuntu 11.4.0-1ubuntu1~22.04) 11.4.0 Red Hat Enterprise Linux 9.5 Kernel: 5.15 Compiler: gcc gcc (GCC) 11.5.0 20240719 (Red Hat 11.5.0-2) Ubuntu 24.04 Kernel: 5.15 Compiler: gcc gcc (Ubuntu 13.3.0-6ubuntu2~24.04) 13.3.0 Alpine Linux 3.22.0 Kernel: 5.15 Compiler: gcc gcc (Alpine 14.2.0) 14.2.0 FreeBSD 14.2 Kernel: 14.2-RELEASE Compiler: clang 18.1.6 Windows Server 2022 Kernel: 10.0.20348.2031 Compiler: clang 15.0.7, gcc 14.1.0 (MinGW), and MSVC VS 19.39.33521 To view detailed results, visit: https://lab.dpdk.org/results/dashboard/patchsets/33548/ UNH-IOL DPDK Community Lab To manage your email subscriptions, visit: https://lab.dpdk.org/results/dashboard/preferences/subscriptions/