From mboxrd@z Thu Jan 1 00:00:00 1970 Return-Path: Received: from mails.dpdk.org (mails.dpdk.org [217.70.189.124]) by inbox.dpdk.org (Postfix) with ESMTP id 35DA946AC2 for ; Tue, 1 Jul 2025 07:58:23 +0200 (CEST) Received: from mails.dpdk.org (localhost [127.0.0.1]) by mails.dpdk.org (Postfix) with ESMTP id 274B440269; Tue, 1 Jul 2025 07:58:23 +0200 (CEST) Received: from mail-pl1-f225.google.com (mail-pl1-f225.google.com [209.85.214.225]) by mails.dpdk.org (Postfix) with ESMTP id BC59540269 for ; Tue, 1 Jul 2025 07:58:21 +0200 (CEST) Received: by mail-pl1-f225.google.com with SMTP id d9443c01a7336-235d6de331fso35322075ad.3 for ; Mon, 30 Jun 2025 22:58:21 -0700 (PDT) DKIM-Signature: v=1; a=rsa-sha256; c=relaxed/relaxed; d=iol.unh.edu; s=unh-iol; t=1751349501; x=1751954301; darn=dpdk.org; h=references:in-reply-to:cc:to:from:subject:message-id:date:from:to :cc:subject:date:message-id:reply-to; bh=Lm69/Ulk8luVKpxe/B4jWeTYXER8bp9Z6EkT7P7g07c=; b=YbGygshVpjFvYaqraCxq4+5HK7xx86dcb78bC19w/x8EEB/IM8+F4N7Dr7DPxOd5Rb jqwH0kyHWeqMEqNk7ZUqcUt4oAht2AOMIHC357vOMvv8yuUY6WByFfyFF+Buxi2uwfKQ kVFoOtyn8O6l+hm+350VXSzS8qEgiAdv89ktY= X-Google-DKIM-Signature: v=1; a=rsa-sha256; c=relaxed/relaxed; d=1e100.net; s=20230601; t=1751349501; x=1751954301; h=references:in-reply-to:cc:to:from:subject:message-id:date :x-gm-message-state:from:to:cc:subject:date:message-id:reply-to; bh=Lm69/Ulk8luVKpxe/B4jWeTYXER8bp9Z6EkT7P7g07c=; b=X7DaoaFoO1XxhPYAuXbNDIAlbMFdZVDZBe5iq1WZKBW/RMi7iDWENA+g001Ec2UPyP vRS+lVQSUaAWOlq4DgOsb4f6qwq4DLoJGhsEHAhy3GeBiiBwK+aGp/83MgF4OwJoDLSX 7Fsv4af53hZZVXf3uOP3z5ZS62q6JRovYhHPoa2RoZMf1LPKvgAx7MCV+CHzoBHfcGyN LlVNJjkwbeBhdbo0W47K+taFI9WAs7HksQlHX2um51assVulU67nVy3Cjl2wUiLKTIlK C2UTaBaQNQJ+A9TI1xbc8QTvqPblKHrl18cspoZfPCCRI4IBB1hCf/womHA/sSqsCTJn DI5Q== X-Gm-Message-State: AOJu0YzGOEn2JoggG8F5xqljwsjzDdvDlcby1f+4BWgCivn/L32vRzUs OvJxnxIWubcrq3uG+VtRtwlOOmGS0Xhe8Z0ns4yUNGSAxT2TJaBK/yEjSLEsyoHMP+ALT6fYxe5 n8JlPd0aZTLZeyX+xyW7nB9oXTO1FEbT8N1AZXrd8wwt6 X-Gm-Gg: ASbGncvrpHFt7EQb4woKfYBng0pPaOhUSxmxb1+9QO4GyP5Ic5kRxgUuRJy2+xq5DlM N3QUQJGLmajo2G9D0eFViUw2RXA5Yt8cIrKuDeqNJeIlFAswFGsXsmOtvXf3AIdaunlBQ9w7Bo1 jMzIBAtfr+UkuGUBQSIsq+O7uSAr8GfVbXUum7CMMYdZG8/UP+QEcXZ9DJxkHei3U6/WvRlSqjb FU/16vYBkHIXxWesJeA2g2GnW3phmlcdsPZO7l6gkJigHioGgNjSn6y8KoRPumPkTfJmFMXeJwP LYhKfZJi/2icK355ERvWqnWUzUGEBDqMyGN/6hGBrwfrmskXHVkKtpQojrB3rgvPjlvzfQ== X-Google-Smtp-Source: AGHT+IGJKEeXJz768rZSJAmZ79HWuXxNywLXRHdh3lUHkFVLdz51+FNXvIofyxBi12MG2qXPpbwp+K/5Ggux X-Received: by 2002:a17:902:d2c6:b0:234:b743:c7a4 with SMTP id d9443c01a7336-23ac4636c80mr260665875ad.38.1751349500842; Mon, 30 Jun 2025 22:58:20 -0700 (PDT) Received: from postal.iol.unh.edu (postal.iol.unh.edu. [132.177.123.84]) by smtp-relay.gmail.com with ESMTPS id d9443c01a7336-23acb39b7c2sm4854695ad.124.2025.06.30.22.58.20 (version=TLS1_2 cipher=ECDHE-ECDSA-AES128-GCM-SHA256 bits=128/128); Mon, 30 Jun 2025 22:58:20 -0700 (PDT) X-Relaying-Domain: iol.unh.edu Date: Mon, 30 Jun 2025 22:58:20 -0700 (PDT) Message-ID: <686378fc.170a0220.f8698.a5f9SMTPIN_ADDED_MISSING@mx.google.com> Received: from [172.21.0.5] (unknown [172.18.0.240]) by postal.iol.unh.edu (Postfix) with ESMTP id E8F166051830; Tue, 1 Jul 2025 01:58:19 -0400 (EDT) Subject: |SUCCESS| pw154881-154886 [PATCH] [v7,6/6] net/dpaa2: enable softwar From: dpdklab@iol.unh.edu To: Test Report Cc: dpdk-test-reports@iol.unh.edu In-Reply-To: <20250701042917.3000355-7-g.singh@nxp.com> References: <20250701042917.3000355-7-g.singh@nxp.com> Content-Type: text/plain X-BeenThere: test-report@dpdk.org X-Mailman-Version: 2.1.29 Precedence: list List-Id: automatic DPDK test reports List-Unsubscribe: , List-Archive: List-Post: List-Help: List-Subscribe: , Errors-To: test-report-bounces@dpdk.org Test-Label: iol-compile-amd64-testing Test-Status: SUCCESS http://dpdk.org/patch/154886 _Testing PASS_ Submitter: Gagandeep Singh Date: Tuesday, July 01 2025 04:29:17 DPDK git baseline: Repo:dpdk Branch: master CommitID:77864da82f25a9e1e43c14b2cba68c2049a3ee3e 154881-154886 --> testing pass Upstream job id: Windows-Compile-DPDK-Native#29469 Test environment and result as below: +---------------------+--------------------+-------------------+-------------------------+----------------------+ | Environment | dpdk_meson_compile | dpdk_msvc_compile | dpdk_llvm_clang_compile | dpdk_mingw64_compile | +=====================+====================+===================+=========================+======================+ | Ubuntu 20.04 | PASS | SKIPPED | SKIPPED | SKIPPED | +---------------------+--------------------+-------------------+-------------------------+----------------------+ | Windows Server 2022 | SKIPPED | PASS | PASS | PASS | +---------------------+--------------------+-------------------+-------------------------+----------------------+ Ubuntu 20.04 Kernel: 4.19 Compiler: gcc gcc (Ubuntu 9.4.0-1ubuntu1~20.04.2) 9.4.0 Windows Server 2022 Kernel: 10.0.20348.2031 Compiler: clang 15.0.7, gcc 14.1.0 (MinGW), and MSVC VS 19.39.33521 To view detailed results, visit: https://lab.dpdk.org/results/dashboard/patchsets/33549/ UNH-IOL DPDK Community Lab To manage your email subscriptions, visit: https://lab.dpdk.org/results/dashboard/preferences/subscriptions/