From mboxrd@z Thu Jan 1 00:00:00 1970 Return-Path: Received: from mails.dpdk.org (mails.dpdk.org [217.70.189.124]) by inbox.dpdk.org (Postfix) with ESMTP id 26CF246ACD for ; Tue, 1 Jul 2025 10:03:20 +0200 (CEST) Received: from mails.dpdk.org (localhost [127.0.0.1]) by mails.dpdk.org (Postfix) with ESMTP id 1FB2F400D7; Tue, 1 Jul 2025 10:03:20 +0200 (CEST) Received: from mail-io1-f97.google.com (mail-io1-f97.google.com [209.85.166.97]) by mails.dpdk.org (Postfix) with ESMTP id 28105400D7 for ; Tue, 1 Jul 2025 10:03:19 +0200 (CEST) Received: by mail-io1-f97.google.com with SMTP id ca18e2360f4ac-875ce3c8e24so175933539f.1 for ; Tue, 01 Jul 2025 01:03:19 -0700 (PDT) DKIM-Signature: v=1; a=rsa-sha256; c=relaxed/relaxed; d=iol.unh.edu; s=unh-iol; t=1751356998; x=1751961798; darn=dpdk.org; h=references:in-reply-to:cc:to:from:subject:message-id:date:from:to :cc:subject:date:message-id:reply-to; bh=XvzHlkMHJAbpkr6MyRQuwf3GAtf/bxZ0JBtMJr748nI=; b=OeQbuyo1cUUUH72MZUWHOQHh0pF6h2MYqZgdoqvDcv1iNyBiTY9ZAsKUg76BEjAvGw tySl3xy5AsNmLefVorgN6Wkr1ECfRpDtKHlQ6PWWGKvod1NXoRc+v+CqUcAbFOmUITz9 Pn1ygOYZ5eMuQy2Qp2Ro9uqCff8k29q7rsE2M= X-Google-DKIM-Signature: v=1; a=rsa-sha256; c=relaxed/relaxed; d=1e100.net; s=20230601; t=1751356998; x=1751961798; h=references:in-reply-to:cc:to:from:subject:message-id:date :x-gm-message-state:from:to:cc:subject:date:message-id:reply-to; bh=XvzHlkMHJAbpkr6MyRQuwf3GAtf/bxZ0JBtMJr748nI=; b=aoqNdKDSvcc35dfnN+GbBFkSl/mecAiseorqL6+GeY/m4YSRlNAXdMcqxN911ZMZ7j uEmEOiqZ8uylBKxHldiqoMzy+nr0xuMdKpJhO9dOmerJZLJAE14rPcKx4Wa/W96agWgg xQGZekLo1tzUeDSelO5IFI6/apg0xP3iW6AmK+l7dlbRNQFRcrSqXoip+ttr/vLehhP/ z1m589gBfRotBHroVBTUi7M23o1RDYp03g1kzUifXHQ1YP+u83HaKB4WXmxLu5qPecHX Gc3MQTCggV6dnGOrIzROJJtONzVels0fHGGjVgMKgj9RGLcLyi/Kx9UMuP64/liABARY bGCA== X-Gm-Message-State: AOJu0YyVm83MgSnhtw4R+u1XURUtPgvmf5MRPTbi1LGXhdHI79Fqrpxs wQjYkdCNndM7EirQNO3dlwVieKx8WhG6kzXxP16sUtZgzytX+ufr1IrTCWD1HBHocvSCL3erOe9 omL2ko0R5WaiXO0msgRIQ5tZyIje4XVeTwJV4leuQ9lru X-Gm-Gg: ASbGncuJnoafxxCuAyHEfOnmGbzm6P9TSYKJWwNmIYvkAYOMyadYYXva0IXDUy3kI4o J9n7ZAt06t3o0cdErE9kA2EtbhJif7231kFaz8XFlCp+zusuw9gh6M9ABnR/SXFylTajSTX9Pjz rMBUdEselz8LO/DeqCO14NxkPI6WUmLX0N13D8ECqHYNtE/JaIuu/FxZM/Pd3P+QMIOQD8H6o96 x887jks7Terz7tibHeYraGWBXptlmTJ2ua7qEkLXBvv1ggMoyyNweHHQhlS1wnFeVCVsC6iw7D7 PZp1/yUupJUcsEqoBqxXZigM682LrAlXi59SX9lmuQ6pawadQQ7Nj6P1B6jwksmhZGb50A== X-Google-Smtp-Source: AGHT+IFTj1awJv/H0umKGGZ1scnCdHlDe21i81b/2eaeh+8mLESRVtbjWiAGjeZ+X7ncg+4RLKWOtg3vdHqD X-Received: by 2002:a05:6602:3f91:b0:86d:5b7:5a42 with SMTP id ca18e2360f4ac-87688294e90mr2012187539f.4.1751356998353; Tue, 01 Jul 2025 01:03:18 -0700 (PDT) Received: from postal.iol.unh.edu (postal.iol.unh.edu. [132.177.123.84]) by smtp-relay.gmail.com with ESMTPS id ca18e2360f4ac-87687b37fc9sm37295339f.26.2025.07.01.01.03.18 (version=TLS1_2 cipher=ECDHE-ECDSA-AES128-GCM-SHA256 bits=128/128); Tue, 01 Jul 2025 01:03:18 -0700 (PDT) X-Relaying-Domain: iol.unh.edu Date: Tue, 01 Jul 2025 01:03:18 -0700 (PDT) Message-ID: <68639646.050a0220.2482f3.3e16SMTPIN_ADDED_MISSING@mx.google.com> Received: from [172.21.0.5] (unknown [172.18.0.240]) by postal.iol.unh.edu (Postfix) with ESMTP id D53466051830; Tue, 1 Jul 2025 04:03:17 -0400 (EDT) Subject: |SUCCESS| pw154889-154890 [PATCH] [v2,6/6] net/hns3: VF support mult From: dpdklab@iol.unh.edu To: Test Report Cc: dpdk-test-reports@iol.unh.edu In-Reply-To: <20250701064512.3868175-7-huangdengdui@huawei.com> References: <20250701064512.3868175-7-huangdengdui@huawei.com> Content-Type: text/plain X-BeenThere: test-report@dpdk.org X-Mailman-Version: 2.1.29 Precedence: list List-Id: automatic DPDK test reports List-Unsubscribe: , List-Archive: List-Post: List-Help: List-Subscribe: , Errors-To: test-report-bounces@dpdk.org Test-Label: iol-compile-amd64-testing Test-Status: SUCCESS http://dpdk.org/patch/154890 _Testing PASS_ Submitter: Dengdui Huang Date: Tuesday, July 01 2025 06:45:12 DPDK git baseline: Repo:dpdk Branch: master CommitID:77864da82f25a9e1e43c14b2cba68c2049a3ee3e 154889-154890 --> testing pass Upstream job id: Windows-Compile-DPDK-VS#6215 Test environment and result as below: +---------------------+-------------------------+--------------------+-------------------+----------------------+ | Environment | dpdk_llvm_clang_compile | dpdk_meson_compile | dpdk_msvc_compile | dpdk_mingw64_compile | +=====================+=========================+====================+===================+======================+ | Windows Server 2022 | PASS | SKIPPED | PASS | PASS | +---------------------+-------------------------+--------------------+-------------------+----------------------+ | Ubuntu 20.04 | SKIPPED | PASS | SKIPPED | SKIPPED | +---------------------+-------------------------+--------------------+-------------------+----------------------+ | FreeBSD 14.2 | SKIPPED | PASS | SKIPPED | SKIPPED | +---------------------+-------------------------+--------------------+-------------------+----------------------+ Windows Server 2022 Kernel: 10.0.20348.2031 Compiler: clang 15.0.7, gcc 14.1.0 (MinGW), and MSVC VS 19.39.33521 Ubuntu 20.04 Kernel: 4.19 Compiler: gcc gcc (Ubuntu 9.4.0-1ubuntu1~20.04.2) 9.4.0 FreeBSD 14.2 Kernel: 14.2-RELEASE Compiler: clang 18.1.6 To view detailed results, visit: https://lab.dpdk.org/results/dashboard/patchsets/33550/ UNH-IOL DPDK Community Lab To manage your email subscriptions, visit: https://lab.dpdk.org/results/dashboard/preferences/subscriptions/