From mboxrd@z Thu Jan 1 00:00:00 1970 Return-Path: Received: from mails.dpdk.org (mails.dpdk.org [217.70.189.124]) by inbox.dpdk.org (Postfix) with ESMTP id 3E9F446ACD for ; Tue, 1 Jul 2025 10:04:15 +0200 (CEST) Received: from mails.dpdk.org (localhost [127.0.0.1]) by mails.dpdk.org (Postfix) with ESMTP id 3835E400D7; Tue, 1 Jul 2025 10:04:15 +0200 (CEST) Received: from mail-pl1-f225.google.com (mail-pl1-f225.google.com [209.85.214.225]) by mails.dpdk.org (Postfix) with ESMTP id 8D341400D7 for ; Tue, 1 Jul 2025 10:04:14 +0200 (CEST) Received: by mail-pl1-f225.google.com with SMTP id d9443c01a7336-2352400344aso49772165ad.2 for ; Tue, 01 Jul 2025 01:04:14 -0700 (PDT) DKIM-Signature: v=1; a=rsa-sha256; c=relaxed/relaxed; d=iol.unh.edu; s=unh-iol; t=1751357053; x=1751961853; darn=dpdk.org; h=references:in-reply-to:cc:to:from:subject:message-id:date:from:to :cc:subject:date:message-id:reply-to; bh=03UNvy4JRxfLt8BpvQ+KNHKvjnsCzjLwW291TXKD7B4=; b=XqZkUcOpzaIGiK8lELbDPKdATyuCKkIKaDu467e/JxqDeaN5EV469SI7DKzu/mBfnZ DUK0ShJk4wV8mQVzv9IqaOy2AGnQPf7X/LgFdn9pidA6Po6AdkyOjGwbNSXP0fC+BRUz L1XOrD0EpxiJxRxe7piXEBiabOXSTpYf/ivGQ= X-Google-DKIM-Signature: v=1; a=rsa-sha256; c=relaxed/relaxed; d=1e100.net; s=20230601; t=1751357053; x=1751961853; h=references:in-reply-to:cc:to:from:subject:message-id:date :x-gm-message-state:from:to:cc:subject:date:message-id:reply-to; bh=03UNvy4JRxfLt8BpvQ+KNHKvjnsCzjLwW291TXKD7B4=; b=fOO+kABFWJh0qABbR+drb9ijWc77toKrhDidhaN0JOK45GtFqtrQBkII/DVNbIkK3d gOSgdFKXqOcJt2YO+FzxWApe4c8GDBa71pVOyEdwqTzqd5ZqN93JgmjV8pg//JHrdRP4 AmTsGa5LPjfiBtE8hmXroQ3bGSJUIMObDnC/DIwU3xj9KJ3b8xZHZeI5NJM74pi1DHJz t2fTS0rF1r/tMW4KQkpx6hOMcSb7G7lc59a/721vEGKvz4ZwR/9z/zRYVgEHH9GYeIH2 M1WAoTaUQtFFa6nJcp9yBbmrZt3Wh1n/nIEBSlsHKNv12hvyOxaQHAxLR0r4lYmb9yTm rKTQ== X-Gm-Message-State: AOJu0Yxs5kTnDY5FiBiT6c9tOvXk3wn3w1sVWo12db6/xTtMqWCn6d7l 07NBBvujoR8WdATIKoMhD3/FqmJT2AcbYiQsRDHcYk9OqSdLe1ZRj11Fb9uW1wJzHauBAIPpD2w n9hw+yJULHMC2lk0r+qa3sECgqPHjgzMh+lR96hZGHTxGtA84XNeOfREEdVl7 X-Gm-Gg: ASbGncuzDVHlaB2kafhjlj9U/IjWZ2lyFV5oXkqv76H9DSMMdBO8BmHBJ0NHYvtPKUZ 71UsUj4Qf2+3hm6XhZnOAKwktZsCnlFbJxKuL7gjRXx7RbgN7eZ+FlM7Zb5jLp1OsZBdykLIAEz V2FYaIcH8878tz9nd2or0f3/kQmPeZzDXyXdbaZLcOefOzngr675VF9Uvo1nS5ZShC5WRmvSkq6 /F+82FDT+GLlcqqGVKelC7Vpt20Af1GehXbROhJE4zrig9d9TENkMSvlBpDb3rQtLJkElZ1bXJW BWZ8H1NfEXvPm0i9XO9X4tRU4yCuJE4lhd6g1zIwozWe0WU= X-Google-Smtp-Source: AGHT+IGx0/s23ZSySjz0G3OQvRTZ/Lz09vzpV1zgbsjNr3/mGz/g2RIsDm3SriOkof91+QepgPTyDB0vEOy0 X-Received: by 2002:a17:903:1c6:b0:234:b41e:37a2 with SMTP id d9443c01a7336-23ac2d86627mr225620985ad.11.1751357053629; Tue, 01 Jul 2025 01:04:13 -0700 (PDT) Received: from postal.iol.unh.edu (postal.iol.unh.edu. [2606:4100:3880:1234::84]) by smtp-relay.gmail.com with ESMTPS id d9443c01a7336-23acb36ddedsm5442455ad.88.2025.07.01.01.04.13 (version=TLS1_2 cipher=ECDHE-ECDSA-AES128-GCM-SHA256 bits=128/128); Tue, 01 Jul 2025 01:04:13 -0700 (PDT) X-Relaying-Domain: iol.unh.edu Date: Tue, 01 Jul 2025 01:04:13 -0700 (PDT) Message-ID: <6863967d.170a0220.1c5349.e8beSMTPIN_ADDED_MISSING@mx.google.com> Received: from [172.21.0.5] (unknown [172.18.0.240]) by postal.iol.unh.edu (Postfix) with ESMTP id B712F6051830; Tue, 1 Jul 2025 04:04:12 -0400 (EDT) Subject: |SUCCESS| pw154889-154890 [PATCH] [v2,6/6] net/hns3: VF support mult From: dpdklab@iol.unh.edu To: Test Report Cc: dpdk-test-reports@iol.unh.edu In-Reply-To: <20250701064512.3868175-7-huangdengdui@huawei.com> References: <20250701064512.3868175-7-huangdengdui@huawei.com> Content-Type: text/plain X-BeenThere: test-report@dpdk.org X-Mailman-Version: 2.1.29 Precedence: list List-Id: automatic DPDK test reports List-Unsubscribe: , List-Archive: List-Post: List-Help: List-Subscribe: , Errors-To: test-report-bounces@dpdk.org Test-Label: iol-compile-amd64-testing Test-Status: SUCCESS http://dpdk.org/patch/154890 _Testing PASS_ Submitter: Dengdui Huang Date: Tuesday, July 01 2025 06:45:12 DPDK git baseline: Repo:dpdk Branch: master CommitID:77864da82f25a9e1e43c14b2cba68c2049a3ee3e 154889-154890 --> testing pass Upstream job id: Windows-Compile-DPDK-Native#29473 Test environment and result as below: +---------------------+-------------------------+--------------------+-------------------+----------------------+ | Environment | dpdk_llvm_clang_compile | dpdk_meson_compile | dpdk_msvc_compile | dpdk_mingw64_compile | +=====================+=========================+====================+===================+======================+ | Windows Server 2022 | PASS | SKIPPED | PASS | PASS | +---------------------+-------------------------+--------------------+-------------------+----------------------+ | Ubuntu 20.04 | SKIPPED | PASS | SKIPPED | SKIPPED | +---------------------+-------------------------+--------------------+-------------------+----------------------+ | FreeBSD 14.2 | SKIPPED | PASS | SKIPPED | SKIPPED | +---------------------+-------------------------+--------------------+-------------------+----------------------+ Windows Server 2022 Kernel: 10.0.20348.2031 Compiler: clang 15.0.7, gcc 14.1.0 (MinGW), and MSVC VS 19.39.33521 Ubuntu 20.04 Kernel: 4.19 Compiler: gcc gcc (Ubuntu 9.4.0-1ubuntu1~20.04.2) 9.4.0 FreeBSD 14.2 Kernel: 14.2-RELEASE Compiler: clang 18.1.6 To view detailed results, visit: https://lab.dpdk.org/results/dashboard/patchsets/33550/ UNH-IOL DPDK Community Lab To manage your email subscriptions, visit: https://lab.dpdk.org/results/dashboard/preferences/subscriptions/