From mboxrd@z Thu Jan 1 00:00:00 1970 Return-Path: Received: from mails.dpdk.org (mails.dpdk.org [217.70.189.124]) by inbox.dpdk.org (Postfix) with ESMTP id 4680046ACD for ; Tue, 1 Jul 2025 10:23:47 +0200 (CEST) Received: from mails.dpdk.org (localhost [127.0.0.1]) by mails.dpdk.org (Postfix) with ESMTP id 25412400D7; Tue, 1 Jul 2025 10:23:47 +0200 (CEST) Received: from mail-il1-f227.google.com (mail-il1-f227.google.com [209.85.166.227]) by mails.dpdk.org (Postfix) with ESMTP id 1C5E6400D7 for ; Tue, 1 Jul 2025 10:23:46 +0200 (CEST) Received: by mail-il1-f227.google.com with SMTP id e9e14a558f8ab-3de18fde9cfso17037095ab.3 for ; Tue, 01 Jul 2025 01:23:46 -0700 (PDT) DKIM-Signature: v=1; a=rsa-sha256; c=relaxed/relaxed; d=iol.unh.edu; s=unh-iol; t=1751358225; x=1751963025; darn=dpdk.org; h=references:in-reply-to:cc:to:from:subject:message-id:date:from:to :cc:subject:date:message-id:reply-to; bh=RDt++tepLH7Q5sFVy0kOunvhBzByaJyZp17E2kTbWzM=; b=gbhhIZH0HYBdPQWLVGi5c8+bLeew7/+wbljGPSC5fFFmZ0jcj2eFP/0tObBGF3ps+w JY70i6pPqheoQUO/dhRW+6V1bPYaMwberVdMgLx0x6trLCKma32Wx67kUXlB8pN34bEa 05rhHXemraeLoc83i7UHfpJVHost0sVTW0qng= X-Google-DKIM-Signature: v=1; a=rsa-sha256; c=relaxed/relaxed; d=1e100.net; s=20230601; t=1751358225; x=1751963025; h=references:in-reply-to:cc:to:from:subject:message-id:date :x-gm-message-state:from:to:cc:subject:date:message-id:reply-to; bh=RDt++tepLH7Q5sFVy0kOunvhBzByaJyZp17E2kTbWzM=; b=al6spbx6tyXNvo7hGf5WvAcefQphj/MQyf/tG5jhYg10Jvd+h4QQFhHCUR4gSgrb+K eBVztt7KvhJXO5yKzn4xoQR8IHu+OPtvzL0vOzfBy4BHygcog8/6rb8ms0T81VDclf6p 21YT2sIsLAIV1VeMQU9fynRxsBkscafvIxdbw2gnjKMidkVtahePzaL5w5ie/TLMeMk2 ExTCskJPAn+eQXkKWm3hDHfQGQa3VFVfq1Ts3gDo4te7xLcwtOOHZYay7NHRhi8kiibR Xkzpz9ZBidkK5v66Xtow5KfGwmTyhGh1Y2ina41MvzWvvBco9LmRrz+5vPHUs8Jsw9x8 Mc1g== X-Gm-Message-State: AOJu0YxZLIXtoYxv/8lBt77T/pSJ4hohrC62VC9dQ6pa/tk8xhjcGQJM 3/KCEVUjdfuGhHcJNjlEiX4K3ZUf4Cxwz3txUAqgfKw47pr2PMaQx8laMAct886nLC/45urgiAe FxDge1FXOkGJi/MxWZWpZAJTsJr0qS4bWMWyzt+MIVXANwIQCFaBmTcF4GY+X X-Gm-Gg: ASbGncuC+MhVi7gYGbihfGdviMI4WoJgxCAvlw3Hx4i2hYsauiiPwsbitBX6ilbMfdh aeSGwXNZygUY2I0Le/X23QZBjrY+zqO0QyoeoVSSw4qZK5xP0iKEh0GiOp/mkDm4EsKdstiJLnU 73gt0COrwAIIaysd0yS9ik2i3d7YLSzfd+EPQa0UwqO6HpAYfijtfQybTK+ib+1FBPrvNQ4Pgh6 Np9X/MZmnetoJOa9CM+wCe2xhLWP46OWBtIcDEBOJup6BrDDiRygIlu31rO3wNIHvjvL0cuQdif jdNb7i09d0DFgnnmMoj5F1J88K44bfSq1+zkVYL4qOnPIgw= X-Google-Smtp-Source: AGHT+IHwSpxQ9XjKihZoOxO9wiCGDZXYYYQ52lT1aIcS2pjGnKhs3NqJItQHt3KEZx55ZGsBlc4hZPLCQ6ok X-Received: by 2002:a05:6e02:1c08:b0:3df:3598:7688 with SMTP id e9e14a558f8ab-3df4acf494emr212081125ab.21.1751358225278; Tue, 01 Jul 2025 01:23:45 -0700 (PDT) Received: from postal.iol.unh.edu (postal.iol.unh.edu. [2606:4100:3880:1234::84]) by smtp-relay.gmail.com with ESMTPS id e9e14a558f8ab-3df4a0be82esm292585ab.55.2025.07.01.01.23.45 (version=TLS1_2 cipher=ECDHE-ECDSA-AES128-GCM-SHA256 bits=128/128); Tue, 01 Jul 2025 01:23:45 -0700 (PDT) X-Relaying-Domain: iol.unh.edu Date: Tue, 01 Jul 2025 01:23:45 -0700 (PDT) Message-ID: <68639b11.920a0220.55c78.15dfSMTPIN_ADDED_MISSING@mx.google.com> Received: from [172.21.0.5] (unknown [172.18.0.240]) by postal.iol.unh.edu (Postfix) with ESMTP id B7E2E6051830; Tue, 1 Jul 2025 04:23:44 -0400 (EDT) Subject: |SUCCESS| pw154863-154879 [PATCH] [V4,18/18] drivers/net: add hinic3 From: dpdklab@iol.unh.edu To: Test Report Cc: dpdk-test-reports@iol.unh.edu In-Reply-To: <20250701014223.2440-19-wff_light@vip.163.com> References: <20250701014223.2440-19-wff_light@vip.163.com> Content-Type: text/plain X-BeenThere: test-report@dpdk.org X-Mailman-Version: 2.1.29 Precedence: list List-Id: automatic DPDK test reports List-Unsubscribe: , List-Archive: List-Post: List-Help: List-Subscribe: , Errors-To: test-report-bounces@dpdk.org Test-Label: iol-compile-arm64-testing Test-Status: SUCCESS http://dpdk.org/patch/154879 _Testing PASS_ Submitter: Feifei Wang Date: Tuesday, July 01 2025 01:42:09 DPDK git baseline: Repo:dpdk Branch: master CommitID:77864da82f25a9e1e43c14b2cba68c2049a3ee3e 154863-154879 --> testing pass Upstream job id: Generic-DPDK-Compile-Meson#403937 Test environment and result as below: +------------------------------+--------------------+ | Environment | dpdk_meson_compile | +==============================+====================+ | Red Hat Enterprise Linux 9.5 | PASS | +------------------------------+--------------------+ | Ubuntu 20.04 | PASS | +------------------------------+--------------------+ | Debian GNU/Linux 12 | PASS | +------------------------------+--------------------+ | Fedora Linux 40 | PASS | +------------------------------+--------------------+ | Fedora Linux 41 | PASS | +------------------------------+--------------------+ | Ubuntu 22.04 | PASS | +------------------------------+--------------------+ | Ubuntu 24.04 | PASS | +------------------------------+--------------------+ | CentOS Stream 9 | PASS | +------------------------------+--------------------+ | CentOS Stream 10 | PASS | +------------------------------+--------------------+ Red Hat Enterprise Linux 9.5 Kernel: 5.4 Compiler: gcc gcc (GCC) 11.5.0 20240719 (Red Hat 11.5.0-2) Ubuntu 20.04 Kernel: 5.15 Compiler: aarch64-linux-gnu-gcc gcc (Ubuntu 9.4.0-1ubuntu1~20.04.2) 9.4.0 Debian GNU/Linux 12 Kernel: 5.4 Compiler: gcc gcc (Debian 12.2.0-14+deb12u1) 12.2.0 Fedora Linux 40 Kernel: 5.4 Compiler: gcc gcc (GCC) 14.2.1 20240912 (Red Hat 14.2.1-3) Fedora Linux 41 Kernel: 5.4 Compiler: clang gcc (GCC) 14.3.1 20250523 (Red Hat 14.3.1-1) Ubuntu 22.04 Kernel: 5.4 Compiler: gcc gcc (Ubuntu 11.4.0-1ubuntu1~22.04) 11.4.0 Ubuntu 24.04 Kernel: 5.4 Compiler: gcc gcc (Ubuntu 13.3.0-6ubuntu2~24.04) 13.3.0 CentOS Stream 9 Kernel: 5.4 Compiler: gcc gcc (GCC) 11.5.0 20240719 (Red Hat 11.5.0-7) CentOS Stream 10 Kernel: 5.4 Compiler: gcc gcc (GCC) 14.2.1 20250110 (Red Hat 14.2.1-8) To view detailed results, visit: https://lab.dpdk.org/results/dashboard/patchsets/33548/ UNH-IOL DPDK Community Lab To manage your email subscriptions, visit: https://lab.dpdk.org/results/dashboard/preferences/subscriptions/