From mboxrd@z Thu Jan 1 00:00:00 1970 Return-Path: Received: from mails.dpdk.org (mails.dpdk.org [217.70.189.124]) by inbox.dpdk.org (Postfix) with ESMTP id B593446ACE for ; Tue, 1 Jul 2025 12:02:31 +0200 (CEST) Received: from mails.dpdk.org (localhost [127.0.0.1]) by mails.dpdk.org (Postfix) with ESMTP id 8C24F400D7; Tue, 1 Jul 2025 12:02:31 +0200 (CEST) Received: from mail-vk1-f227.google.com (mail-vk1-f227.google.com [209.85.221.227]) by mails.dpdk.org (Postfix) with ESMTP id 2B621400D7 for ; Tue, 1 Jul 2025 12:02:30 +0200 (CEST) Received: by mail-vk1-f227.google.com with SMTP id 71dfb90a1353d-528ce9730cfso1040387e0c.3 for ; Tue, 01 Jul 2025 03:02:30 -0700 (PDT) DKIM-Signature: v=1; a=rsa-sha256; c=relaxed/relaxed; d=iol.unh.edu; s=unh-iol; t=1751364149; x=1751968949; darn=dpdk.org; h=references:in-reply-to:cc:to:from:subject:message-id:date:from:to :cc:subject:date:message-id:reply-to; bh=M9xnabwWD/NlX2D8AclUyblwYUDedrNO1nvj1Bd91vY=; b=ajm3/i4sfd0nGpEUTHfGhrJwC693F9B5BJUk3sIPQDx3KB3eHjPT70tjPixQBOBzFP VUNTE3Y4GGxfqWORw/fMp7h7S2SC3gB6BHtWquKFzPFuWrB1XFXFxeg2pV8JnxmxOZyn UVzG7UkO/DApZG8+T+pNBjJz2L2O2MxYryujU= X-Google-DKIM-Signature: v=1; a=rsa-sha256; c=relaxed/relaxed; d=1e100.net; s=20230601; t=1751364149; x=1751968949; h=references:in-reply-to:cc:to:from:subject:message-id:date :x-gm-message-state:from:to:cc:subject:date:message-id:reply-to; bh=M9xnabwWD/NlX2D8AclUyblwYUDedrNO1nvj1Bd91vY=; b=IeCja6T1u39nMP+noU9GXNzii735IGvb9TJ4jh5kgJlF+w67gTGRRMKfIvGPif2CgL 4HbGu0ahq6rqyPq+vqs/ZfD7sQDwYLfcIgKg0ml5bfiq6E0UshxFCwU0oZ8LzFAQQnVJ aWuyltMIm54vfd9zcsUsPSNmzV6F5m4Y21vMFnEgiElzGUw8eUE3QDvzqSj5L2chuUfQ XwoT3ziatHxa2SClR+ZsBSjNDLzGGI5pZ7k5Mxk4N1ng+OWKwEM2FJay3hKhDvCXXz3h MjLAmWAzf51md0EJVPh55Z9aeO3AZQmFTScux8b/zERQtUxxJcr+7taRo74ET1k1oSb+ R8kw== X-Gm-Message-State: AOJu0Ywj83pJVRNmDES4mTOQQ1cfZgYbPkOxcrE1Vj/CxHC++Dn31/5E 6OqcQIt3Hns6rTgJb3yu2SWS1m5mCwqQiLWQ/KKjcPJo7qcJ/sQDvcOSQ2EusoNZfOfEQoBel7b GA95FlQJ5x5OglPDQGMvujq+m2jjp1T8f0j0R0SYKaJXS X-Gm-Gg: ASbGnctiFaHijweXXB3Odfdcq38z/HOliKwmnMeZ1s98kRxchRKmRK8RVK0Atqwseqg anGTo1fpwhwusvR1XfiK/xF9UH5luuJRqeHiVAVdLIo52PLUOz3QwPwwWvJAwm0iNXvTEY9dovO X+5hRXuGhk4VJ/IqlJ21H7Ly6+VBA+nJtHbzItX/Rfm8vA/N83nee2Pz1pj/ngfH3JmvIu72gYS Y1Z8kZsBb1bWVMfDWeY6ogvgRbGa/M3WvMCSyzcA2jAsfGruHZCumT+6gA79PQQHpWtim8CZFTK TfOzo6n7Jhm15rIgl6u83eT/fbRrFA/kNujprVk1LOiaBts4flozPFW2rVFDo4RulaA63A== X-Google-Smtp-Source: AGHT+IHjA+a9jcwA33P3U3cLo3PIAvf09ajpkXl2GNnUNE7fGT9szUi0vDF7W1p+wJAf33qcudKDUb984zrQ X-Received: by 2002:a05:6122:4f9e:b0:520:60c2:3fd with SMTP id 71dfb90a1353d-5330be4799amr9602126e0c.3.1751364149470; Tue, 01 Jul 2025 03:02:29 -0700 (PDT) Received: from postal.iol.unh.edu (postal.iol.unh.edu. [132.177.123.84]) by smtp-relay.gmail.com with ESMTPS id 71dfb90a1353d-533091e1551sm681654e0c.7.2025.07.01.03.02.29 (version=TLS1_2 cipher=ECDHE-ECDSA-AES128-GCM-SHA256 bits=128/128); Tue, 01 Jul 2025 03:02:29 -0700 (PDT) X-Relaying-Domain: iol.unh.edu Date: Tue, 01 Jul 2025 03:02:29 -0700 (PDT) Message-ID: <6863b235.050a0220.270aad.4e94SMTPIN_ADDED_MISSING@mx.google.com> Received: from [172.21.0.6] (unknown [172.18.0.240]) by postal.iol.unh.edu (Postfix) with ESMTP id 209996051830; Tue, 1 Jul 2025 06:02:29 -0400 (EDT) Subject: |SUCCESS| pw154881-154886 [PATCH] [v7,6/6] net/dpaa2: enable softwar From: dpdklab@iol.unh.edu To: Test Report Cc: dpdk-test-reports@iol.unh.edu In-Reply-To: <20250701042917.3000355-7-g.singh@nxp.com> References: <20250701042917.3000355-7-g.singh@nxp.com> Content-Type: text/plain X-BeenThere: test-report@dpdk.org X-Mailman-Version: 2.1.29 Precedence: list List-Id: automatic DPDK test reports List-Unsubscribe: , List-Archive: List-Post: List-Help: List-Subscribe: , Errors-To: test-report-bounces@dpdk.org Test-Label: iol-unit-arm64-testing Test-Status: SUCCESS http://dpdk.org/patch/154886 _Testing PASS_ Submitter: Gagandeep Singh Date: Tuesday, July 01 2025 04:29:17 DPDK git baseline: Repo:dpdk Branch: master CommitID:77864da82f25a9e1e43c14b2cba68c2049a3ee3e 154881-154886 --> testing pass Upstream job id: Generic-Unit-Test-DPDK#351344 Test environment and result as below: +------------------------------+----------------+--------------+---------------------------+------------------------------+ | Environment | dpdk_unit_test | lpm_autotest | cryptodev_sw_zuc_autotest | cryptodev_sw_snow3g_autotest | +==============================+================+==============+===========================+==============================+ | Debian GNU/Linux 12 | PASS | SKIPPED | SKIPPED | SKIPPED | +------------------------------+----------------+--------------+---------------------------+------------------------------+ | CentOS Stream 9 | PASS | SKIPPED | SKIPPED | SKIPPED | +------------------------------+----------------+--------------+---------------------------+------------------------------+ | CentOS Stream 10 | PASS | SKIPPED | SKIPPED | SKIPPED | +------------------------------+----------------+--------------+---------------------------+------------------------------+ | Fedora Linux 40 | PASS | SKIPPED | SKIPPED | SKIPPED | +------------------------------+----------------+--------------+---------------------------+------------------------------+ | Fedora Linux 41 | PASS | SKIPPED | SKIPPED | SKIPPED | +------------------------------+----------------+--------------+---------------------------+------------------------------+ | Red Hat Enterprise Linux 9.5 | PASS | SKIPPED | SKIPPED | SKIPPED | +------------------------------+----------------+--------------+---------------------------+------------------------------+ | Ubuntu 20.04 | PASS | PASS | SKIPPED | SKIPPED | +------------------------------+----------------+--------------+---------------------------+------------------------------+ | Ubuntu 22.04 | PASS | SKIPPED | SKIPPED | SKIPPED | +------------------------------+----------------+--------------+---------------------------+------------------------------+ | Ubuntu 24.04 | PASS | SKIPPED | SKIPPED | SKIPPED | +------------------------------+----------------+--------------+---------------------------+------------------------------+ | Debian 12 (arm) | SKIPPED | SKIPPED | PASS | PASS | +------------------------------+----------------+--------------+---------------------------+------------------------------+ Debian GNU/Linux 12 Kernel: 5.4 Compiler: gcc gcc (Debian 12.2.0-14+deb12u1) 12.2.0 CentOS Stream 9 Kernel: 5.4 Compiler: gcc gcc (GCC) 11.5.0 20240719 (Red Hat 11.5.0-7) CentOS Stream 10 Kernel: 5.4 Compiler: gcc gcc (GCC) 14.2.1 20250110 (Red Hat 14.2.1-8) Fedora Linux 40 Kernel: 5.4 Compiler: clang gcc (GCC) 14.2.1 20240912 (Red Hat 14.2.1-3) Fedora Linux 41 Kernel: 5.4 Compiler: clang gcc (GCC) 14.3.1 20250523 (Red Hat 14.3.1-1) Red Hat Enterprise Linux 9.5 Kernel: 5.4 Compiler: gcc gcc (GCC) 11.5.0 20240719 (Red Hat 11.5.0-2) Ubuntu 20.04 Kernel: 5.4 Compiler: gcc gcc (Ubuntu 9.4.0-1ubuntu1~20.04.2) 9.4.0 Ubuntu 22.04 Kernel: 5.4 Compiler: gcc gcc (Ubuntu 11.4.0-1ubuntu1~22.04) 11.4.0 Ubuntu 24.04 Kernel: 5.4 Compiler: gcc gcc (Ubuntu 13.3.0-6ubuntu2~24.04) 13.3.0 Debian 12 (arm) Kernel: Depends on container host Compiler: gcc (Debian 12.2.0-14) 12.2.0 To view detailed results, visit: https://lab.dpdk.org/results/dashboard/patchsets/33549/ UNH-IOL DPDK Community Lab To manage your email subscriptions, visit: https://lab.dpdk.org/results/dashboard/preferences/subscriptions/