From mboxrd@z Thu Jan 1 00:00:00 1970 Return-Path: Received: from mails.dpdk.org (mails.dpdk.org [217.70.189.124]) by inbox.dpdk.org (Postfix) with ESMTP id 380AA46ACE for ; Tue, 1 Jul 2025 12:29:08 +0200 (CEST) Received: from mails.dpdk.org (localhost [127.0.0.1]) by mails.dpdk.org (Postfix) with ESMTP id 205B5400D7; Tue, 1 Jul 2025 12:29:08 +0200 (CEST) Received: from mail-io1-f97.google.com (mail-io1-f97.google.com [209.85.166.97]) by mails.dpdk.org (Postfix) with ESMTP id CA0D1400D7 for ; Tue, 1 Jul 2025 12:29:06 +0200 (CEST) Received: by mail-io1-f97.google.com with SMTP id ca18e2360f4ac-86d029e2bdeso208638839f.1 for ; Tue, 01 Jul 2025 03:29:06 -0700 (PDT) DKIM-Signature: v=1; a=rsa-sha256; c=relaxed/relaxed; d=iol.unh.edu; s=unh-iol; t=1751365746; x=1751970546; darn=dpdk.org; h=references:in-reply-to:cc:to:from:subject:message-id:date:from:to :cc:subject:date:message-id:reply-to; bh=fHPaqC/QuhKoN/PC/O4NskB27KK+xfcEilqDrQtW+oE=; b=Q3AdXQsGtbU9TDm5Uj3oPy8WuHJG/FCb9JZzJlhti7dNiqMMgjCwHdWgRY2sSQGRIh 5SEzkAFeXACkOGpxWFQsMzF+56nXinv1YaFOfY9aAIaz6AQWtn1XkeqNmp8NCyk/YVQx VueJnH9JTGZ2RSLI44uqvOJxwNUn6/BRty1g0= X-Google-DKIM-Signature: v=1; a=rsa-sha256; c=relaxed/relaxed; d=1e100.net; s=20230601; t=1751365746; x=1751970546; h=references:in-reply-to:cc:to:from:subject:message-id:date :x-gm-message-state:from:to:cc:subject:date:message-id:reply-to; bh=fHPaqC/QuhKoN/PC/O4NskB27KK+xfcEilqDrQtW+oE=; b=u5jfEWueZ2IoFAmGifr3dDmwiTNgEoQkN+c1QsPYlZq07SFT6dDVFnpY5xRbvJUMq8 MktP1Raj/F22SSzkldh2G6QNOj+pwuCNSXLpIvt+N1K+z9AREhKt8saMrErRgAIkcAa/ k89/yNBQA84+gbSTC0qMNRWPexaVNYp01YjDpfdSWlCBIiCQYQq3WRPuChQO8A8hERIj L6oo5ZgcfbmhlJI4AYAgtODR1fTk2/JivE6MiL4FktmVDNWmATKgrWBP3qfOjzimyC2i fsksANkKIKyGHXOSEbWseqQUmHJdME3vrCwbelkE20XJhFKlTounmz9Xszl0Anc5itqA ITng== X-Gm-Message-State: AOJu0YxWfmNbtF2tlqexKPBATkoka/6A7gdp7aeWYqcrOWokn2tJiMPH hcJhQqaqR0vvoBTI9tkhqG1Qb4X8m2ByOECHJcgrxPdjSregyk8jya7P+CYiS4K2rINgR8UCqAD sIRkGARuEgZEHDKpm3Ff4WW3EGRDlADYTnq4SGmPYUNzU X-Gm-Gg: ASbGncsRLjtWTCTunP3DYXEO1f9WESkkGWwU8JE9J5KiAhIGTFMrdrJr34Y7ZT1BpEv si8l8q6V834rTvSUECuNVohf6VwwyFXCL+Wsbp7SINnFcZvPJisZ7hFe0qJnZiRQB6IuOKxXfG1 ts4ZCRbLldiNTaeYN+5bEj68iJKKedrk7TFYBZh1TCHa8nRG/2rK3cPOIF7sagZR7ot4FbQiAQy 3ukv/ddKCvyzneKKEDcEsZ6GLrbiyfsfpmXk8rhpDqW6M5nwNsgp2mXjtwzq7HQdVo8Rk3+N4RM rNPBdusN/Lw9PeyCFfk/E8W6OWF/vzBh9bNY6+ebU3mNHWdCKNdbYdJIUdI8m5KuQyrD7Q== X-Google-Smtp-Source: AGHT+IHixLzCv1EVfYeKh9IjKgcAtVqqnw5tiDZO5CUO4KLJsOzDAknL9oY6ngrLjwhMkfYPPzWPodUvbpuv X-Received: by 2002:a05:6602:3891:b0:85e:16e9:5e8d with SMTP id ca18e2360f4ac-876b916d346mr303297939f.7.1751365745852; Tue, 01 Jul 2025 03:29:05 -0700 (PDT) Received: from postal.iol.unh.edu (postal.iol.unh.edu. [132.177.123.84]) by smtp-relay.gmail.com with ESMTPS id 8926c6da1cb9f-50204a88ed6sm379209173.59.2025.07.01.03.29.05 (version=TLS1_2 cipher=ECDHE-ECDSA-AES128-GCM-SHA256 bits=128/128); Tue, 01 Jul 2025 03:29:05 -0700 (PDT) X-Relaying-Domain: iol.unh.edu Date: Tue, 01 Jul 2025 03:29:05 -0700 (PDT) Message-ID: <6863b871.050a0220.164927.44b4SMTPIN_ADDED_MISSING@mx.google.com> Received: from [172.21.0.8] (unknown [172.18.0.240]) by postal.iol.unh.edu (Postfix) with ESMTP id 63BD26051830; Tue, 1 Jul 2025 06:29:05 -0400 (EDT) Subject: |SUCCESS| pw154889-154890 [PATCH] [v2,6/6] net/hns3: VF support mult From: dpdklab@iol.unh.edu To: Test Report Cc: dpdk-test-reports@iol.unh.edu In-Reply-To: <20250701064512.3868175-7-huangdengdui@huawei.com> References: <20250701064512.3868175-7-huangdengdui@huawei.com> Content-Type: text/plain X-BeenThere: test-report@dpdk.org X-Mailman-Version: 2.1.29 Precedence: list List-Id: automatic DPDK test reports List-Unsubscribe: , List-Archive: List-Post: List-Help: List-Subscribe: , Errors-To: test-report-bounces@dpdk.org Test-Label: iol-unit-amd64-testing Test-Status: SUCCESS http://dpdk.org/patch/154890 _Testing PASS_ Submitter: Dengdui Huang Date: Tuesday, July 01 2025 06:45:12 DPDK git baseline: Repo:dpdk Branch: master CommitID:77864da82f25a9e1e43c14b2cba68c2049a3ee3e 154889-154890 --> testing pass Upstream job id: Generic-Unit-Test-DPDK#351391 Test environment and result as below: +-------------------------------+----------------+ | Environment | dpdk_unit_test | +===============================+================+ | CentOS Stream 9 | PASS | +-------------------------------+----------------+ | CentOS Stream 10 | PASS | +-------------------------------+----------------+ | Debian GNU/Linux 12 | PASS | +-------------------------------+----------------+ | Fedora Linux 40 | PASS | +-------------------------------+----------------+ | Fedora Linux 41 | PASS | +-------------------------------+----------------+ | Red Hat Enterprise Linux 8.10 | PASS | +-------------------------------+----------------+ | Red Hat Enterprise Linux 9.5 | PASS | +-------------------------------+----------------+ | Ubuntu 20.04 | PASS | +-------------------------------+----------------+ | Ubuntu 22.04 | PASS | +-------------------------------+----------------+ | Ubuntu 24.04 | PASS | +-------------------------------+----------------+ CentOS Stream 9 Kernel: 5.15 Compiler: gcc gcc (GCC) 11.5.0 20240719 (Red Hat 11.5.0-7) CentOS Stream 10 Kernel: 5.15 Compiler: gcc gcc (GCC) 14.2.1 20250110 (Red Hat 14.2.1-8) Debian GNU/Linux 12 Kernel: 5.15 Compiler: gcc gcc (Debian 12.2.0-14+deb12u1) 12.2.0 Fedora Linux 40 Kernel: 5.15 Compiler: clang gcc (GCC) 14.2.1 20240912 (Red Hat 14.2.1-3) Fedora Linux 41 Kernel: 5.15 Compiler: gcc gcc (GCC) 14.3.1 20250523 (Red Hat 14.3.1-1) Red Hat Enterprise Linux 8.10 Kernel: 5.15 Compiler: gcc gcc (GCC) 8.5.0 20210514 (Red Hat 8.5.0-22) Red Hat Enterprise Linux 9.5 Kernel: 5.15 Compiler: gcc gcc (GCC) 11.5.0 20240719 (Red Hat 11.5.0-2) Ubuntu 20.04 Kernel: 5.15 Compiler: gcc gcc (Ubuntu 9.4.0-1ubuntu1~20.04.2) 9.4.0 Ubuntu 22.04 Kernel: 5.15 Compiler: gcc gcc (Ubuntu 11.4.0-1ubuntu1~22.04) 11.4.0 Ubuntu 24.04 Kernel: 5.15 Compiler: gcc gcc (Ubuntu 13.3.0-6ubuntu2~24.04) 13.3.0 To view detailed results, visit: https://lab.dpdk.org/results/dashboard/patchsets/33550/ UNH-IOL DPDK Community Lab To manage your email subscriptions, visit: https://lab.dpdk.org/results/dashboard/preferences/subscriptions/