From mboxrd@z Thu Jan 1 00:00:00 1970 Return-Path: Received: from mails.dpdk.org (mails.dpdk.org [217.70.189.124]) by inbox.dpdk.org (Postfix) with ESMTP id 4639146ACE for ; Tue, 1 Jul 2025 12:30:02 +0200 (CEST) Received: from mails.dpdk.org (localhost [127.0.0.1]) by mails.dpdk.org (Postfix) with ESMTP id 3DEC3400D7; Tue, 1 Jul 2025 12:30:02 +0200 (CEST) Received: from mail-oi1-f225.google.com (mail-oi1-f225.google.com [209.85.167.225]) by mails.dpdk.org (Postfix) with ESMTP id F3B6C400D7 for ; Tue, 1 Jul 2025 12:30:00 +0200 (CEST) Received: by mail-oi1-f225.google.com with SMTP id 5614622812f47-4079f80ff0fso3765169b6e.1 for ; Tue, 01 Jul 2025 03:30:00 -0700 (PDT) DKIM-Signature: v=1; a=rsa-sha256; c=relaxed/relaxed; d=iol.unh.edu; s=unh-iol; t=1751365800; x=1751970600; darn=dpdk.org; h=references:in-reply-to:cc:to:from:subject:message-id:date:from:to :cc:subject:date:message-id:reply-to; bh=ZnCsrqz6DWJ6yuMJt+Kg9P6jLH0+aUesflx6fLWJTkE=; b=bST/yxFxHvtiago4ySPGxfVQarpGdxaHoie8Npj7K0aQ8pQ2eLRROjGMDgM6r/NOtZ W2tgn4TGKZyir44yJav7Y/so9X9pmf440G3E+vdYIk2oShIyBxm8UBKYa3X/CRQTp1VM CrQ40fCgr5PBkxh6gPLOMXktJRlxVjhKVhE60= X-Google-DKIM-Signature: v=1; a=rsa-sha256; c=relaxed/relaxed; d=1e100.net; s=20230601; t=1751365800; x=1751970600; h=references:in-reply-to:cc:to:from:subject:message-id:date :x-gm-message-state:from:to:cc:subject:date:message-id:reply-to; bh=ZnCsrqz6DWJ6yuMJt+Kg9P6jLH0+aUesflx6fLWJTkE=; b=OwlKUbcXV2CeEze2YVDb5uaKRZHGPg769drKNVwmwS4dPZTmKGbHp993w8f1cdm2Lm VvSJLY9RCyUvz3GMRxb90tSiF3JnL4pZi6vYsxbU6JPxctXPD7ulWBpRFljgucJO87Q2 ydPbEVZWV+JTDnDoggY58NFkdExibqJzs+V+G5xguaW7G9dAUHeAMHrNHxrNykf7e33k kdWR8EQ31YZWurKv+2sXzuatr1l9NcpsOgaBmt5MvcncM9SJFQziNmqA3InOIUnJE57c oHZXgrkQraTtnFyWExD+a4f0FPTim6FwJiTgttDtsKGgAfdsGTIeNEc2SiNx3mTyDbBd wxCQ== X-Gm-Message-State: AOJu0YwD1exs4KRBtO/6GmDhYeAI8YwyWljjMqdpSlHsEAbEADFAEtR5 PLyU7+jXeRTJYGzZN3Sf26HVythr/HVyQnV4O3/t5A8vGvercFVnJqYP4f8aRSQZfsNrNOD+mte EQX4zOyturbNfnr/plg+xYoau1lVmIugkhaieZZSH1RpFB/c7Z0UzOei2Z9x6 X-Gm-Gg: ASbGncvvvXOtyznZAX6UesIg9jwkdpAsJkMAfByE1k4/9jCxTPE7vRnCF903gPAqNZY 91UGTesVElnKO98oymYf/LzPmqDjJhuJKP9nW0laQHVza5LZOb14Bp7ZfMSlPWtfBV+K0JprHjM i8MfSITVAlE8A0AD6EJedWIe/el1o09gaAreHaOcN/1MB8eIQgbT04xhBnFCalhgWtkQ17A2P2O OGkk5eY5nyW4UdkL/1e1KrJVty7dqwkOzrTAnyTb8F6QgBz/EVKVVp7VNhlOaM/0t6CqBHNUnNI GWNmCvojlWgIRPsgQpjSvm4vghwU47OTBWGtbtweGvvNwRU= X-Google-Smtp-Source: AGHT+IHU3A0vWXOzXAY0ZP2bwTNy4lVQyF1pHVHAXMx8/JTv1j1XI10uAPCMQcjXjgsEJp6/3Fx5KK9BI3Dg X-Received: by 2002:a05:6808:118a:b0:407:39f1:ac80 with SMTP id 5614622812f47-40b7a131482mr2269553b6e.5.1751365800183; Tue, 01 Jul 2025 03:30:00 -0700 (PDT) Received: from postal.iol.unh.edu (postal.iol.unh.edu. [2606:4100:3880:1234::84]) by smtp-relay.gmail.com with ESMTPS id 586e51a60fabf-2efd5054ca0sm669479fac.41.2025.07.01.03.30.00 (version=TLS1_2 cipher=ECDHE-ECDSA-AES128-GCM-SHA256 bits=128/128); Tue, 01 Jul 2025 03:30:00 -0700 (PDT) X-Relaying-Domain: iol.unh.edu Date: Tue, 01 Jul 2025 03:30:00 -0700 (PDT) Message-ID: <6863b8a8.050a0220.2e058.4a26SMTPIN_ADDED_MISSING@mx.google.com> Received: from [172.21.0.6] (unknown [172.18.0.240]) by postal.iol.unh.edu (Postfix) with ESMTP id A9A306051830; Tue, 1 Jul 2025 06:29:59 -0400 (EDT) Subject: |SUCCESS| pw154889-154890 [PATCH] [v2,6/6] net/hns3: VF support mult From: dpdklab@iol.unh.edu To: Test Report Cc: dpdk-test-reports@iol.unh.edu In-Reply-To: <20250701064512.3868175-7-huangdengdui@huawei.com> References: <20250701064512.3868175-7-huangdengdui@huawei.com> Content-Type: text/plain X-BeenThere: test-report@dpdk.org X-Mailman-Version: 2.1.29 Precedence: list List-Id: automatic DPDK test reports List-Unsubscribe: , List-Archive: List-Post: List-Help: List-Subscribe: , Errors-To: test-report-bounces@dpdk.org Test-Label: iol-unit-amd64-testing Test-Status: SUCCESS http://dpdk.org/patch/154890 _Testing PASS_ Submitter: Dengdui Huang Date: Tuesday, July 01 2025 06:45:12 DPDK git baseline: Repo:dpdk Branch: master CommitID:77864da82f25a9e1e43c14b2cba68c2049a3ee3e 154889-154890 --> testing pass Upstream job id: Generic-Unit-Test-DPDK#351395 Test environment and result as below: +-------------------------------+----------------+ | Environment | dpdk_unit_test | +===============================+================+ | CentOS Stream 9 | PASS | +-------------------------------+----------------+ | CentOS Stream 10 | PASS | +-------------------------------+----------------+ | Debian GNU/Linux 12 | PASS | +-------------------------------+----------------+ | Fedora Linux 40 | PASS | +-------------------------------+----------------+ | Fedora Linux 41 | PASS | +-------------------------------+----------------+ | Red Hat Enterprise Linux 8.10 | PASS | +-------------------------------+----------------+ | Red Hat Enterprise Linux 9.5 | PASS | +-------------------------------+----------------+ | Ubuntu 20.04 | PASS | +-------------------------------+----------------+ | Ubuntu 22.04 | PASS | +-------------------------------+----------------+ | Ubuntu 24.04 | PASS | +-------------------------------+----------------+ CentOS Stream 9 Kernel: 5.15 Compiler: gcc gcc (GCC) 11.5.0 20240719 (Red Hat 11.5.0-7) CentOS Stream 10 Kernel: 5.15 Compiler: gcc gcc (GCC) 14.2.1 20250110 (Red Hat 14.2.1-8) Debian GNU/Linux 12 Kernel: 5.15 Compiler: gcc gcc (Debian 12.2.0-14+deb12u1) 12.2.0 Fedora Linux 40 Kernel: 5.15 Compiler: clang gcc (GCC) 14.2.1 20240912 (Red Hat 14.2.1-3) Fedora Linux 41 Kernel: 5.15 Compiler: gcc gcc (GCC) 14.3.1 20250523 (Red Hat 14.3.1-1) Red Hat Enterprise Linux 8.10 Kernel: 5.15 Compiler: gcc gcc (GCC) 8.5.0 20210514 (Red Hat 8.5.0-22) Red Hat Enterprise Linux 9.5 Kernel: 5.15 Compiler: gcc gcc (GCC) 11.5.0 20240719 (Red Hat 11.5.0-2) Ubuntu 20.04 Kernel: 5.15 Compiler: gcc gcc (Ubuntu 9.4.0-1ubuntu1~20.04.2) 9.4.0 Ubuntu 22.04 Kernel: 5.15 Compiler: gcc gcc (Ubuntu 11.4.0-1ubuntu1~22.04) 11.4.0 Ubuntu 24.04 Kernel: 5.15 Compiler: gcc gcc (Ubuntu 13.3.0-6ubuntu2~24.04) 13.3.0 To view detailed results, visit: https://lab.dpdk.org/results/dashboard/patchsets/33550/ UNH-IOL DPDK Community Lab To manage your email subscriptions, visit: https://lab.dpdk.org/results/dashboard/preferences/subscriptions/