From mboxrd@z Thu Jan 1 00:00:00 1970 Return-Path: Received: from mails.dpdk.org (mails.dpdk.org [217.70.189.124]) by inbox.dpdk.org (Postfix) with ESMTP id 6652646ACE for ; Tue, 1 Jul 2025 12:31:14 +0200 (CEST) Received: from mails.dpdk.org (localhost [127.0.0.1]) by mails.dpdk.org (Postfix) with ESMTP id 61594400D7; Tue, 1 Jul 2025 12:31:14 +0200 (CEST) Received: from mail-oa1-f97.google.com (mail-oa1-f97.google.com [209.85.160.97]) by mails.dpdk.org (Postfix) with ESMTP id 121D0400D7 for ; Tue, 1 Jul 2025 12:31:13 +0200 (CEST) Received: by mail-oa1-f97.google.com with SMTP id 586e51a60fabf-2e999729ccbso1830102fac.2 for ; Tue, 01 Jul 2025 03:31:13 -0700 (PDT) DKIM-Signature: v=1; a=rsa-sha256; c=relaxed/relaxed; d=iol.unh.edu; s=unh-iol; t=1751365872; x=1751970672; darn=dpdk.org; h=references:in-reply-to:cc:to:from:subject:message-id:date:from:to :cc:subject:date:message-id:reply-to; bh=rGgJlDpfWa04zl7SN/mwnIOuSzYaFAK1xDol+tDXI4M=; b=BNYuNEAXADLx+vD7vyUPls9GsCqyIQ/f8ylehVVVKIu3KqEmG4DH6SK3PqLT+wWHb9 IUAAlN29GaiOGF5O2sD0j6/l/nLaa/5ywZHS/RskMa6dUxD7zTBNfeXNagJtSy00sEp7 By3Pevc7ZVDte+6hRWKMgV6MTMYKxTcYpQ26c= X-Google-DKIM-Signature: v=1; a=rsa-sha256; c=relaxed/relaxed; d=1e100.net; s=20230601; t=1751365872; x=1751970672; h=references:in-reply-to:cc:to:from:subject:message-id:date :x-gm-message-state:from:to:cc:subject:date:message-id:reply-to; bh=rGgJlDpfWa04zl7SN/mwnIOuSzYaFAK1xDol+tDXI4M=; b=IAIOYta5zC+mRtkIhHmZpHeEDx2ACchJWNqQ+Otoe1iyhVZe0/x5iHpUgL9lQ0TBKD C2WpGx6mRNkwmJkFxS7idFMuDBwcUj5TjZpmzS4NMqQihT/K2A33GTg5PYnrgHL0XIfS xSLmPFe0tTaS8+LOOzBnxziEoWzLbbE6lwTGDGB1u1/MHTNSGoJJyFtSKcHAqCEzpMNM 2bNNui6sSCJlU+bhB7Bat/ZHZZX4I8zh8oY5lR2FJ7g7Io3fsJJED5g63uCjLGrdOF00 tTS2ur90hUmLcMThyaVkuWtTQgS31dxLAJOEnEoeTRQZfSeE5L7epJAzUY0yu1F/UL4K wDfA== X-Gm-Message-State: AOJu0YzQSAZUldNhhtIMWnu5HwmTrjSYsFnHwCNoOgeg3GVJC1khtwXa RtsMoh5ISdkmT+3XfJjmNojIraoKJ7FXdoblVlw92pYl+c64wzMgVonj1RkHvJbrtqLxpmn3DuU ZsA4XX3uILx1FGl9vrtZ011FjAj4p8yFuBFUE7NrKU9cL8EFCSZ25elwbpwNj X-Gm-Gg: ASbGnctTZ81OBDQtR92nepPLDNKhvJfJ7Wmt1TDo66t8KVd2qbVB5sd6tgkmKzyHjun y56N7be4BvKmOmLxtam4N/T/m+WR0ffPCKvb5DS5bVERn5E7V2uj/DMRbGGxJ4wb83EChIBQNAy Eg37aOA2hHj3IE+SW76nc+3GQptWE5PujQJUqPLjA68OOwdRLw2fRTY9pwouIFbu7bfZGG8h6g9 J9GMCAacvQkJzE+x0pTDGSEwtmYmABsg+LQ50VwcAlFCvX+HqOCgUuoPIlPcIbNQJSkrIwgi6Ua bWKaaDzqUF2FPYalzLZE9lkKEoYdlXUDYrfeUbnNBXzdEow= X-Google-Smtp-Source: AGHT+IG9ZQ1nFofQGu+bTy3vSZA2KkVqHYiDCHjEcB1sFBTRrHUe9n8BLhmn5RluydP8btgcgv6NX15Islei X-Received: by 2002:a05:6870:f70b:b0:2e9:7e3:933f with SMTP id 586e51a60fabf-2efed42c176mr10134123fac.3.1751365872222; Tue, 01 Jul 2025 03:31:12 -0700 (PDT) Received: from postal.iol.unh.edu (postal.iol.unh.edu. [2606:4100:3880:1234::84]) by smtp-relay.gmail.com with ESMTPS id 586e51a60fabf-2efd50004b4sm664917fac.34.2025.07.01.03.31.12 (version=TLS1_2 cipher=ECDHE-ECDSA-AES128-GCM-SHA256 bits=128/128); Tue, 01 Jul 2025 03:31:12 -0700 (PDT) X-Relaying-Domain: iol.unh.edu Date: Tue, 01 Jul 2025 03:31:12 -0700 (PDT) Message-ID: <6863b8f0.050a0220.3d7fbd.3bc2SMTPIN_ADDED_MISSING@mx.google.com> Received: from [172.21.0.5] (unknown [172.18.0.240]) by postal.iol.unh.edu (Postfix) with ESMTP id B85FA6051830; Tue, 1 Jul 2025 06:31:11 -0400 (EDT) Subject: |SUCCESS| pw154881-154886 [PATCH] [v7,6/6] net/dpaa2: enable softwar From: dpdklab@iol.unh.edu To: Test Report Cc: dpdk-test-reports@iol.unh.edu In-Reply-To: <20250701042917.3000355-7-g.singh@nxp.com> References: <20250701042917.3000355-7-g.singh@nxp.com> Content-Type: text/plain X-BeenThere: test-report@dpdk.org X-Mailman-Version: 2.1.29 Precedence: list List-Id: automatic DPDK test reports List-Unsubscribe: , List-Archive: List-Post: List-Help: List-Subscribe: , Errors-To: test-report-bounces@dpdk.org Test-Label: iol-abi-testing Test-Status: SUCCESS http://dpdk.org/patch/154886 _Testing PASS_ Submitter: Gagandeep Singh Date: Tuesday, July 01 2025 04:29:17 DPDK git baseline: Repo:dpdk Branch: master CommitID:77864da82f25a9e1e43c14b2cba68c2049a3ee3e 154881-154886 --> testing pass Upstream job id: Generic-DPDK-Compile-ABI#132518 Test environment and result as below: +-------------------------------+----------+ | Environment | abi_test | +===============================+==========+ | CentOS Stream 10 | PASS | +-------------------------------+----------+ | Red Hat Enterprise Linux 9.5 | PASS | +-------------------------------+----------+ | CentOS Stream 9 | PASS | +-------------------------------+----------+ | Debian GNU/Linux 12 | PASS | +-------------------------------+----------+ | Fedora Linux 40 | PASS | +-------------------------------+----------+ | Fedora Linux 41 | PASS | +-------------------------------+----------+ | openSUSE Leap 15.6 | PASS | +-------------------------------+----------+ | Red Hat Enterprise Linux 8.10 | PASS | +-------------------------------+----------+ | Ubuntu 24.04 | PASS | +-------------------------------+----------+ | Ubuntu 22.04 | PASS | +-------------------------------+----------+ CentOS Stream 10 Kernel: 5.15 Compiler: gcc gcc (GCC) 14.2.1 20250110 (Red Hat 14.2.1-8) Red Hat Enterprise Linux 9.5 Kernel: 5.15 Compiler: gcc gcc (GCC) 11.5.0 20240719 (Red Hat 11.5.0-2) CentOS Stream 9 Kernel: 5.15 Compiler: gcc gcc (GCC) 11.5.0 20240719 (Red Hat 11.5.0-7) Debian GNU/Linux 12 Kernel: 5.15 Compiler: gcc gcc (Debian 12.2.0-14+deb12u1) 12.2.0 Fedora Linux 40 Kernel: 5.15 Compiler: clang gcc (GCC) 14.2.1 20240912 (Red Hat 14.2.1-3) Fedora Linux 41 Kernel: 5.15 Compiler: clang gcc (GCC) 14.3.1 20250523 (Red Hat 14.3.1-1) openSUSE Leap 15.6 Kernel: 5.15 Compiler: gcc gcc (SUSE Linux) 7.5.0 Red Hat Enterprise Linux 8.10 Kernel: 5.15 Compiler: gcc gcc (GCC) 8.5.0 20210514 (Red Hat 8.5.0-22) Ubuntu 24.04 Kernel: 5.15 Compiler: gcc gcc (Ubuntu 13.3.0-6ubuntu2~24.04) 13.3.0 Ubuntu 22.04 Kernel: 5.15 Compiler: gcc gcc (Ubuntu 11.4.0-1ubuntu1~22.04) 11.4.0 To view detailed results, visit: https://lab.dpdk.org/results/dashboard/patchsets/33549/ UNH-IOL DPDK Community Lab To manage your email subscriptions, visit: https://lab.dpdk.org/results/dashboard/preferences/subscriptions/