From mboxrd@z Thu Jan 1 00:00:00 1970 Return-Path: Received: from mails.dpdk.org (mails.dpdk.org [217.70.189.124]) by inbox.dpdk.org (Postfix) with ESMTP id 756FD46ACE for ; Tue, 1 Jul 2025 12:31:42 +0200 (CEST) Received: from mails.dpdk.org (localhost [127.0.0.1]) by mails.dpdk.org (Postfix) with ESMTP id 70F51400D7; Tue, 1 Jul 2025 12:31:42 +0200 (CEST) Received: from mail-il1-f225.google.com (mail-il1-f225.google.com [209.85.166.225]) by mails.dpdk.org (Postfix) with ESMTP id B89AB400D7 for ; Tue, 1 Jul 2025 12:31:41 +0200 (CEST) Received: by mail-il1-f225.google.com with SMTP id e9e14a558f8ab-3de18fde9cfso17490745ab.3 for ; Tue, 01 Jul 2025 03:31:41 -0700 (PDT) DKIM-Signature: v=1; a=rsa-sha256; c=relaxed/relaxed; d=iol.unh.edu; s=unh-iol; t=1751365901; x=1751970701; darn=dpdk.org; h=references:in-reply-to:cc:to:from:subject:message-id:date:from:to :cc:subject:date:message-id:reply-to; bh=1lMUn6W1FmRnIFExJWAQIfN8t+fC65LlwpuS7rHSIAM=; b=crWQDecE3x1p/6ppKqvQJz/KrDvF1YmgUUyl2WHs/B8MgBznCbViSP8tNuoKuS9Qmt 47vS+YGvHp0JHfu4/PvGxU3RNgLowj7hWXsjG02B/reJfTQfQfojWYgGk3XyRWHUXbwo IaYzoU6/jcDUNYDTx+WLZyHC6auYXzFJAxGtQ= X-Google-DKIM-Signature: v=1; a=rsa-sha256; c=relaxed/relaxed; d=1e100.net; s=20230601; t=1751365901; x=1751970701; h=references:in-reply-to:cc:to:from:subject:message-id:date :x-gm-message-state:from:to:cc:subject:date:message-id:reply-to; bh=1lMUn6W1FmRnIFExJWAQIfN8t+fC65LlwpuS7rHSIAM=; b=bbH26kh2YQw/KBcKQNzjTjSzI/kb5FHIFpscCJ20Lhk696GyjT/9GPY+s2sxwSLc1x 8A/sJUi/pcVbZpwHUTY51xdBNiumxGzrgrkEC61OOzWiVpdlJzHh8O1m5j9RAQvjk0Tu 23ZZkB3O/8f78SdxzRsYCxRqC997VizjkEg2YoUTtUj288ev7ekR14bgBA/1pRX4l6ir aNf5fLusCXCQRSMJ81TlvCjswPSMBYEGvR/JVqzVDKueO8P0Kgcvk1cGHDJZOr3h6y37 iLJM5Pufu280rj93Pxu+c5zBjjSNUN0J3gUfoz0m2TEXIPu2q8rNOg1ujMAzyTzp96iv AXuQ== X-Gm-Message-State: AOJu0YzwxArW4li4gCFbWuEpGWdxLjeSCxAMCSAn/Wloglxg1sMdhWEN kAkPoDRw438v1Bu+nYFhsofOV7rJ4GO33DS9TLutaIrp0g7p57FrVvNgdikHPVisOPQH7qnk1t7 8V/TIWgpmO3v9sPTMBtARvePy6mewMSoEtSbxkVZ1oWrv X-Gm-Gg: ASbGncsYl3sSwjlyVnoLxxchDIi6IqNGenX2dc6/vmAaMXwMirHTnxT3jnQTac5FMnF TNGBon3M3wr3EF3zVquWx9qxMWoWqi9oVqRuDfLrJ4lISu7mw7UG0IwiSlWvplRSXrOi6clu7OS GScegEl7x71YC8j8iAdRQw/O+vtZhLfiCERU3eyGwu4V1PBDpBy9BILiJnIBnBkjPBvP3DssVVz zz3tsG6eKETu25HLI8ycGo9iuXwjkTFO3r0UbvqbXUad3f5WDRen3CkBBT/DAGodmhtmHH/3hE1 7UZ6PypCt6ywp+rl4JZchLBP975kZOOaX6YNyFWSl5ubwma8lwpEHktbNfYsZAwhuS1SnQ== X-Google-Smtp-Source: AGHT+IHprTx8Cyfcuol0uxjd31GUxFuZKq9TLIMFK5XEnOS5NjP+UfM2H0ALqMkWuZ8mrShFpvnFWj+z9iAG X-Received: by 2002:a05:6e02:2604:b0:3de:119f:5261 with SMTP id e9e14a558f8ab-3df4ab6af16mr218223175ab.3.1751365901027; Tue, 01 Jul 2025 03:31:41 -0700 (PDT) Received: from postal.iol.unh.edu (postal.iol.unh.edu. [132.177.123.84]) by smtp-relay.gmail.com with ESMTPS id e9e14a558f8ab-3df49ffdfb4sm5837355ab.11.2025.07.01.03.31.40 (version=TLS1_2 cipher=ECDHE-ECDSA-AES128-GCM-SHA256 bits=128/128); Tue, 01 Jul 2025 03:31:41 -0700 (PDT) X-Relaying-Domain: iol.unh.edu Date: Tue, 01 Jul 2025 03:31:41 -0700 (PDT) Message-ID: <6863b90d.050a0220.15feba.f237SMTPIN_ADDED_MISSING@mx.google.com> Received: from [172.21.0.5] (unknown [172.18.0.240]) by postal.iol.unh.edu (Postfix) with ESMTP id 8EEB76051830; Tue, 1 Jul 2025 06:31:40 -0400 (EDT) Subject: |SUCCESS| pw154881-154886 [PATCH] [v7,6/6] net/dpaa2: enable softwar From: dpdklab@iol.unh.edu To: Test Report Cc: dpdk-test-reports@iol.unh.edu In-Reply-To: <20250701042917.3000355-7-g.singh@nxp.com> References: <20250701042917.3000355-7-g.singh@nxp.com> Content-Type: text/plain X-BeenThere: test-report@dpdk.org X-Mailman-Version: 2.1.29 Precedence: list List-Id: automatic DPDK test reports List-Unsubscribe: , List-Archive: List-Post: List-Help: List-Subscribe: , Errors-To: test-report-bounces@dpdk.org Test-Label: iol-abi-testing Test-Status: SUCCESS http://dpdk.org/patch/154886 _Testing PASS_ Submitter: Gagandeep Singh Date: Tuesday, July 01 2025 04:29:17 DPDK git baseline: Repo:dpdk Branch: master CommitID:77864da82f25a9e1e43c14b2cba68c2049a3ee3e 154881-154886 --> testing pass Upstream job id: Generic-DPDK-Compile-ABI#132513 Test environment and result as below: +-------------------------------+----------+ | Environment | abi_test | +===============================+==========+ | CentOS Stream 10 | PASS | +-------------------------------+----------+ | Red Hat Enterprise Linux 9.5 | PASS | +-------------------------------+----------+ | CentOS Stream 9 | PASS | +-------------------------------+----------+ | Debian GNU/Linux 12 | PASS | +-------------------------------+----------+ | Fedora Linux 40 | PASS | +-------------------------------+----------+ | Fedora Linux 41 | PASS | +-------------------------------+----------+ | openSUSE Leap 15.6 | PASS | +-------------------------------+----------+ | Red Hat Enterprise Linux 8.10 | PASS | +-------------------------------+----------+ | Ubuntu 24.04 | PASS | +-------------------------------+----------+ | Ubuntu 22.04 | PASS | +-------------------------------+----------+ CentOS Stream 10 Kernel: 5.15 Compiler: gcc gcc (GCC) 14.2.1 20250110 (Red Hat 14.2.1-8) Red Hat Enterprise Linux 9.5 Kernel: 5.15 Compiler: gcc gcc (GCC) 11.5.0 20240719 (Red Hat 11.5.0-2) CentOS Stream 9 Kernel: 5.15 Compiler: gcc gcc (GCC) 11.5.0 20240719 (Red Hat 11.5.0-7) Debian GNU/Linux 12 Kernel: 5.15 Compiler: gcc gcc (Debian 12.2.0-14+deb12u1) 12.2.0 Fedora Linux 40 Kernel: 5.15 Compiler: clang gcc (GCC) 14.2.1 20240912 (Red Hat 14.2.1-3) Fedora Linux 41 Kernel: 5.15 Compiler: clang gcc (GCC) 14.3.1 20250523 (Red Hat 14.3.1-1) openSUSE Leap 15.6 Kernel: 5.15 Compiler: gcc gcc (SUSE Linux) 7.5.0 Red Hat Enterprise Linux 8.10 Kernel: 5.15 Compiler: gcc gcc (GCC) 8.5.0 20210514 (Red Hat 8.5.0-22) Ubuntu 24.04 Kernel: 5.15 Compiler: gcc gcc (Ubuntu 13.3.0-6ubuntu2~24.04) 13.3.0 Ubuntu 22.04 Kernel: 5.15 Compiler: gcc gcc (Ubuntu 11.4.0-1ubuntu1~22.04) 11.4.0 To view detailed results, visit: https://lab.dpdk.org/results/dashboard/patchsets/33549/ UNH-IOL DPDK Community Lab To manage your email subscriptions, visit: https://lab.dpdk.org/results/dashboard/preferences/subscriptions/