From mboxrd@z Thu Jan 1 00:00:00 1970 Return-Path: Received: from mails.dpdk.org (mails.dpdk.org [217.70.189.124]) by inbox.dpdk.org (Postfix) with ESMTP id AD4DF46ACE for ; Tue, 1 Jul 2025 13:04:14 +0200 (CEST) Received: from mails.dpdk.org (localhost [127.0.0.1]) by mails.dpdk.org (Postfix) with ESMTP id 47C50400D7; Tue, 1 Jul 2025 13:04:14 +0200 (CEST) Received: from mail-oa1-f100.google.com (mail-oa1-f100.google.com [209.85.160.100]) by mails.dpdk.org (Postfix) with ESMTP id 20049400D7 for ; Tue, 1 Jul 2025 13:04:13 +0200 (CEST) Received: by mail-oa1-f100.google.com with SMTP id 586e51a60fabf-2efbbf5a754so2168139fac.0 for ; Tue, 01 Jul 2025 04:04:13 -0700 (PDT) DKIM-Signature: v=1; a=rsa-sha256; c=relaxed/relaxed; d=iol.unh.edu; s=unh-iol; t=1751367852; x=1751972652; darn=dpdk.org; h=references:in-reply-to:cc:to:from:subject:message-id:date:from:to :cc:subject:date:message-id:reply-to; bh=QB4dE+wvXxp94rlYbX0mdL3wTGFlWmPsw2G7DGR6zFg=; b=Wzf2E83JUqf/etnMPbt/Yo3W45aWOxjjZnQYqphw8Pw+9Ua0WW7/QLTGC3V5id6qA2 tNyXH/ndMPgY2xAlF9mcE5KsPtlHY5h08MVigMCtaVxrH/sJlYAgNdv/QpPSnWxGwhhV ZDtGxfe2QSANZYhPygKJFDcEIKGoiXVpu55HQ= X-Google-DKIM-Signature: v=1; a=rsa-sha256; c=relaxed/relaxed; d=1e100.net; s=20230601; t=1751367852; x=1751972652; h=references:in-reply-to:cc:to:from:subject:message-id:date :x-gm-message-state:from:to:cc:subject:date:message-id:reply-to; bh=QB4dE+wvXxp94rlYbX0mdL3wTGFlWmPsw2G7DGR6zFg=; b=oMq5r5KJdW/TaNnoz9EFOWJjo4axmhMxz7FoqprDzQ41WLV1WIu6gxGBabcdOIqzg6 5IzxEGFToUwidrdbhEo8MoqPhtPFBJxZjZ8a0JzqIeM1viGFc6TUL10DczZZbSQJLbaC XXuhmpJCYOVm8xI7FmYbhyqhVaPHhBOLamiyAQ07DwEFCCY1nEzgEwWCPatcjX1jVXpI bUzDKp/ZwoeT6GFbn6hR7ai5MyHVhxysuoEejUVgmEuFlwpHYr10L/xid9xbV9IZ9Y95 4P36QXYzLKTaYcc2KYAK7Za2obritUsyxcrdRN7u/sYtdW2ksaAqAGSMbTmAqIYc4MpD d0cg== X-Gm-Message-State: AOJu0Yy+r8Oqluk1XyABgYEeLpaukED4VUqYGK/tZuOU8LZY7D52Arcr I5mkS8GZDfEggTt/D9OXJ32oXzBqVSObtqY5jilPB8e6xNoXPngM5h5vBleKjTks1SsKfM0Pbev GPnIQgsMeOYiQkjTun70U8eX4OYPf/Wagd2hi1qTn3Gax X-Gm-Gg: ASbGncv3ixYzM71F9iV3B74f5ItcdQ97zP+Bn2tkJZKABItVMICwJ6EyJ6gu/83CT80 TPhE/PvdHgLw6rDTNmz9n9OtQpfB8xGfAA7qPJyGHcZxrnPK+YBX5tBUACyE6VQL6+eY/oSfXjO ZNIyUwX1htDb82aytkoZQlrxsmWxS/p3DUkbGJYDIX/BGUDIa+AEm7TnLCZ5dnL179/n8IY990+ jm1SYjcNCcUpClVtVhtEynmPdqHch7z/IfdgL4uBc5m5Ip09NzW9mpmKSUL4xxrgZHSp0483MF0 jdLdhO1Q82UiUjRe37VlVsZz9SIdeAH6ZaYwethp+mr/Xak6l9kVCqzJgaxdim16l50nLw== X-Google-Smtp-Source: AGHT+IGFLBRmPGSIJnedBEXLBSZ4PRMa2pYUX4Wkp8JczflCsb+RHxfvMljJXfHPZDeK9NICm7ewnCvjHw2E X-Received: by 2002:a05:6870:32d5:b0:2ea:fb40:231c with SMTP id 586e51a60fabf-2efed70c769mr11957913fac.27.1751367852175; Tue, 01 Jul 2025 04:04:12 -0700 (PDT) Received: from postal.iol.unh.edu (postal.iol.unh.edu. [132.177.123.84]) by smtp-relay.gmail.com with ESMTPS id 586e51a60fabf-2efd4febd16sm658404fac.27.2025.07.01.04.04.12 (version=TLS1_2 cipher=ECDHE-ECDSA-AES128-GCM-SHA256 bits=128/128); Tue, 01 Jul 2025 04:04:12 -0700 (PDT) X-Relaying-Domain: iol.unh.edu Date: Tue, 01 Jul 2025 04:04:12 -0700 (PDT) Message-ID: <6863c0ac.050a0220.1aa4ad.3b17SMTPIN_ADDED_MISSING@mx.google.com> Received: from [172.21.0.5] (unknown [172.18.0.240]) by postal.iol.unh.edu (Postfix) with ESMTP id A277B6051830; Tue, 1 Jul 2025 07:04:11 -0400 (EDT) Subject: |SUCCESS| pw154889-154890 [PATCH] [v2,6/6] net/hns3: VF support mult From: dpdklab@iol.unh.edu To: Test Report Cc: dpdk-test-reports@iol.unh.edu In-Reply-To: <20250701064512.3868175-7-huangdengdui@huawei.com> References: <20250701064512.3868175-7-huangdengdui@huawei.com> Content-Type: text/plain X-BeenThere: test-report@dpdk.org X-Mailman-Version: 2.1.29 Precedence: list List-Id: automatic DPDK test reports List-Unsubscribe: , List-Archive: List-Post: List-Help: List-Subscribe: , Errors-To: test-report-bounces@dpdk.org Test-Label: iol-abi-testing Test-Status: SUCCESS http://dpdk.org/patch/154890 _Testing PASS_ Submitter: Dengdui Huang Date: Tuesday, July 01 2025 06:45:12 DPDK git baseline: Repo:dpdk Branch: master CommitID:77864da82f25a9e1e43c14b2cba68c2049a3ee3e 154889-154890 --> testing pass Upstream job id: Generic-DPDK-Compile-ABI#132523 Test environment and result as below: +-------------------------------+----------+ | Environment | abi_test | +===============================+==========+ | CentOS Stream 9 | PASS | +-------------------------------+----------+ | CentOS Stream 10 | PASS | +-------------------------------+----------+ | Fedora Linux 40 | PASS | +-------------------------------+----------+ | Debian GNU/Linux 12 | PASS | +-------------------------------+----------+ | Fedora Linux 41 | PASS | +-------------------------------+----------+ | openSUSE Leap 15.6 | PASS | +-------------------------------+----------+ | Red Hat Enterprise Linux 8.10 | PASS | +-------------------------------+----------+ | Red Hat Enterprise Linux 9.5 | PASS | +-------------------------------+----------+ | Ubuntu 22.04 | PASS | +-------------------------------+----------+ | Ubuntu 24.04 | PASS | +-------------------------------+----------+ CentOS Stream 9 Kernel: 5.15 Compiler: gcc gcc (GCC) 11.5.0 20240719 (Red Hat 11.5.0-7) CentOS Stream 10 Kernel: 5.15 Compiler: gcc gcc (GCC) 14.2.1 20250110 (Red Hat 14.2.1-8) Fedora Linux 40 Kernel: 5.15 Compiler: clang gcc (GCC) 14.2.1 20240912 (Red Hat 14.2.1-3) Debian GNU/Linux 12 Kernel: 5.15 Compiler: gcc gcc (Debian 12.2.0-14+deb12u1) 12.2.0 Fedora Linux 41 Kernel: 5.15 Compiler: clang gcc (GCC) 14.3.1 20250523 (Red Hat 14.3.1-1) openSUSE Leap 15.6 Kernel: 5.15 Compiler: gcc gcc (SUSE Linux) 7.5.0 Red Hat Enterprise Linux 8.10 Kernel: 5.15 Compiler: gcc gcc (GCC) 8.5.0 20210514 (Red Hat 8.5.0-22) Red Hat Enterprise Linux 9.5 Kernel: 5.15 Compiler: gcc gcc (GCC) 11.5.0 20240719 (Red Hat 11.5.0-2) Ubuntu 22.04 Kernel: 5.15 Compiler: gcc gcc (Ubuntu 11.4.0-1ubuntu1~22.04) 11.4.0 Ubuntu 24.04 Kernel: 5.15 Compiler: gcc gcc (Ubuntu 13.3.0-6ubuntu2~24.04) 13.3.0 To view detailed results, visit: https://lab.dpdk.org/results/dashboard/patchsets/33550/ UNH-IOL DPDK Community Lab To manage your email subscriptions, visit: https://lab.dpdk.org/results/dashboard/preferences/subscriptions/