From mboxrd@z Thu Jan 1 00:00:00 1970 Return-Path: Received: from mails.dpdk.org (mails.dpdk.org [217.70.189.124]) by inbox.dpdk.org (Postfix) with ESMTP id 9F1D446ACE for ; Tue, 1 Jul 2025 13:06:00 +0200 (CEST) Received: from mails.dpdk.org (localhost [127.0.0.1]) by mails.dpdk.org (Postfix) with ESMTP id 797F6400D7; Tue, 1 Jul 2025 13:06:00 +0200 (CEST) Received: from mail-qt1-f227.google.com (mail-qt1-f227.google.com [209.85.160.227]) by mails.dpdk.org (Postfix) with ESMTP id 92C79400D7 for ; Tue, 1 Jul 2025 13:05:59 +0200 (CEST) Received: by mail-qt1-f227.google.com with SMTP id d75a77b69052e-4a585dc5f4aso64141081cf.2 for ; Tue, 01 Jul 2025 04:05:59 -0700 (PDT) DKIM-Signature: v=1; a=rsa-sha256; c=relaxed/relaxed; d=iol.unh.edu; s=unh-iol; t=1751367959; x=1751972759; darn=dpdk.org; h=references:in-reply-to:cc:to:from:subject:message-id:date:from:to :cc:subject:date:message-id:reply-to; bh=IsMTR+w9GVoFmAMkEqKIRQA4vJuaGOdWX/OdusgkGbc=; b=DDwFyng1OHzPhXPIKpnmOlIMd2SXxRLRfXmLT5Qu6ePAhbQ5hV53o1ppO8c+RwXsRo n5PFZEivj0jHEwYBvDRO8Hgciw/YpjKlBlmS8JYvYObbckz0QpBZ7cSFBrPDPOz/2+xq J3iylcvfYTfnbbcvjG2Qt5/loW8MplMTJC/Rs= X-Google-DKIM-Signature: v=1; a=rsa-sha256; c=relaxed/relaxed; d=1e100.net; s=20230601; t=1751367959; x=1751972759; h=references:in-reply-to:cc:to:from:subject:message-id:date :x-gm-message-state:from:to:cc:subject:date:message-id:reply-to; bh=IsMTR+w9GVoFmAMkEqKIRQA4vJuaGOdWX/OdusgkGbc=; b=e/TYGn5hc31ZK2sYOBG4of2fxCF0Azn1MG6D8l2VoBEg9CQEcxEhyrzhRipu+OEfKO 7o+LYkLJwFDaMF/ar6zpOKLDOZyAP6PdtfyWlKJvLXRBmUfJK8ofVrjRkROkWSjD4fVP pW0nizR2Ls9Ea0XPRA+VH5IZcCsqwojAY8mcYdq2RE1u0vVtb43VQWCE/ngU8mBHVcb+ BkCbLyk3ph8xxj1EqACpBwq1r/iKWjsTuWMJGNSpJ9fD4yto90iiSV0ZDkUU6v+AsRhm R5j8guYJnEdCKEB0SKZXt2engJyERPnYRzLRvH5DAIQOvTaDxZixGKjdg7t349himhcb goCg== X-Gm-Message-State: AOJu0Yy9uZicqQijHDxObau7yustHdROMgB3bgLoC7wR8xlE7Qf0/Nex 4skkFDKMb7ZayYtLCBSHkl47uMaGoyrxHXQ6az7dvgSFPPD5Oa/cIgZDsqybKglE6dI5dDVAtJi mZM62Q/AFaaESipD4Y6mlcHDTio/zom2uFQ/O7LEowABN X-Gm-Gg: ASbGnctRXgauzpZYBQruESbTwd8eIaEiB15yVtV0YxwfHcwwu4EMT/Xw8YX5yyIMYNA izJ+rzfY4Vz3n57lXDEhQEEhCiO/Mw2Ion5o4S5fpRnEB9YgduZSWJeZlZfJiJH/dxA6yo1htQn BtSfX/lfM5ADZ32Wx6/GVfVCTm731uPgf1FpATc/0Q+UzzbXKsfx6SXeFcu7TlAlRsuwkRBIe0t Ay/uF5CxiMXlJ2D2wcmrGUeMQ5nfCwMNwCu9eDxw3GyALCkNYFzr9fXGzB5eMeM7c90K47oWALI hu83RvCnFK4YqzZc6CdaH1peU9EB3UCUb2hKvuI0Vu1pdmdzmDTAmzxWunmqF77dk56CpQ== X-Google-Smtp-Source: AGHT+IEZAzWx5vt2Uaas5MRW+nodv7Rk0juinbnBIKZCzi7YNtvfjZ7IHzFrZ4Cjtd9jpRUVTjQA9yKAp4Vi X-Received: by 2002:a05:622a:5a18:b0:494:a283:1c4a with SMTP id d75a77b69052e-4a83222a364mr41111791cf.32.1751367958629; Tue, 01 Jul 2025 04:05:58 -0700 (PDT) Received: from postal.iol.unh.edu (postal.iol.unh.edu. [132.177.123.84]) by smtp-relay.gmail.com with ESMTPS id d75a77b69052e-4a7fc11d404sm3978921cf.9.2025.07.01.04.05.58 (version=TLS1_2 cipher=ECDHE-ECDSA-AES128-GCM-SHA256 bits=128/128); Tue, 01 Jul 2025 04:05:58 -0700 (PDT) X-Relaying-Domain: iol.unh.edu Date: Tue, 01 Jul 2025 04:05:58 -0700 (PDT) Message-ID: <6863c116.c80a0220.390a5a.4e39SMTPIN_ADDED_MISSING@mx.google.com> Received: from [172.21.0.8] (unknown [172.18.0.240]) by postal.iol.unh.edu (Postfix) with ESMTP id 24AE16051830; Tue, 1 Jul 2025 07:05:58 -0400 (EDT) Subject: |WARNING| pw154881-154886 [PATCH] [v7,6/6] net/dpaa2: enable softwar From: dpdklab@iol.unh.edu To: Test Report Cc: dpdk-test-reports@iol.unh.edu In-Reply-To: <20250701042917.3000355-7-g.singh@nxp.com> References: <20250701042917.3000355-7-g.singh@nxp.com> Content-Type: text/plain X-BeenThere: test-report@dpdk.org X-Mailman-Version: 2.1.29 Precedence: list List-Id: automatic DPDK test reports List-Unsubscribe: , List-Archive: List-Post: List-Help: List-Subscribe: , Errors-To: test-report-bounces@dpdk.org Test-Label: iol-compile-amd64-testing Test-Status: WARNING http://dpdk.org/patch/154886 _Testing issues_ Submitter: Gagandeep Singh Date: Tuesday, July 01 2025 04:29:17 DPDK git baseline: Repo:dpdk Branch: master CommitID:77864da82f25a9e1e43c14b2cba68c2049a3ee3e 154881-154886 --> testing issues Upstream job id: Generic-DPDK-Compile-Meson#404058 Test environment and result as below: +-------------------------------+--------------------+-------------------+-------------------------+----------------------+-------------------+------------------+ | Environment | dpdk_meson_compile | dpdk_msvc_compile | dpdk_llvm_clang_compile | dpdk_mingw64_compile | dpdk_compile_spdk | dpdk_compile_ovs | +===============================+====================+===================+=========================+======================+===================+==================+ | Ubuntu 20.04 | PASS | SKIPPED | SKIPPED | SKIPPED | SKIPPED | SKIPPED | +-------------------------------+--------------------+-------------------+-------------------------+----------------------+-------------------+------------------+ | CentOS Stream 9 | PASS | SKIPPED | SKIPPED | SKIPPED | PASS | SKIPPED | +-------------------------------+--------------------+-------------------+-------------------------+----------------------+-------------------+------------------+ | CentOS Stream 10 | PASS | SKIPPED | SKIPPED | SKIPPED | SKIPPED | SKIPPED | +-------------------------------+--------------------+-------------------+-------------------------+----------------------+-------------------+------------------+ | Debian GNU/Linux 12 | PASS | SKIPPED | SKIPPED | SKIPPED | PASS | SKIPPED | +-------------------------------+--------------------+-------------------+-------------------------+----------------------+-------------------+------------------+ | Fedora Linux 40 | PEND | SKIPPED | SKIPPED | SKIPPED | PEND | SKIPPED | +-------------------------------+--------------------+-------------------+-------------------------+----------------------+-------------------+------------------+ | Fedora Linux 41 | PASS | SKIPPED | SKIPPED | SKIPPED | PASS | PASS | +-------------------------------+--------------------+-------------------+-------------------------+----------------------+-------------------+------------------+ | openSUSE Leap 15.6 | PASS | SKIPPED | SKIPPED | SKIPPED | SKIPPED | SKIPPED | +-------------------------------+--------------------+-------------------+-------------------------+----------------------+-------------------+------------------+ | Red Hat Enterprise Linux 8.10 | PASS | SKIPPED | SKIPPED | SKIPPED | SKIPPED | SKIPPED | +-------------------------------+--------------------+-------------------+-------------------------+----------------------+-------------------+------------------+ | Red Hat Enterprise Linux 9.5 | PASS | SKIPPED | SKIPPED | SKIPPED | SKIPPED | SKIPPED | +-------------------------------+--------------------+-------------------+-------------------------+----------------------+-------------------+------------------+ | Ubuntu 22.04 | PEND | SKIPPED | SKIPPED | SKIPPED | PEND | SKIPPED | +-------------------------------+--------------------+-------------------+-------------------------+----------------------+-------------------+------------------+ | Ubuntu 24.04 | PASS | SKIPPED | SKIPPED | SKIPPED | PASS | PASS | +-------------------------------+--------------------+-------------------+-------------------------+----------------------+-------------------+------------------+ | Alpine Linux 3.22.0 | PASS | SKIPPED | SKIPPED | SKIPPED | SKIPPED | SKIPPED | +-------------------------------+--------------------+-------------------+-------------------------+----------------------+-------------------+------------------+ | Windows Server 2022 | SKIPPED | PASS | PASS | PASS | SKIPPED | SKIPPED | +-------------------------------+--------------------+-------------------+-------------------------+----------------------+-------------------+------------------+ Ubuntu 20.04 Kernel: 4.19 Compiler: gcc gcc (Ubuntu 9.4.0-1ubuntu1~20.04.2) 9.4.0 CentOS Stream 9 Kernel: 5.15 Compiler: gcc gcc (GCC) 11.5.0 20240719 (Red Hat 11.5.0-7) CentOS Stream 10 Kernel: 5.15 Compiler: gcc gcc (GCC) 14.2.1 20250110 (Red Hat 14.2.1-8) Debian GNU/Linux 12 Kernel: 5.15 Compiler: gcc gcc (Debian 12.2.0-14+deb12u1) 12.2.0 Fedora Linux 40 Kernel: 5.15 Compiler: clang gcc (GCC) 14.2.1 20240912 (Red Hat 14.2.1-3) Fedora Linux 41 Kernel: 5.15 Compiler: clang gcc (GCC) 14.3.1 20250523 (Red Hat 14.3.1-1) openSUSE Leap 15.6 Kernel: 5.15 Compiler: gcc gcc (SUSE Linux) 7.5.0 Red Hat Enterprise Linux 8.10 Kernel: 5.15 Compiler: gcc gcc (GCC) 8.5.0 20210514 (Red Hat 8.5.0-22) Red Hat Enterprise Linux 9.5 Kernel: 5.15 Compiler: gcc gcc (GCC) 11.5.0 20240719 (Red Hat 11.5.0-2) Ubuntu 22.04 Kernel: 5.15 Compiler: gcc gcc (Ubuntu 11.4.0-1ubuntu1~22.04) 11.4.0 Ubuntu 24.04 Kernel: 5.15 Compiler: gcc gcc (Ubuntu 13.3.0-6ubuntu2~24.04) 13.3.0 Alpine Linux 3.22.0 Kernel: 5.15 Compiler: gcc gcc (Alpine 14.2.0) 14.2.0 Windows Server 2022 Kernel: 10.0.20348.2031 Compiler: clang 15.0.7, gcc 14.1.0 (MinGW), and MSVC VS 19.39.33521 To view detailed results, visit: https://lab.dpdk.org/results/dashboard/patchsets/33549/ UNH-IOL DPDK Community Lab To manage your email subscriptions, visit: https://lab.dpdk.org/results/dashboard/preferences/subscriptions/