From mboxrd@z Thu Jan 1 00:00:00 1970 Return-Path: Received: from mails.dpdk.org (mails.dpdk.org [217.70.189.124]) by inbox.dpdk.org (Postfix) with ESMTP id A859146ACE for ; Tue, 1 Jul 2025 13:07:04 +0200 (CEST) Received: from mails.dpdk.org (localhost [127.0.0.1]) by mails.dpdk.org (Postfix) with ESMTP id A27F1400D7; Tue, 1 Jul 2025 13:07:04 +0200 (CEST) Received: from mail-il1-f226.google.com (mail-il1-f226.google.com [209.85.166.226]) by mails.dpdk.org (Postfix) with ESMTP id CD7A8400D7 for ; Tue, 1 Jul 2025 13:07:03 +0200 (CEST) Received: by mail-il1-f226.google.com with SMTP id e9e14a558f8ab-3de2b02c69eso17787825ab.1 for ; Tue, 01 Jul 2025 04:07:03 -0700 (PDT) DKIM-Signature: v=1; a=rsa-sha256; c=relaxed/relaxed; d=iol.unh.edu; s=unh-iol; t=1751368023; x=1751972823; darn=dpdk.org; h=references:in-reply-to:cc:to:from:subject:message-id:date:from:to :cc:subject:date:message-id:reply-to; bh=OXy0Gvzkk7o3a4IxjnV/MQMi0rCe4ViW2IGlDuiO2q4=; b=L/gWqsZdgBiICNEIplAIzQRQz5z8+u15BHRmUUO5RhJT7vrrqha78vKvFLYnTkS7aJ 2QE3ULhyYOS3AR1IVcOx4xFdK66Gi9EiC0cIB3Aof63OXpVVOlfstrvsYTVCddf87YRh IBUY+qYeia7uMOpR8neiitgjzHQ7pxVe7Injw= X-Google-DKIM-Signature: v=1; a=rsa-sha256; c=relaxed/relaxed; d=1e100.net; s=20230601; t=1751368023; x=1751972823; h=references:in-reply-to:cc:to:from:subject:message-id:date :x-gm-message-state:from:to:cc:subject:date:message-id:reply-to; bh=OXy0Gvzkk7o3a4IxjnV/MQMi0rCe4ViW2IGlDuiO2q4=; b=NVBcVSuJ6B+EokVHmXT/Ctu2H6BQkKQr2uvreu4XU9Qk2iJa27dp8A4KEqTpcgNWEE QpiF/XwOs9OjnQzPoeiu13RXdmQHA3z6bF+1R6JzJFgHmiv1m1sxoPTmNxxlsruD62f5 7wq/fMxtihLNJXnHnV2GgKpsuKZeOZTsNaantaLfn987XwdNqeXeG4aAXBMcVNm8GDZQ /onUMIQp0UblwmWTdDnrmjIMAbFyaQ8IR78Yf7a6+cN46VZrmlH3HQFWNxcs5NAsYyQa 5rVVkXtXBLUDhOAs5t2TZJQ7H9LBBn2gQc5lBeGPATK+a8Gpg+AL/KhZ8kmKepODrNBm ECvA== X-Gm-Message-State: AOJu0YzonhJXlM8CxWTjMFDk+0SQ5FshjFrq0sUQ8I91a1W8QlJR7DUN 5WKoppYzvVJsD5eW9P5+Ug4KBPXIwVBaMYKJXN2yB3mg1Xi5Uu84PEfyX1J1JnXMnqPH7kZibVI uCdT6rPBxmt8iW2UhBPJrYUumPDIhR/rxIcjGC0f8MsLI X-Gm-Gg: ASbGncvTrr3UX4o67NGmmFEsRrzGwdOL4zEIun6iy9rGEdH8Us4kDI4x1ufA7QgynXI gOJhASRpsu2TJKdxBQUTMCYhhFqSOo/AnjxHVo04szA2Qk3ds7mP0z90SMRVddCvXCJHfpQho05 Djlp23Hwttk4IssCmbA8KU66FgWHDZPYY/h77lvLo6brEWY1QzwyBM6rwBpk1bsR6WiF18c8pZE riQpu2FwbMj3wvSlHATHybaDFLr3SOvwxDvFHE/q8E7MzePFj2Z8ijTPr216X2heasQQMC41Vgv HhG0I+pT743s+MI+lIwprmFUKZjLUaFIkHWSbrnj2kBzkiFjX0Laq4XwLzhr3/VydPMuBg== X-Google-Smtp-Source: AGHT+IG0Ny2xdAy17BJBJf9jSnb9TdRvnyt5yVAfOSaJ9QyK7uQpSs+nHk4m8Qnrik4VJornzOBYrrf2Ey7k X-Received: by 2002:a05:6e02:1c08:b0:3df:3598:7688 with SMTP id e9e14a558f8ab-3df4acf494emr217154455ab.21.1751368022985; Tue, 01 Jul 2025 04:07:02 -0700 (PDT) Received: from postal.iol.unh.edu (postal.iol.unh.edu. [132.177.123.84]) by smtp-relay.gmail.com with ESMTPS id e9e14a558f8ab-3df4a0cce52sm5866125ab.66.2025.07.01.04.07.02 (version=TLS1_2 cipher=ECDHE-ECDSA-AES128-GCM-SHA256 bits=128/128); Tue, 01 Jul 2025 04:07:02 -0700 (PDT) X-Relaying-Domain: iol.unh.edu Date: Tue, 01 Jul 2025 04:07:02 -0700 (PDT) Message-ID: <6863c156.050a0220.1540e5.0862SMTPIN_ADDED_MISSING@mx.google.com> Received: from [172.21.0.5] (unknown [172.18.0.240]) by postal.iol.unh.edu (Postfix) with ESMTP id 77BF36051830; Tue, 1 Jul 2025 07:07:02 -0400 (EDT) Subject: |SUCCESS| pw154889-154890 [PATCH] [v2,6/6] net/hns3: VF support mult From: dpdklab@iol.unh.edu To: Test Report Cc: dpdk-test-reports@iol.unh.edu In-Reply-To: <20250701064512.3868175-7-huangdengdui@huawei.com> References: <20250701064512.3868175-7-huangdengdui@huawei.com> Content-Type: text/plain X-BeenThere: test-report@dpdk.org X-Mailman-Version: 2.1.29 Precedence: list List-Id: automatic DPDK test reports List-Unsubscribe: , List-Archive: List-Post: List-Help: List-Subscribe: , Errors-To: test-report-bounces@dpdk.org Test-Label: iol-abi-testing Test-Status: SUCCESS http://dpdk.org/patch/154890 _Testing PASS_ Submitter: Dengdui Huang Date: Tuesday, July 01 2025 06:45:12 DPDK git baseline: Repo:dpdk Branch: master CommitID:77864da82f25a9e1e43c14b2cba68c2049a3ee3e 154889-154890 --> testing pass Upstream job id: Generic-DPDK-Compile-ABI#132529 Test environment and result as below: +-------------------------------+----------+ | Environment | abi_test | +===============================+==========+ | CentOS Stream 9 | PASS | +-------------------------------+----------+ | CentOS Stream 10 | PASS | +-------------------------------+----------+ | Fedora Linux 40 | PASS | +-------------------------------+----------+ | Debian GNU/Linux 12 | PASS | +-------------------------------+----------+ | Fedora Linux 41 | PASS | +-------------------------------+----------+ | openSUSE Leap 15.6 | PASS | +-------------------------------+----------+ | Red Hat Enterprise Linux 8.10 | PASS | +-------------------------------+----------+ | Red Hat Enterprise Linux 9.5 | PASS | +-------------------------------+----------+ | Ubuntu 22.04 | PASS | +-------------------------------+----------+ | Ubuntu 24.04 | PASS | +-------------------------------+----------+ CentOS Stream 9 Kernel: 5.15 Compiler: gcc gcc (GCC) 11.5.0 20240719 (Red Hat 11.5.0-7) CentOS Stream 10 Kernel: 5.15 Compiler: gcc gcc (GCC) 14.2.1 20250110 (Red Hat 14.2.1-8) Fedora Linux 40 Kernel: 5.15 Compiler: clang gcc (GCC) 14.2.1 20240912 (Red Hat 14.2.1-3) Debian GNU/Linux 12 Kernel: 5.15 Compiler: gcc gcc (Debian 12.2.0-14+deb12u1) 12.2.0 Fedora Linux 41 Kernel: 5.15 Compiler: clang gcc (GCC) 14.3.1 20250523 (Red Hat 14.3.1-1) openSUSE Leap 15.6 Kernel: 5.15 Compiler: gcc gcc (SUSE Linux) 7.5.0 Red Hat Enterprise Linux 8.10 Kernel: 5.15 Compiler: gcc gcc (GCC) 8.5.0 20210514 (Red Hat 8.5.0-22) Red Hat Enterprise Linux 9.5 Kernel: 5.15 Compiler: gcc gcc (GCC) 11.5.0 20240719 (Red Hat 11.5.0-2) Ubuntu 22.04 Kernel: 5.15 Compiler: gcc gcc (Ubuntu 11.4.0-1ubuntu1~22.04) 11.4.0 Ubuntu 24.04 Kernel: 5.15 Compiler: gcc gcc (Ubuntu 13.3.0-6ubuntu2~24.04) 13.3.0 To view detailed results, visit: https://lab.dpdk.org/results/dashboard/patchsets/33550/ UNH-IOL DPDK Community Lab To manage your email subscriptions, visit: https://lab.dpdk.org/results/dashboard/preferences/subscriptions/