From mboxrd@z Thu Jan 1 00:00:00 1970 Return-Path: Received: from mails.dpdk.org (mails.dpdk.org [217.70.189.124]) by inbox.dpdk.org (Postfix) with ESMTP id 4B2E446ACE for ; Tue, 1 Jul 2025 13:21:15 +0200 (CEST) Received: from mails.dpdk.org (localhost [127.0.0.1]) by mails.dpdk.org (Postfix) with ESMTP id 2AB97400D7; Tue, 1 Jul 2025 13:21:15 +0200 (CEST) Received: from mail-yb1-f228.google.com (mail-yb1-f228.google.com [209.85.219.228]) by mails.dpdk.org (Postfix) with ESMTP id AFE96400D7 for ; Tue, 1 Jul 2025 13:21:13 +0200 (CEST) Received: by mail-yb1-f228.google.com with SMTP id 3f1490d57ef6-e731a56e111so2587435276.1 for ; Tue, 01 Jul 2025 04:21:13 -0700 (PDT) DKIM-Signature: v=1; a=rsa-sha256; c=relaxed/relaxed; d=iol.unh.edu; s=unh-iol; t=1751368873; x=1751973673; darn=dpdk.org; h=references:in-reply-to:cc:to:from:subject:message-id:date:from:to :cc:subject:date:message-id:reply-to; bh=+Ogd1Q6q+WKYCNFdHTx3WJdgzaVsD04APH3egSIUH9E=; b=hZjyM3M8mFkVLvB/wwtOmEqkMBZbFpM5OG2DcNr224TrPSbrYNDEzAYOHLwP/BQo56 /knQp86WeK2SwYqCdqP0ioZIHG+WOeuLmbHcT59oNsM+XkXllZSFKdSUZV7Nmag8Lvn2 Grcb5n658l5qUe1R+rj9Ca7h4AJe6U3HnFtGg= X-Google-DKIM-Signature: v=1; a=rsa-sha256; c=relaxed/relaxed; d=1e100.net; s=20230601; t=1751368873; x=1751973673; h=references:in-reply-to:cc:to:from:subject:message-id:date :x-gm-message-state:from:to:cc:subject:date:message-id:reply-to; bh=+Ogd1Q6q+WKYCNFdHTx3WJdgzaVsD04APH3egSIUH9E=; b=ZjSlGEB7u/9DPxQdwPzW5Y78WhRBw8w4bx/Qis1N+AoOQmtgHG/yOapC8sJZdLTIqw ipw3hbFzgS80NylJoVU0lq1yX/9LoL6MJbEn/nXPupMqcwdJpj0tVGWGWYBtou6GmYrY 6ZzjIRI3Y00/XGODfK3S2lJYnVEQ9LrfUj1A3I14OLbgOcwBvlaOheakhIf3Bro+lhn2 oKEZD121CaGgwoSzOMNdFmKUk0QnQDvFAL02jvai1S45QFfnFQCdiCY0sfeyYzrKzbJi KiA9dHLpw0DeLyM/bsAxdHhSdiXu/MH6fkUVeEsYBeZxC5hST4TeAcSEZM26fWviw4o3 xnXA== X-Gm-Message-State: AOJu0Yyao4K7A3HJl3XG25dex/eyt9p7MwXBDpgPCYXMrVeJ0ZohYOfl aBi0OiXUsyUS0+g8nwvOPTJuf+GfGM5TweB4U3O6EglpvR03p2Bmj2aMnGdSQZ3SYGwlRfZ+JhQ QKCRemJJ4cVmZHKEu3RzO3NMon947NOzYlUYgfdnl2njy X-Gm-Gg: ASbGnctKPDF4M0vW10WJEdszBEHVf31cSMFc9u3DNijdWScTLldja3+iE2p+yRYisDR ILmD2VfkPNJ5N5nLJ0fYdnw9csJ/jyXO6sFOw87slu/aB0G3FfAsE0sO8WTuFtkpSseX90BDhXh Q7Rcj5SlYGSY3X5vG9RdY9LYBxnks32rwGWjSarc3B2oKuEKh+0JaRYZbzbiaav9ZBh9kaJPjsF eWSoTw5fHwpk9YAAeq30SQmdfyWd6+3uKozaI8KHbOOTZ0I3RAybSCFGS/vkHy2SF6QX46FCzwj i+h6MdnzDZxT3teikwIzG7USPqV44zpEz1mUH+bvxfz3sSQKWJKydZHBlunw5A+qeqRuXQ== X-Google-Smtp-Source: AGHT+IH0G+kM47x3WRuYP7/efVCs7TdpgNlgATnkAnOxl69a9tlB/lPAEREKcNBJ8cTIf5jE26yR337gxyQC X-Received: by 2002:a05:690c:319:b0:712:d824:9202 with SMTP id 00721157ae682-715171471femr210349187b3.9.1751368872970; Tue, 01 Jul 2025 04:21:12 -0700 (PDT) Received: from postal.iol.unh.edu (postal.iol.unh.edu. [132.177.123.84]) by smtp-relay.gmail.com with ESMTPS id 00721157ae682-71515cea08csm3134897b3.61.2025.07.01.04.21.12 (version=TLS1_2 cipher=ECDHE-ECDSA-AES128-GCM-SHA256 bits=128/128); Tue, 01 Jul 2025 04:21:12 -0700 (PDT) X-Relaying-Domain: iol.unh.edu Date: Tue, 01 Jul 2025 04:21:12 -0700 (PDT) Message-ID: <6863c4a8.050a0220.2764e.0421SMTPIN_ADDED_MISSING@mx.google.com> Received: from [172.17.0.3] (unknown [172.18.0.74]) by postal.iol.unh.edu (Postfix) with ESMTP id 9809B6051830; Tue, 1 Jul 2025 07:21:12 -0400 (EDT) Subject: |WARNING| pw154881-154886 [PATCH] [v7,6/6] net/dpaa2: enable softwar From: dpdklab@iol.unh.edu To: Test Report Cc: dpdk-test-reports@iol.unh.edu In-Reply-To: <20250701042917.3000355-7-g.singh@nxp.com> References: <20250701042917.3000355-7-g.singh@nxp.com> Content-Type: text/plain X-BeenThere: test-report@dpdk.org X-Mailman-Version: 2.1.29 Precedence: list List-Id: automatic DPDK test reports List-Unsubscribe: , List-Archive: List-Post: List-Help: List-Subscribe: , Errors-To: test-report-bounces@dpdk.org Test-Label: iol-compile-amd64-testing Test-Status: WARNING http://dpdk.org/patch/154886 _Testing issues_ Submitter: Gagandeep Singh Date: Tuesday, July 01 2025 04:29:17 DPDK git baseline: Repo:dpdk Branch: master CommitID:77864da82f25a9e1e43c14b2cba68c2049a3ee3e 154881-154886 --> testing issues Upstream job id: Generic-DPDK-Compile-Meson#404059 Test environment and result as below: +-------------------------------+--------------------+-------------------+-------------------------+----------------------+-------------------+------------------+ | Environment | dpdk_meson_compile | dpdk_msvc_compile | dpdk_llvm_clang_compile | dpdk_mingw64_compile | dpdk_compile_spdk | dpdk_compile_ovs | +===============================+====================+===================+=========================+======================+===================+==================+ | Ubuntu 20.04 | PASS | SKIPPED | SKIPPED | SKIPPED | SKIPPED | SKIPPED | +-------------------------------+--------------------+-------------------+-------------------------+----------------------+-------------------+------------------+ | CentOS Stream 9 | PASS | SKIPPED | SKIPPED | SKIPPED | PASS | SKIPPED | +-------------------------------+--------------------+-------------------+-------------------------+----------------------+-------------------+------------------+ | CentOS Stream 10 | PASS | SKIPPED | SKIPPED | SKIPPED | SKIPPED | SKIPPED | +-------------------------------+--------------------+-------------------+-------------------------+----------------------+-------------------+------------------+ | Debian GNU/Linux 12 | PASS | SKIPPED | SKIPPED | SKIPPED | PASS | SKIPPED | +-------------------------------+--------------------+-------------------+-------------------------+----------------------+-------------------+------------------+ | Fedora Linux 40 | PASS | SKIPPED | SKIPPED | SKIPPED | PASS | SKIPPED | +-------------------------------+--------------------+-------------------+-------------------------+----------------------+-------------------+------------------+ | Fedora Linux 41 | PASS | SKIPPED | SKIPPED | SKIPPED | PASS | PASS | +-------------------------------+--------------------+-------------------+-------------------------+----------------------+-------------------+------------------+ | openSUSE Leap 15.6 | PASS | SKIPPED | SKIPPED | SKIPPED | SKIPPED | SKIPPED | +-------------------------------+--------------------+-------------------+-------------------------+----------------------+-------------------+------------------+ | Red Hat Enterprise Linux 8.10 | PASS | SKIPPED | SKIPPED | SKIPPED | SKIPPED | SKIPPED | +-------------------------------+--------------------+-------------------+-------------------------+----------------------+-------------------+------------------+ | Red Hat Enterprise Linux 9.5 | PASS | SKIPPED | SKIPPED | SKIPPED | SKIPPED | SKIPPED | +-------------------------------+--------------------+-------------------+-------------------------+----------------------+-------------------+------------------+ | Ubuntu 22.04 | PASS | SKIPPED | SKIPPED | SKIPPED | PASS | SKIPPED | +-------------------------------+--------------------+-------------------+-------------------------+----------------------+-------------------+------------------+ | Ubuntu 24.04 | PASS | SKIPPED | SKIPPED | SKIPPED | PASS | PASS | +-------------------------------+--------------------+-------------------+-------------------------+----------------------+-------------------+------------------+ | Alpine Linux 3.22.0 | PASS | SKIPPED | SKIPPED | SKIPPED | SKIPPED | SKIPPED | +-------------------------------+--------------------+-------------------+-------------------------+----------------------+-------------------+------------------+ | Windows Server 2022 | SKIPPED | PASS | PASS | PASS | SKIPPED | SKIPPED | +-------------------------------+--------------------+-------------------+-------------------------+----------------------+-------------------+------------------+ Ubuntu 20.04 Kernel: 4.19 Compiler: gcc gcc (Ubuntu 9.4.0-1ubuntu1~20.04.2) 9.4.0 CentOS Stream 9 Kernel: 5.15 Compiler: gcc gcc (GCC) 11.5.0 20240719 (Red Hat 11.5.0-7) CentOS Stream 10 Kernel: 5.15 Compiler: gcc gcc (GCC) 14.2.1 20250110 (Red Hat 14.2.1-8) Debian GNU/Linux 12 Kernel: 5.15 Compiler: gcc gcc (Debian 12.2.0-14+deb12u1) 12.2.0 Fedora Linux 40 Kernel: 5.15 Compiler: clang gcc (GCC) 14.2.1 20240912 (Red Hat 14.2.1-3) Fedora Linux 41 Kernel: 5.15 Compiler: clang gcc (GCC) 14.3.1 20250523 (Red Hat 14.3.1-1) openSUSE Leap 15.6 Kernel: 5.15 Compiler: gcc gcc (SUSE Linux) 7.5.0 Red Hat Enterprise Linux 8.10 Kernel: 5.15 Compiler: gcc gcc (GCC) 8.5.0 20210514 (Red Hat 8.5.0-22) Red Hat Enterprise Linux 9.5 Kernel: 5.15 Compiler: gcc gcc (GCC) 11.5.0 20240719 (Red Hat 11.5.0-2) Ubuntu 22.04 Kernel: 5.15 Compiler: gcc gcc (Ubuntu 11.4.0-1ubuntu1~22.04) 11.4.0 Ubuntu 24.04 Kernel: 5.15 Compiler: gcc gcc (Ubuntu 13.3.0-6ubuntu2~24.04) 13.3.0 Alpine Linux 3.22.0 Kernel: 5.15 Compiler: gcc gcc (Alpine 14.2.0) 14.2.0 Windows Server 2022 Kernel: 10.0.20348.2031 Compiler: clang 15.0.7, gcc 14.1.0 (MinGW), and MSVC VS 19.39.33521 To view detailed results, visit: https://lab.dpdk.org/results/dashboard/patchsets/33549/ UNH-IOL DPDK Community Lab To manage your email subscriptions, visit: https://lab.dpdk.org/results/dashboard/preferences/subscriptions/