From mboxrd@z Thu Jan 1 00:00:00 1970 Return-Path: Received: from mails.dpdk.org (mails.dpdk.org [217.70.189.124]) by inbox.dpdk.org (Postfix) with ESMTP id 3100D46AC4 for ; Tue, 1 Jul 2025 13:31:05 +0200 (CEST) Received: from mails.dpdk.org (localhost [127.0.0.1]) by mails.dpdk.org (Postfix) with ESMTP id 106E9400D7; Tue, 1 Jul 2025 13:31:05 +0200 (CEST) Received: from mail-pl1-f225.google.com (mail-pl1-f225.google.com [209.85.214.225]) by mails.dpdk.org (Postfix) with ESMTP id 70D76400D7 for ; Tue, 1 Jul 2025 13:31:03 +0200 (CEST) Received: by mail-pl1-f225.google.com with SMTP id d9443c01a7336-2363e973db1so50111595ad.0 for ; Tue, 01 Jul 2025 04:31:03 -0700 (PDT) DKIM-Signature: v=1; a=rsa-sha256; c=relaxed/relaxed; d=iol.unh.edu; s=unh-iol; t=1751369462; x=1751974262; darn=dpdk.org; h=references:in-reply-to:cc:to:from:subject:message-id:date:from:to :cc:subject:date:message-id:reply-to; bh=/+6YXLwbHIXi7XzR8vb6FH2M7ZvVEylznmj694ErGfo=; b=IbQn4JC5GHPwS8PZMS6GtBHqmo+IWVlaILlvJZ41bNDm9Kk+W3rfemM5FkjiPyuuc/ 1DkY/NdKxsOx388hozdPVfFTRH/N9a9tyPLmZb8rVxcCzsU8tvpI12Zdq2t3/aR8j/xT 71xfoq3/AZ9YAUW3Kw5wPxQ0hXPqiy3wspUTQ= X-Google-DKIM-Signature: v=1; a=rsa-sha256; c=relaxed/relaxed; d=1e100.net; s=20230601; t=1751369462; x=1751974262; h=references:in-reply-to:cc:to:from:subject:message-id:date :x-gm-message-state:from:to:cc:subject:date:message-id:reply-to; bh=/+6YXLwbHIXi7XzR8vb6FH2M7ZvVEylznmj694ErGfo=; b=NSmdrakJlbUp/jcv5dIkEqF+ru28L5O7dbl/528fP1WExcRtreXSRxy7Lb/ANqVx9q WwXMl0Kh7W08ZGkV+UlXvtM9tHG5yte5MYy8WcY57MDEo2hHWDnRK8Jogoko0Bhqx0zR go5qspGz9bJGzvMds9DUwSCSDcR2MKsgBlG3CtuGeMsHzG9eyXn8bfXsUeH/Bdti4ScU axR5VcgdN77nf2/Wkzb6LFLCbzL5CDGI7pdZsSHv5DjRmy0qV07IHX4WD5iA+Fs0rcQO 13eEhb6/kwKMQH86Jp9O68YsUI5X7N7XDpXRj/zDSvR/QTMJOEfVJdxCZif0/Wz5O2z7 /nTg== X-Gm-Message-State: AOJu0YyHFOZSWNLZZS8NeB5NAXVboZHcw6oO2AtAZpJyRYGiFe407EI8 FH5QgpBaNa41yycDImt6xCNncl7SKCL/pONcVzkrm0d/q3sJleLJEsXGMStfCbU7ruFO76Vjz/Q qcl7QUCGsK7EhgroYHV+XNmw+e4zBTt3nSUkMwwoWSbpD X-Gm-Gg: ASbGncvueL6951QT54rA9c7M8GNhvml006yI8LMElqOnxM01MhAO/2pkpEBMmpWJlUw BTb3SYx0mkAmw/bWJ/ItdtDd/uyygNCjwPWPdHxju2Xt5bik0cYK9mWnIhp1YLhMTUO9doNLrmZ m3AYrxGwVQA+/vkd9XO0Vc7ctroWMlE+Sa3uaQj4ozaXH6L/++2Tyvs8+DDRUMwE60PDjA9TC8b WdWGga3X2KOdjFgqGKXxFHhXp+WekXCyGl5LhJKpf61SKrLkLQv1lpkT/va/tsIVWbWkSio5+/l tjJbYhUjj1ilanKZlnS7MeCEI0swSvXkLvdmAts3nHe7gX+GtLxlAiulEc9TINCSFL/xKQ== X-Google-Smtp-Source: AGHT+IEE93YU0c2XyuRqv3fwOpovbHqvqB4L57eslj66eenzZptkjU66C4Rcgrh8IkIo6al7Nw4ionw+oXbA X-Received: by 2002:a17:902:ec91:b0:234:7837:91de with SMTP id d9443c01a7336-23b355b3588mr52730355ad.26.1751369462261; Tue, 01 Jul 2025 04:31:02 -0700 (PDT) Received: from postal.iol.unh.edu (postal.iol.unh.edu. [132.177.123.84]) by smtp-relay.gmail.com with ESMTPS id d9443c01a7336-23acb2e245asm5169255ad.15.2025.07.01.04.31.02 (version=TLS1_2 cipher=ECDHE-ECDSA-AES128-GCM-SHA256 bits=128/128); Tue, 01 Jul 2025 04:31:02 -0700 (PDT) X-Relaying-Domain: iol.unh.edu Date: Tue, 01 Jul 2025 04:31:02 -0700 (PDT) Message-ID: <6863c6f6.170a0220.8c202.d399SMTPIN_ADDED_MISSING@mx.google.com> Received: from [172.21.0.8] (unknown [172.18.0.240]) by postal.iol.unh.edu (Postfix) with ESMTP id BAD7C6051830; Tue, 1 Jul 2025 07:31:01 -0400 (EDT) Subject: |WARNING| pw154889-154890 [PATCH] [v2,6/6] net/hns3: VF support mult From: dpdklab@iol.unh.edu To: Test Report Cc: dpdk-test-reports@iol.unh.edu In-Reply-To: <20250701064512.3868175-7-huangdengdui@huawei.com> References: <20250701064512.3868175-7-huangdengdui@huawei.com> Content-Type: text/plain X-BeenThere: test-report@dpdk.org X-Mailman-Version: 2.1.29 Precedence: list List-Id: automatic DPDK test reports List-Unsubscribe: , List-Archive: List-Post: List-Help: List-Subscribe: , Errors-To: test-report-bounces@dpdk.org Test-Label: iol-compile-amd64-testing Test-Status: WARNING http://dpdk.org/patch/154890 _Testing issues_ Submitter: Dengdui Huang Date: Tuesday, July 01 2025 06:45:12 DPDK git baseline: Repo:dpdk Branch: master CommitID:77864da82f25a9e1e43c14b2cba68c2049a3ee3e 154889-154890 --> testing issues Upstream job id: Generic-DPDK-Compile-Meson#404097 Test environment and result as below: +-------------------------------+-------------------------+--------------------+-------------------+----------------------+-------------------+------------------+ | Environment | dpdk_llvm_clang_compile | dpdk_meson_compile | dpdk_msvc_compile | dpdk_mingw64_compile | dpdk_compile_spdk | dpdk_compile_ovs | +===============================+=========================+====================+===================+======================+===================+==================+ | Windows Server 2022 | PASS | SKIPPED | PASS | PASS | SKIPPED | SKIPPED | +-------------------------------+-------------------------+--------------------+-------------------+----------------------+-------------------+------------------+ | Ubuntu 20.04 | SKIPPED | PASS | SKIPPED | SKIPPED | SKIPPED | SKIPPED | +-------------------------------+-------------------------+--------------------+-------------------+----------------------+-------------------+------------------+ | FreeBSD 14.2 | SKIPPED | PASS | SKIPPED | SKIPPED | SKIPPED | SKIPPED | +-------------------------------+-------------------------+--------------------+-------------------+----------------------+-------------------+------------------+ | CentOS Stream 9 | SKIPPED | PASS | SKIPPED | SKIPPED | PASS | SKIPPED | +-------------------------------+-------------------------+--------------------+-------------------+----------------------+-------------------+------------------+ | CentOS Stream 10 | SKIPPED | PASS | SKIPPED | SKIPPED | SKIPPED | SKIPPED | +-------------------------------+-------------------------+--------------------+-------------------+----------------------+-------------------+------------------+ | Debian GNU/Linux 12 | SKIPPED | PEND | SKIPPED | SKIPPED | PEND | SKIPPED | +-------------------------------+-------------------------+--------------------+-------------------+----------------------+-------------------+------------------+ | Fedora Linux 40 | SKIPPED | PASS | SKIPPED | SKIPPED | PASS | SKIPPED | +-------------------------------+-------------------------+--------------------+-------------------+----------------------+-------------------+------------------+ | Fedora Linux 41 | SKIPPED | PASS | SKIPPED | SKIPPED | PASS | PASS | +-------------------------------+-------------------------+--------------------+-------------------+----------------------+-------------------+------------------+ | openSUSE Leap 15.6 | SKIPPED | PASS | SKIPPED | SKIPPED | SKIPPED | SKIPPED | +-------------------------------+-------------------------+--------------------+-------------------+----------------------+-------------------+------------------+ | Red Hat Enterprise Linux 8.10 | SKIPPED | PASS | SKIPPED | SKIPPED | SKIPPED | SKIPPED | +-------------------------------+-------------------------+--------------------+-------------------+----------------------+-------------------+------------------+ | Red Hat Enterprise Linux 9.5 | SKIPPED | PASS | SKIPPED | SKIPPED | SKIPPED | SKIPPED | +-------------------------------+-------------------------+--------------------+-------------------+----------------------+-------------------+------------------+ | Ubuntu 22.04 | SKIPPED | PASS | SKIPPED | SKIPPED | PASS | SKIPPED | +-------------------------------+-------------------------+--------------------+-------------------+----------------------+-------------------+------------------+ | Ubuntu 24.04 | SKIPPED | PASS | SKIPPED | SKIPPED | PASS | PASS | +-------------------------------+-------------------------+--------------------+-------------------+----------------------+-------------------+------------------+ | Alpine Linux 3.22.0 | SKIPPED | PEND | SKIPPED | SKIPPED | SKIPPED | SKIPPED | +-------------------------------+-------------------------+--------------------+-------------------+----------------------+-------------------+------------------+ Windows Server 2022 Kernel: 10.0.20348.2031 Compiler: clang 15.0.7, gcc 14.1.0 (MinGW), and MSVC VS 19.39.33521 Ubuntu 20.04 Kernel: 4.19 Compiler: gcc gcc (Ubuntu 9.4.0-1ubuntu1~20.04.2) 9.4.0 FreeBSD 14.2 Kernel: 14.2-RELEASE Compiler: clang 18.1.6 CentOS Stream 9 Kernel: 5.15 Compiler: gcc gcc (GCC) 11.5.0 20240719 (Red Hat 11.5.0-7) CentOS Stream 10 Kernel: 5.15 Compiler: gcc gcc (GCC) 14.2.1 20250110 (Red Hat 14.2.1-8) Debian GNU/Linux 12 Kernel: 5.15 Compiler: gcc gcc (Debian 12.2.0-14+deb12u1) 12.2.0 Fedora Linux 40 Kernel: 5.15 Compiler: clang gcc (GCC) 14.2.1 20240912 (Red Hat 14.2.1-3) Fedora Linux 41 Kernel: 5.15 Compiler: clang gcc (GCC) 14.3.1 20250523 (Red Hat 14.3.1-1) openSUSE Leap 15.6 Kernel: 5.15 Compiler: gcc gcc (SUSE Linux) 7.5.0 Red Hat Enterprise Linux 8.10 Kernel: 5.15 Compiler: gcc gcc (GCC) 8.5.0 20210514 (Red Hat 8.5.0-22) Red Hat Enterprise Linux 9.5 Kernel: 5.15 Compiler: gcc gcc (GCC) 11.5.0 20240719 (Red Hat 11.5.0-2) Ubuntu 22.04 Kernel: 5.15 Compiler: gcc gcc (Ubuntu 11.4.0-1ubuntu1~22.04) 11.4.0 Ubuntu 24.04 Kernel: 5.15 Compiler: gcc gcc (Ubuntu 13.3.0-6ubuntu2~24.04) 13.3.0 Alpine Linux 3.22.0 Kernel: 5.15 Compiler: gcc gcc (Alpine 14.2.0) 14.2.0 To view detailed results, visit: https://lab.dpdk.org/results/dashboard/patchsets/33550/ UNH-IOL DPDK Community Lab To manage your email subscriptions, visit: https://lab.dpdk.org/results/dashboard/preferences/subscriptions/