From mboxrd@z Thu Jan 1 00:00:00 1970 Return-Path: Received: from mails.dpdk.org (mails.dpdk.org [217.70.189.124]) by inbox.dpdk.org (Postfix) with ESMTP id 2181C46AC4 for ; Tue, 1 Jul 2025 13:31:13 +0200 (CEST) Received: from mails.dpdk.org (localhost [127.0.0.1]) by mails.dpdk.org (Postfix) with ESMTP id 1C684400D7; Tue, 1 Jul 2025 13:31:13 +0200 (CEST) Received: from mail-qv1-f98.google.com (mail-qv1-f98.google.com [209.85.219.98]) by mails.dpdk.org (Postfix) with ESMTP id F08D7400D7 for ; Tue, 1 Jul 2025 13:31:11 +0200 (CEST) Received: by mail-qv1-f98.google.com with SMTP id 6a1803df08f44-6fb1be9ba89so31149466d6.2 for ; Tue, 01 Jul 2025 04:31:11 -0700 (PDT) DKIM-Signature: v=1; a=rsa-sha256; c=relaxed/relaxed; d=iol.unh.edu; s=unh-iol; t=1751369471; x=1751974271; darn=dpdk.org; h=references:in-reply-to:cc:to:from:subject:message-id:date:from:to :cc:subject:date:message-id:reply-to; bh=vuKbBg4khrl+o0pl8hcnfPA5VtbPZgSCQnLyHtRvT7o=; b=dE4XVWKRK0oSi+858d/s8vTRDJJDwTTVf/olZra8hmJqqKoo6rQT7/ZuKY2REP8gNa li6lxau8x4pfRJ5wL+iZpqYr7pYePa/NhSmh9/OLOmCg/FhAbZF2SMoiYqMn6PUO40mi qXjAXdv2nBCZs0aTUkX3ZVW9xsDZ+VeREZ758= X-Google-DKIM-Signature: v=1; a=rsa-sha256; c=relaxed/relaxed; d=1e100.net; s=20230601; t=1751369471; x=1751974271; h=references:in-reply-to:cc:to:from:subject:message-id:date :x-gm-message-state:from:to:cc:subject:date:message-id:reply-to; bh=vuKbBg4khrl+o0pl8hcnfPA5VtbPZgSCQnLyHtRvT7o=; b=nrWkjzFjULsQ4yS8VBD019V2QYbQe7vb7Hc0rRDivqb7oB6Pge5BFy9gzq6vLkcjcX WfutnOmv8D1R2ndwGhSfap08El43siLrbSglt++9if5YTta9QFvsBjPoA9FDIOguwdNb BP72hQurQ9nRWhXmOfLPhxptcQBavObxhQ5l7RO+FUpRu3a7TJw/3HzcEYtD7OwgTrY2 UNss0ZtqVlSV8/TVZNLPN+EToeEVpelGDTw16MiB8TbHJdMNlzy3RSFccDIYjAGK9eTz 0aa9/mBA3zrgZ8Lcv3pckBK/TbpocxDUDWTA1za2zIyn8nuz90lzOz/EbU97087xMXkZ zMKw== X-Gm-Message-State: AOJu0YyV74uBf2YfRtPDfKjpdPI+SzrlJlKG2YCi9y0zfWJjCynQBNlF XQs/GNfIb07Af/oMm+5gxQgKSg+304fa+Yb0rqOs8h7xr729goe6ukbgsLgM7REqZKfci4b9/XA tVdSHoaHT648aGdDR6BGIY77QRKIvHga7aXWGM+8/w6Zx X-Gm-Gg: ASbGnculwYGx+p0Y73DLjE9q2jG8JoBxO2fXcMyLctMLZrN2Pv9wSm/HBD2s0+C5XFl AzmpF8PVsHxBzVwInBg6NYiPVSVwTw6kYlY1DE7LtiU2N6WGHNfqWXIvA8lJYBhyUxlR8I2AlIZ l0Mss7zP0YhrII7BeUmWjeJT+/04vFeTczTJpjX3fb8e8bOQZmwggSYRcDUUn5vfU+Z+ublEFWL oVcCOGzqcC+4DS08jh4LyAozfusIPDEEBjXAVn8XuF6FgpVWy84ncvNnoJ4nMmVnuG+eCcOchzL fh+DgHLK8DhIFhueuK6j5kcLgaPUfacAzZQj5TGCQH+UoFG/tgrlJyql+f77kbqkeoF0tg== X-Google-Smtp-Source: AGHT+IFXyyZGpPZSSXTP69QvCDHgKB45iFSJoecnwzX9CiZUkr55/2LqYntNtdEt631ytvTQoTm+XTlV37Z9 X-Received: by 2002:a05:6214:4287:b0:6fa:faf7:7545 with SMTP id 6a1803df08f44-70002917a21mr336175276d6.31.1751369471058; Tue, 01 Jul 2025 04:31:11 -0700 (PDT) Received: from postal.iol.unh.edu (postal.iol.unh.edu. [132.177.123.84]) by smtp-relay.gmail.com with ESMTPS id 6a1803df08f44-6fd7718452esm6377156d6.10.2025.07.01.04.31.10 (version=TLS1_2 cipher=ECDHE-ECDSA-AES128-GCM-SHA256 bits=128/128); Tue, 01 Jul 2025 04:31:11 -0700 (PDT) X-Relaying-Domain: iol.unh.edu Date: Tue, 01 Jul 2025 04:31:11 -0700 (PDT) Message-ID: <6863c6ff.050a0220.2f48ed.1cbdSMTPIN_ADDED_MISSING@mx.google.com> Received: from [172.21.0.7] (unknown [172.18.0.240]) by postal.iol.unh.edu (Postfix) with ESMTP id C00D86051830; Tue, 1 Jul 2025 07:31:10 -0400 (EDT) Subject: |WARNING| pw154889-154890 [PATCH] [v2,6/6] net/hns3: VF support mult From: dpdklab@iol.unh.edu To: Test Report Cc: dpdk-test-reports@iol.unh.edu In-Reply-To: <20250701064512.3868175-7-huangdengdui@huawei.com> References: <20250701064512.3868175-7-huangdengdui@huawei.com> Content-Type: text/plain X-BeenThere: test-report@dpdk.org X-Mailman-Version: 2.1.29 Precedence: list List-Id: automatic DPDK test reports List-Unsubscribe: , List-Archive: List-Post: List-Help: List-Subscribe: , Errors-To: test-report-bounces@dpdk.org Test-Label: iol-compile-amd64-testing Test-Status: WARNING http://dpdk.org/patch/154890 _Testing issues_ Submitter: Dengdui Huang Date: Tuesday, July 01 2025 06:45:12 DPDK git baseline: Repo:dpdk Branch: master CommitID:77864da82f25a9e1e43c14b2cba68c2049a3ee3e 154889-154890 --> testing issues Upstream job id: Generic-DPDK-Compile-Meson#404108 Test environment and result as below: +-------------------------------+-------------------------+--------------------+-------------------+----------------------+-------------------+------------------+ | Environment | dpdk_llvm_clang_compile | dpdk_meson_compile | dpdk_msvc_compile | dpdk_mingw64_compile | dpdk_compile_spdk | dpdk_compile_ovs | +===============================+=========================+====================+===================+======================+===================+==================+ | Windows Server 2022 | PASS | SKIPPED | PASS | PASS | SKIPPED | SKIPPED | +-------------------------------+-------------------------+--------------------+-------------------+----------------------+-------------------+------------------+ | Ubuntu 20.04 | SKIPPED | PASS | SKIPPED | SKIPPED | SKIPPED | SKIPPED | +-------------------------------+-------------------------+--------------------+-------------------+----------------------+-------------------+------------------+ | FreeBSD 14.2 | SKIPPED | PASS | SKIPPED | SKIPPED | SKIPPED | SKIPPED | +-------------------------------+-------------------------+--------------------+-------------------+----------------------+-------------------+------------------+ | CentOS Stream 9 | SKIPPED | PASS | SKIPPED | SKIPPED | PASS | SKIPPED | +-------------------------------+-------------------------+--------------------+-------------------+----------------------+-------------------+------------------+ | CentOS Stream 10 | SKIPPED | PASS | SKIPPED | SKIPPED | SKIPPED | SKIPPED | +-------------------------------+-------------------------+--------------------+-------------------+----------------------+-------------------+------------------+ | Debian GNU/Linux 12 | SKIPPED | PEND | SKIPPED | SKIPPED | PEND | SKIPPED | +-------------------------------+-------------------------+--------------------+-------------------+----------------------+-------------------+------------------+ | Fedora Linux 40 | SKIPPED | PASS | SKIPPED | SKIPPED | PASS | SKIPPED | +-------------------------------+-------------------------+--------------------+-------------------+----------------------+-------------------+------------------+ | Fedora Linux 41 | SKIPPED | PASS | SKIPPED | SKIPPED | PASS | PASS | +-------------------------------+-------------------------+--------------------+-------------------+----------------------+-------------------+------------------+ | openSUSE Leap 15.6 | SKIPPED | PASS | SKIPPED | SKIPPED | SKIPPED | SKIPPED | +-------------------------------+-------------------------+--------------------+-------------------+----------------------+-------------------+------------------+ | Red Hat Enterprise Linux 8.10 | SKIPPED | PASS | SKIPPED | SKIPPED | SKIPPED | SKIPPED | +-------------------------------+-------------------------+--------------------+-------------------+----------------------+-------------------+------------------+ | Red Hat Enterprise Linux 9.5 | SKIPPED | PASS | SKIPPED | SKIPPED | SKIPPED | SKIPPED | +-------------------------------+-------------------------+--------------------+-------------------+----------------------+-------------------+------------------+ | Ubuntu 22.04 | SKIPPED | PASS | SKIPPED | SKIPPED | PASS | SKIPPED | +-------------------------------+-------------------------+--------------------+-------------------+----------------------+-------------------+------------------+ | Ubuntu 24.04 | SKIPPED | PASS | SKIPPED | SKIPPED | PASS | PASS | +-------------------------------+-------------------------+--------------------+-------------------+----------------------+-------------------+------------------+ | Alpine Linux 3.22.0 | SKIPPED | PEND | SKIPPED | SKIPPED | SKIPPED | SKIPPED | +-------------------------------+-------------------------+--------------------+-------------------+----------------------+-------------------+------------------+ Windows Server 2022 Kernel: 10.0.20348.2031 Compiler: clang 15.0.7, gcc 14.1.0 (MinGW), and MSVC VS 19.39.33521 Ubuntu 20.04 Kernel: 4.19 Compiler: gcc gcc (Ubuntu 9.4.0-1ubuntu1~20.04.2) 9.4.0 FreeBSD 14.2 Kernel: 14.2-RELEASE Compiler: clang 18.1.6 CentOS Stream 9 Kernel: 5.15 Compiler: gcc gcc (GCC) 11.5.0 20240719 (Red Hat 11.5.0-7) CentOS Stream 10 Kernel: 5.15 Compiler: gcc gcc (GCC) 14.2.1 20250110 (Red Hat 14.2.1-8) Debian GNU/Linux 12 Kernel: 5.15 Compiler: gcc gcc (Debian 12.2.0-14+deb12u1) 12.2.0 Fedora Linux 40 Kernel: 5.15 Compiler: clang gcc (GCC) 14.2.1 20240912 (Red Hat 14.2.1-3) Fedora Linux 41 Kernel: 5.15 Compiler: clang gcc (GCC) 14.3.1 20250523 (Red Hat 14.3.1-1) openSUSE Leap 15.6 Kernel: 5.15 Compiler: gcc gcc (SUSE Linux) 7.5.0 Red Hat Enterprise Linux 8.10 Kernel: 5.15 Compiler: gcc gcc (GCC) 8.5.0 20210514 (Red Hat 8.5.0-22) Red Hat Enterprise Linux 9.5 Kernel: 5.15 Compiler: gcc gcc (GCC) 11.5.0 20240719 (Red Hat 11.5.0-2) Ubuntu 22.04 Kernel: 5.15 Compiler: gcc gcc (Ubuntu 11.4.0-1ubuntu1~22.04) 11.4.0 Ubuntu 24.04 Kernel: 5.15 Compiler: gcc gcc (Ubuntu 13.3.0-6ubuntu2~24.04) 13.3.0 Alpine Linux 3.22.0 Kernel: 5.15 Compiler: gcc gcc (Alpine 14.2.0) 14.2.0 To view detailed results, visit: https://lab.dpdk.org/results/dashboard/patchsets/33550/ UNH-IOL DPDK Community Lab To manage your email subscriptions, visit: https://lab.dpdk.org/results/dashboard/preferences/subscriptions/