From mboxrd@z Thu Jan 1 00:00:00 1970 Return-Path: Received: from mails.dpdk.org (mails.dpdk.org [217.70.189.124]) by inbox.dpdk.org (Postfix) with ESMTP id 714CB46ACF for ; Tue, 1 Jul 2025 14:32:57 +0200 (CEST) Received: from mails.dpdk.org (localhost [127.0.0.1]) by mails.dpdk.org (Postfix) with ESMTP id 4B7D7400D7; Tue, 1 Jul 2025 14:32:57 +0200 (CEST) Received: from mail-io1-f97.google.com (mail-io1-f97.google.com [209.85.166.97]) by mails.dpdk.org (Postfix) with ESMTP id 04AE4400D7 for ; Tue, 1 Jul 2025 14:32:56 +0200 (CEST) Received: by mail-io1-f97.google.com with SMTP id ca18e2360f4ac-87640a9e237so270254839f.2 for ; Tue, 01 Jul 2025 05:32:55 -0700 (PDT) DKIM-Signature: v=1; a=rsa-sha256; c=relaxed/relaxed; d=iol.unh.edu; s=unh-iol; t=1751373175; x=1751977975; darn=dpdk.org; h=references:in-reply-to:cc:to:from:subject:message-id:date:from:to :cc:subject:date:message-id:reply-to; bh=wtfZ/cpNYyIoBXqpdEBKLHT2CWAquur10WxUbLwYgAU=; b=gh159GYqbPU4CQdlNq2hKDrYkxfMMbDL1+BwUKCvsfvhGIGmsBS/LoMRwPv4VDVTMV p+ok2rDL4xRaZRVT9Q2MroP4GU2BWF8l1aEcbcdieljGNT3XldkOrDNB1M6vdjHVutP9 2F4I8BF1hhU/FXxnrTEJw5fGuRcUhQTrlwxog= X-Google-DKIM-Signature: v=1; a=rsa-sha256; c=relaxed/relaxed; d=1e100.net; s=20230601; t=1751373175; x=1751977975; h=references:in-reply-to:cc:to:from:subject:message-id:date :x-gm-message-state:from:to:cc:subject:date:message-id:reply-to; bh=wtfZ/cpNYyIoBXqpdEBKLHT2CWAquur10WxUbLwYgAU=; b=RwuR6kfebnMTgJB10LDKlEAsZRI9MLrANAYjl98e3AQstBXOhx8P2d6FDQCp62tvLW XssYoqyohk1rbmT8a+H3z5wyKauKTRqXCc2Zfs0l0iR3V9qzAyHKCKt8+Z2TNknn5k2a xR1ZDfWVMeWYRslwmWevCsM92NgBng+uwCiI5zY8tKvNHsv6WFiXpOCZyZbsm5tkj5yc nyyf7EWV4siN3Xrl07edJ4BxB4xkTuL1W4MVlmfo7EkFKyGRL84e/ZP4tGlPp+tru+R8 X1ovRRc2YdFkCCq8uoHOwPgJWed+Vw93YerT1FeF8F7Bz5p7WBQoC3aYQ/BvXvkU1tXM jjeA== X-Gm-Message-State: AOJu0YyY+7x1Zte9haa0IBDuQjV1lUBUTLBlSYgIs3tbueU1FI92lVw1 622JQVNLs9WucNp1ci1CG+9CcZnti6p2VyY63kUUE2HnXPOW7sHUb7DQC6NPxWJO6YDA6yzDym2 f+/jMtwl4jFSl3oSfQcgYmtdCpIB/EGbL9JekVuykp2CR X-Gm-Gg: ASbGnctfuz9WcM+d1zuzZORAqbL2W05EQnDwM1zYBkIPsgIkxwD+ZKV/Oh/L6Zt8DcC 4B0jGhHCJN+2tJpjQ5WrV3nil4InsXd79FhwdgGmdkACnMouKLZfp0G74XW1aeObk4qOXFDaet5 tjey1lIO+leIgIYCbLaWxYPFBWw5paJvEYe0BBKFgJ9TPLuwC2jhn1d5/y8jqA//LKjUCgPDhIH aZ4UjsDrotKliV6rfnTwM8VsH1NQKNfYoUhZk0pUKUlfTafu6E2WqeFsX76XfunV7iPGcKLsq4O dVYl4l9SwTIqG14g3f1YY6zTRF/5ECYRoq/ZKWsFSzctW4MTZw5tfLrf8sluiKTUUyOcuQ== X-Google-Smtp-Source: AGHT+IFGn4JIx15yHuebVjS/BUa5OEE8D0o8m01LX8vB/DdsVocjHsBsfyz9Zyo0w8fV0goiKv6uqQSX//xJ X-Received: by 2002:a05:6602:640a:b0:875:b998:7ff7 with SMTP id ca18e2360f4ac-876882591edmr2054774439f.3.1751373171747; Tue, 01 Jul 2025 05:32:51 -0700 (PDT) Received: from postal.iol.unh.edu (postal.iol.unh.edu. [132.177.123.84]) by smtp-relay.gmail.com with ESMTPS id ca18e2360f4ac-87687af63a7sm40253139f.14.2025.07.01.05.32.51 (version=TLS1_2 cipher=ECDHE-ECDSA-AES128-GCM-SHA256 bits=128/128); Tue, 01 Jul 2025 05:32:51 -0700 (PDT) X-Relaying-Domain: iol.unh.edu Date: Tue, 01 Jul 2025 05:32:51 -0700 (PDT) Message-ID: <6863d573.050a0220.26b52c.5512SMTPIN_ADDED_MISSING@mx.google.com> Received: from [172.17.0.3] (unknown [172.18.0.74]) by postal.iol.unh.edu (Postfix) with ESMTP id CA67C6050A62; Tue, 1 Jul 2025 08:32:50 -0400 (EDT) Subject: |SUCCESS| pw154889-154890 [PATCH] [v2,6/6] net/hns3: VF support mult From: dpdklab@iol.unh.edu To: Test Report Cc: dpdk-test-reports@iol.unh.edu In-Reply-To: <20250701064512.3868175-7-huangdengdui@huawei.com> References: <20250701064512.3868175-7-huangdengdui@huawei.com> Content-Type: text/plain X-BeenThere: test-report@dpdk.org X-Mailman-Version: 2.1.29 Precedence: list List-Id: automatic DPDK test reports List-Unsubscribe: , List-Archive: List-Post: List-Help: List-Subscribe: , Errors-To: test-report-bounces@dpdk.org Test-Label: iol-unit-arm64-testing Test-Status: SUCCESS http://dpdk.org/patch/154890 _Testing PASS_ Submitter: Dengdui Huang Date: Tuesday, July 01 2025 06:45:12 DPDK git baseline: Repo:dpdk Branch: master CommitID:77864da82f25a9e1e43c14b2cba68c2049a3ee3e 154889-154890 --> testing pass Upstream job id: Generic-Unit-Test-DPDK#351396 Test environment and result as below: +------------------------------+----------------+---------------------------+------------------------------+--------------+ | Environment | dpdk_unit_test | cryptodev_sw_zuc_autotest | cryptodev_sw_snow3g_autotest | lpm_autotest | +==============================+================+===========================+==============================+==============+ | CentOS Stream 9 | PASS | SKIPPED | SKIPPED | SKIPPED | +------------------------------+----------------+---------------------------+------------------------------+--------------+ | CentOS Stream 10 | PASS | SKIPPED | SKIPPED | SKIPPED | +------------------------------+----------------+---------------------------+------------------------------+--------------+ | Debian GNU/Linux 12 | PASS | SKIPPED | SKIPPED | SKIPPED | +------------------------------+----------------+---------------------------+------------------------------+--------------+ | Fedora Linux 40 | PASS | SKIPPED | SKIPPED | SKIPPED | +------------------------------+----------------+---------------------------+------------------------------+--------------+ | Fedora Linux 41 | PASS | SKIPPED | SKIPPED | SKIPPED | +------------------------------+----------------+---------------------------+------------------------------+--------------+ | Red Hat Enterprise Linux 9.5 | PASS | SKIPPED | SKIPPED | SKIPPED | +------------------------------+----------------+---------------------------+------------------------------+--------------+ | Ubuntu 20.04 | PASS | SKIPPED | SKIPPED | PASS | +------------------------------+----------------+---------------------------+------------------------------+--------------+ | Ubuntu 22.04 | PASS | SKIPPED | SKIPPED | SKIPPED | +------------------------------+----------------+---------------------------+------------------------------+--------------+ | Ubuntu 24.04 | PASS | SKIPPED | SKIPPED | SKIPPED | +------------------------------+----------------+---------------------------+------------------------------+--------------+ | Debian 12 (arm) | SKIPPED | PASS | PASS | SKIPPED | +------------------------------+----------------+---------------------------+------------------------------+--------------+ CentOS Stream 9 Kernel: 5.4 Compiler: gcc gcc (GCC) 11.5.0 20240719 (Red Hat 11.5.0-7) CentOS Stream 10 Kernel: 5.4 Compiler: gcc gcc (GCC) 14.2.1 20250110 (Red Hat 14.2.1-8) Debian GNU/Linux 12 Kernel: 5.4 Compiler: gcc gcc (Debian 12.2.0-14+deb12u1) 12.2.0 Fedora Linux 40 Kernel: 5.4 Compiler: clang gcc (GCC) 14.2.1 20240912 (Red Hat 14.2.1-3) Fedora Linux 41 Kernel: 5.4 Compiler: clang gcc (GCC) 14.3.1 20250523 (Red Hat 14.3.1-1) Red Hat Enterprise Linux 9.5 Kernel: 5.4 Compiler: gcc gcc (GCC) 11.5.0 20240719 (Red Hat 11.5.0-2) Ubuntu 20.04 Kernel: 5.4 Compiler: gcc gcc (Ubuntu 9.4.0-1ubuntu1~20.04.2) 9.4.0 Ubuntu 22.04 Kernel: 5.4 Compiler: gcc gcc (Ubuntu 11.4.0-1ubuntu1~22.04) 11.4.0 Ubuntu 24.04 Kernel: 5.4 Compiler: gcc gcc (Ubuntu 13.3.0-6ubuntu2~24.04) 13.3.0 Debian 12 (arm) Kernel: Depends on container host Compiler: gcc (Debian 12.2.0-14) 12.2.0 To view detailed results, visit: https://lab.dpdk.org/results/dashboard/patchsets/33550/ UNH-IOL DPDK Community Lab To manage your email subscriptions, visit: https://lab.dpdk.org/results/dashboard/preferences/subscriptions/