From mboxrd@z Thu Jan 1 00:00:00 1970 Return-Path: Received: from mails.dpdk.org (mails.dpdk.org [217.70.189.124]) by inbox.dpdk.org (Postfix) with ESMTP id EA40746ACF for ; Tue, 1 Jul 2025 14:38:07 +0200 (CEST) Received: from mails.dpdk.org (localhost [127.0.0.1]) by mails.dpdk.org (Postfix) with ESMTP id CB188400D7; Tue, 1 Jul 2025 14:38:07 +0200 (CEST) Received: from mail-yw1-f226.google.com (mail-yw1-f226.google.com [209.85.128.226]) by mails.dpdk.org (Postfix) with ESMTP id E4ECC400D7 for ; Tue, 1 Jul 2025 14:38:06 +0200 (CEST) Received: by mail-yw1-f226.google.com with SMTP id 00721157ae682-710e344bbf9so32252387b3.2 for ; Tue, 01 Jul 2025 05:38:06 -0700 (PDT) DKIM-Signature: v=1; a=rsa-sha256; c=relaxed/relaxed; d=iol.unh.edu; s=unh-iol; t=1751373486; x=1751978286; darn=dpdk.org; h=references:in-reply-to:cc:to:from:subject:message-id:date:from:to :cc:subject:date:message-id:reply-to; bh=98mlfjhJwspF03LjMZ35HrauuNeoadKAp7Rk7y9+pcs=; b=LgFvGC+mCapnTiPrabbP/8T+AE+ENpBNeVhsFZevqrNjk1fE5hrzDsQeIARnHA16d4 Ep//KfSbaZAINI9UBwCe+vsp6YDEGkE4SYww8Uxh/1nBdvTk6WofK9wHZelxis2u7myp +la99ojcT/QL4hggeM0WiA+uBqu2f61Jvzp94= X-Google-DKIM-Signature: v=1; a=rsa-sha256; c=relaxed/relaxed; d=1e100.net; s=20230601; t=1751373486; x=1751978286; h=references:in-reply-to:cc:to:from:subject:message-id:date :x-gm-message-state:from:to:cc:subject:date:message-id:reply-to; bh=98mlfjhJwspF03LjMZ35HrauuNeoadKAp7Rk7y9+pcs=; b=cj6d1LEXv0QuEQAYDWw0XcKTQCCd4LCBDbzMNyLa6ldX1rrtr0h+/uAebUdsRxrfB8 ZlYp+QbjD9VGx+sO+YsydOkA1GLfQdNH6VUsHUBmCBuVsACTGyOVER92RCWfQoa+eKhu f/fP4mjpCXuHhj1+QqdKLWDRbljwx/aMjNpwBUFLkhMTsTHDU161OHiB00kSoDhNRueC UO3Y9k7lA1KmwkuKfB1NqeWBKM3jcGdWwYx0cxBZO/Bhk8njjSrIa1S96r7PArKB19zG jacbrkUjtR830vTUJMdRn9bvfiRg9rYlOuVVlJoUAJMw5FSTlENQ/tMKLPd8MiLGK8Nb 1vpg== X-Gm-Message-State: AOJu0Yw7PXCFCVICTmUpj5NHOblWdt0rxloJz5n+lczxnMyzhcO3L/wL xdPhflEmTQLursqBEIZ9jCXif3GHJqlZ2dZPfI/8PdrpSuD62y21xKFJ5y74Ttw10oJzZ88Rq1a pP5Dj55pD1hc1z41l8I0uakkDiuZMd7qyRydP+dsuvgKjR8K/OeZgGr53aybm X-Gm-Gg: ASbGnctwcHGtV6QC1vypDSE+bKQUmXL0tqMxRvyF8B/Lp6CJknZG4Wp/8tmUVTR5DxM gIFXY3jj3pCaS8oZb03hSLmjSI89wnguaViGLVFrAkhkZELB6BheYN/0adJbzBiJvSORAdV0cQz FKwPf0pE9kHZ+rmzTbTsDnbtKKeztF1UOOIvqqQwMDHLUFYWq0X8aL+e790/Qa7g2/4JXoSod3B tbeJcY3UrUdc1+6lUPCTS5nVBKeDDRhGtL7C6R0AzlPfJgVh7opmTYi94pNEbE94xeNPq4ZhBhw FEVkVgVOjdQbJcdu4byu9vzRRc4BQKmvBuQglPjiE+BqfU4= X-Google-Smtp-Source: AGHT+IEEbZGqNOLXU1qc0+sk8nDDaJJuJyIuJ3WP3vSGFaZ6rkStbDzweTlTXrmhkK6WAche2YKxjL7wC52m X-Received: by 2002:a05:690c:9b10:b0:70e:7882:ea8e with SMTP id 00721157ae682-715171a36damr268598497b3.31.1751373485941; Tue, 01 Jul 2025 05:38:05 -0700 (PDT) Received: from postal.iol.unh.edu (postal.iol.unh.edu. [2606:4100:3880:1234::84]) by smtp-relay.gmail.com with ESMTPS id 00721157ae682-71515cba5f1sm3594477b3.44.2025.07.01.05.38.05 (version=TLS1_2 cipher=ECDHE-ECDSA-AES128-GCM-SHA256 bits=128/128); Tue, 01 Jul 2025 05:38:05 -0700 (PDT) X-Relaying-Domain: iol.unh.edu Date: Tue, 01 Jul 2025 05:38:05 -0700 (PDT) Message-ID: <6863d6ad.050a0220.2372af.3d28SMTPIN_ADDED_MISSING@mx.google.com> Received: from [172.17.0.3] (unknown [172.18.0.74]) by postal.iol.unh.edu (Postfix) with ESMTP id 907AC6050A62; Tue, 1 Jul 2025 08:38:05 -0400 (EDT) Subject: |SUCCESS| pw154893-154898 [PATCH] [v3,6/6] net/hns3: VF support mult From: dpdklab@iol.unh.edu To: Test Report Cc: dpdk-test-reports@iol.unh.edu In-Reply-To: <20250701091004.531704-7-huangdengdui@huawei.com> References: <20250701091004.531704-7-huangdengdui@huawei.com> Content-Type: text/plain X-BeenThere: test-report@dpdk.org X-Mailman-Version: 2.1.29 Precedence: list List-Id: automatic DPDK test reports List-Unsubscribe: , List-Archive: List-Post: List-Help: List-Subscribe: , Errors-To: test-report-bounces@dpdk.org Test-Label: iol-abi-testing Test-Status: SUCCESS http://dpdk.org/patch/154898 _Testing PASS_ Submitter: Dengdui Huang Date: Tuesday, July 01 2025 09:10:04 DPDK git baseline: Repo:dpdk Branch: master CommitID:77864da82f25a9e1e43c14b2cba68c2049a3ee3e 154893-154898 --> testing pass Upstream job id: Generic-DPDK-Compile-ABI#132537 Test environment and result as below: +-------------------------------+----------+ | Environment | abi_test | +===============================+==========+ | CentOS Stream 9 | PASS | +-------------------------------+----------+ | CentOS Stream 10 | PASS | +-------------------------------+----------+ | Debian GNU/Linux 12 | PASS | +-------------------------------+----------+ | Fedora Linux 40 | PASS | +-------------------------------+----------+ | Fedora Linux 41 | PASS | +-------------------------------+----------+ | Red Hat Enterprise Linux 8.10 | PASS | +-------------------------------+----------+ | Red Hat Enterprise Linux 9.5 | PASS | +-------------------------------+----------+ | Ubuntu 22.04 | PASS | +-------------------------------+----------+ | Ubuntu 24.04 | PASS | +-------------------------------+----------+ | openSUSE Leap 15.6 | PASS | +-------------------------------+----------+ CentOS Stream 9 Kernel: 5.15 Compiler: gcc gcc (GCC) 11.5.0 20240719 (Red Hat 11.5.0-7) CentOS Stream 10 Kernel: 5.15 Compiler: gcc gcc (GCC) 14.2.1 20250110 (Red Hat 14.2.1-8) Debian GNU/Linux 12 Kernel: 5.15 Compiler: gcc gcc (Debian 12.2.0-14+deb12u1) 12.2.0 Fedora Linux 40 Kernel: 5.15 Compiler: clang gcc (GCC) 14.2.1 20240912 (Red Hat 14.2.1-3) Fedora Linux 41 Kernel: 5.15 Compiler: clang gcc (GCC) 14.3.1 20250523 (Red Hat 14.3.1-1) Red Hat Enterprise Linux 8.10 Kernel: 5.15 Compiler: gcc gcc (GCC) 8.5.0 20210514 (Red Hat 8.5.0-22) Red Hat Enterprise Linux 9.5 Kernel: 5.15 Compiler: gcc gcc (GCC) 11.5.0 20240719 (Red Hat 11.5.0-2) Ubuntu 22.04 Kernel: 5.15 Compiler: gcc gcc (Ubuntu 11.4.0-1ubuntu1~22.04) 11.4.0 Ubuntu 24.04 Kernel: 5.15 Compiler: gcc gcc (Ubuntu 13.3.0-6ubuntu2~24.04) 13.3.0 openSUSE Leap 15.6 Kernel: 5.15 Compiler: gcc gcc (SUSE Linux) 7.5.0 To view detailed results, visit: https://lab.dpdk.org/results/dashboard/patchsets/33551/ UNH-IOL DPDK Community Lab To manage your email subscriptions, visit: https://lab.dpdk.org/results/dashboard/preferences/subscriptions/