From mboxrd@z Thu Jan 1 00:00:00 1970 Return-Path: Received: from mails.dpdk.org (mails.dpdk.org [217.70.189.124]) by inbox.dpdk.org (Postfix) with ESMTP id 4DED746ACF for ; Tue, 1 Jul 2025 14:57:56 +0200 (CEST) Received: from mails.dpdk.org (localhost [127.0.0.1]) by mails.dpdk.org (Postfix) with ESMTP id 2A06B400D7; Tue, 1 Jul 2025 14:57:56 +0200 (CEST) Received: from mail-vk1-f228.google.com (mail-vk1-f228.google.com [209.85.221.228]) by mails.dpdk.org (Postfix) with ESMTP id 630BE400D7 for ; Tue, 1 Jul 2025 14:57:54 +0200 (CEST) Received: by mail-vk1-f228.google.com with SMTP id 71dfb90a1353d-532d498eb95so1060571e0c.1 for ; Tue, 01 Jul 2025 05:57:54 -0700 (PDT) DKIM-Signature: v=1; a=rsa-sha256; c=relaxed/relaxed; d=iol.unh.edu; s=unh-iol; t=1751374673; x=1751979473; darn=dpdk.org; h=references:in-reply-to:cc:to:from:subject:message-id:date:from:to :cc:subject:date:message-id:reply-to; bh=EsBrl+Ow6H4TQGifK3gspCA06YNlG53/yOUD1HsFQdU=; b=EzHZ4Yr968ewcugtFv1Liz8SbfMD/BY/3F4ODfWrMTF8YKNgEvuavMSQdQA79QtO6T 4BUFHH8DXciVT1SzL6ZPNjybPvKZPLwIpfBUVk0eRMoJsywL7uM3ScXymvC8p4uhYKV4 W9yh2HKME2WOOPH/3RcyWc38hyEEBFuYh6IQg= X-Google-DKIM-Signature: v=1; a=rsa-sha256; c=relaxed/relaxed; d=1e100.net; s=20230601; t=1751374673; x=1751979473; h=references:in-reply-to:cc:to:from:subject:message-id:date :x-gm-message-state:from:to:cc:subject:date:message-id:reply-to; bh=EsBrl+Ow6H4TQGifK3gspCA06YNlG53/yOUD1HsFQdU=; b=j2iVuNKgO66S5n0wQ+JmR01g2FzKJ/wIvKZIXuibzBSKmM+hYTcYMDSGB22UaV4U2K 1oXQO2ANzeVunxJmN2ydFUxkTA3iPPnG80p8WGQmbdryWO/vDaN+Gq2TgYwotz+f9r1e u8MEgLURE9CraFleig7jfY7YBYc8HZ55Hn0Pdt0Y222Zvcnl1zMVyv5UZ8tFwvayrOMF OIt731beuqJEv2BvQDALohAIx0nJG/I7jps0JJPNStMMFdiMaQ5CnxPxnlYqdZPaa/eU LhBRjhpwadYxIvm5qr3t2i5S8CCCvZcMjTbCiy6/TMIKgtYkB1KS/JlwRZAmBVt8FacW 2yYw== X-Gm-Message-State: AOJu0YzOZ8KDmuTMWVW2GQ6bV8LYzqTmaHTfBm3cA2zPsR0s2X4GgrO3 tGWxkQn2iRZuyJHxN2k8JF3jwt3AykA1JTf8ugxGEJIaLfAFI0OIXcdP3atalUa6amPSU4/uPVz NW3aiFZx+Ksgz5QSYKnZi8FEFqJPPQ4FJ3bijKiVhmTfUmR8n0l3Fz8FwOWdr X-Gm-Gg: ASbGncuhouMfK9b0tkhi17eNhC9J42JKkcjZOhxpEFqoA8HyZvitg4gWRaIvlrX4vHi 3hCrLq5ar9d5D6aHJ/r3mQIwYpKL2afo9OpPH6oxQFtLNUyEKfy4OT8Be1pCcu2/HMEB7NtKJTu 5x5HNc2lSt/xqYgRE1a8DWIhmJwmVhr36kS+mHWgiyfvtbdsglwLgTXQpoPYQRDMqgdNUSe2F1f ytm6fyd+c9xh0bYzmzDQ1GuqXG92oR2Suma9ajFQaU65g2EFv4geCFxeEzilb81AZHxJ3unjf8b uM23Iijkm6MkCMk16EySlIJcoKcZTTfWTc5uq7P0kyJkBZs= X-Google-Smtp-Source: AGHT+IGhjhlvVxPkilyfJQ4CU4K3AtT+VtAfQdaz8UTOrB4PG1nvztPBk0T1mA0V8el1W9eoxXCBZTtCnJz8 X-Received: by 2002:a05:6122:168a:b0:526:19e6:fa34 with SMTP id 71dfb90a1353d-5330be06b4cmr9640484e0c.1.1751374673702; Tue, 01 Jul 2025 05:57:53 -0700 (PDT) Received: from postal.iol.unh.edu (postal.iol.unh.edu. [2606:4100:3880:1234::84]) by smtp-relay.gmail.com with ESMTPS id 71dfb90a1353d-53309206728sm676017e0c.10.2025.07.01.05.57.53 (version=TLS1_2 cipher=ECDHE-ECDSA-AES128-GCM-SHA256 bits=128/128); Tue, 01 Jul 2025 05:57:53 -0700 (PDT) X-Relaying-Domain: iol.unh.edu Date: Tue, 01 Jul 2025 05:57:53 -0700 (PDT) Message-ID: <6863db51.050a0220.3941d6.3c49SMTPIN_ADDED_MISSING@mx.google.com> Received: from [172.21.0.6] (unknown [172.18.0.240]) by postal.iol.unh.edu (Postfix) with ESMTP id 60EEF604D420; Tue, 1 Jul 2025 08:57:53 -0400 (EDT) Subject: |WARNING| pw154893-154898 [PATCH] [v3,6/6] net/hns3: VF support mult From: dpdklab@iol.unh.edu To: Test Report Cc: dpdk-test-reports@iol.unh.edu In-Reply-To: <20250701091004.531704-7-huangdengdui@huawei.com> References: <20250701091004.531704-7-huangdengdui@huawei.com> Content-Type: text/plain X-BeenThere: test-report@dpdk.org X-Mailman-Version: 2.1.29 Precedence: list List-Id: automatic DPDK test reports List-Unsubscribe: , List-Archive: List-Post: List-Help: List-Subscribe: , Errors-To: test-report-bounces@dpdk.org Test-Label: iol-compile-amd64-testing Test-Status: WARNING http://dpdk.org/patch/154898 _Testing issues_ Submitter: Dengdui Huang Date: Tuesday, July 01 2025 09:10:04 DPDK git baseline: Repo:dpdk Branch: master CommitID:77864da82f25a9e1e43c14b2cba68c2049a3ee3e 154893-154898 --> testing issues Upstream job id: Generic-DPDK-Compile-Meson#404138 Test environment and result as below: +-------------------------------+--------------------+-------------------+------------------+-------------------------+-------------------+----------------------+ | Environment | dpdk_meson_compile | dpdk_compile_spdk | dpdk_compile_ovs | dpdk_llvm_clang_compile | dpdk_msvc_compile | dpdk_mingw64_compile | +===============================+====================+===================+==================+=========================+===================+======================+ | CentOS Stream 9 | PASS | PASS | SKIPPED | SKIPPED | SKIPPED | SKIPPED | +-------------------------------+--------------------+-------------------+------------------+-------------------------+-------------------+----------------------+ | CentOS Stream 10 | PASS | SKIPPED | SKIPPED | SKIPPED | SKIPPED | SKIPPED | +-------------------------------+--------------------+-------------------+------------------+-------------------------+-------------------+----------------------+ | Debian GNU/Linux 12 | PASS | PASS | SKIPPED | SKIPPED | SKIPPED | SKIPPED | +-------------------------------+--------------------+-------------------+------------------+-------------------------+-------------------+----------------------+ | Fedora Linux 40 | PASS | PASS | SKIPPED | SKIPPED | SKIPPED | SKIPPED | +-------------------------------+--------------------+-------------------+------------------+-------------------------+-------------------+----------------------+ | Fedora Linux 41 | PASS | WARN | PASS | SKIPPED | SKIPPED | SKIPPED | +-------------------------------+--------------------+-------------------+------------------+-------------------------+-------------------+----------------------+ | Red Hat Enterprise Linux 8.10 | PASS | SKIPPED | SKIPPED | SKIPPED | SKIPPED | SKIPPED | +-------------------------------+--------------------+-------------------+------------------+-------------------------+-------------------+----------------------+ | openSUSE Leap 15.6 | PASS | SKIPPED | SKIPPED | SKIPPED | SKIPPED | SKIPPED | +-------------------------------+--------------------+-------------------+------------------+-------------------------+-------------------+----------------------+ | Red Hat Enterprise Linux 9.5 | PASS | SKIPPED | SKIPPED | SKIPPED | SKIPPED | SKIPPED | +-------------------------------+--------------------+-------------------+------------------+-------------------------+-------------------+----------------------+ | Ubuntu 20.04 | PASS | SKIPPED | SKIPPED | SKIPPED | SKIPPED | SKIPPED | +-------------------------------+--------------------+-------------------+------------------+-------------------------+-------------------+----------------------+ | Ubuntu 22.04 | PASS | PASS | SKIPPED | SKIPPED | SKIPPED | SKIPPED | +-------------------------------+--------------------+-------------------+------------------+-------------------------+-------------------+----------------------+ | Ubuntu 24.04 | PASS | PASS | PASS | SKIPPED | SKIPPED | SKIPPED | +-------------------------------+--------------------+-------------------+------------------+-------------------------+-------------------+----------------------+ | Alpine Linux 3.22.0 | PASS | SKIPPED | SKIPPED | SKIPPED | SKIPPED | SKIPPED | +-------------------------------+--------------------+-------------------+------------------+-------------------------+-------------------+----------------------+ | FreeBSD 14.2 | PASS | SKIPPED | SKIPPED | SKIPPED | SKIPPED | SKIPPED | +-------------------------------+--------------------+-------------------+------------------+-------------------------+-------------------+----------------------+ | Windows Server 2022 | SKIPPED | SKIPPED | SKIPPED | PASS | PASS | PASS | +-------------------------------+--------------------+-------------------+------------------+-------------------------+-------------------+----------------------+ ==== 20 line log output for Fedora Linux 41 (dpdk_compile_spdk): ==== --- Failed to get log output --- ==== End log output ==== CentOS Stream 9 Kernel: 5.15 Compiler: gcc gcc (GCC) 11.5.0 20240719 (Red Hat 11.5.0-7) CentOS Stream 10 Kernel: 5.15 Compiler: gcc gcc (GCC) 14.2.1 20250110 (Red Hat 14.2.1-8) Debian GNU/Linux 12 Kernel: 5.15 Compiler: gcc gcc (Debian 12.2.0-14+deb12u1) 12.2.0 Fedora Linux 40 Kernel: 5.15 Compiler: clang gcc (GCC) 14.2.1 20240912 (Red Hat 14.2.1-3) Fedora Linux 41 Kernel: 5.15 Compiler: gcc gcc (GCC) 14.3.1 20250523 (Red Hat 14.3.1-1) Red Hat Enterprise Linux 8.10 Kernel: 5.15 Compiler: gcc gcc (GCC) 8.5.0 20210514 (Red Hat 8.5.0-22) openSUSE Leap 15.6 Kernel: 5.15 Compiler: gcc gcc (SUSE Linux) 7.5.0 Red Hat Enterprise Linux 9.5 Kernel: 5.15 Compiler: gcc gcc (GCC) 11.5.0 20240719 (Red Hat 11.5.0-2) Ubuntu 20.04 Kernel: 5.15 Compiler: gcc gcc (Ubuntu 9.4.0-1ubuntu1~20.04.2) 9.4.0 Ubuntu 22.04 Kernel: 5.15 Compiler: gcc gcc (Ubuntu 11.4.0-1ubuntu1~22.04) 11.4.0 Ubuntu 24.04 Kernel: 5.15 Compiler: gcc gcc (Ubuntu 13.3.0-6ubuntu2~24.04) 13.3.0 Alpine Linux 3.22.0 Kernel: 5.15 Compiler: gcc gcc (Alpine 14.2.0) 14.2.0 FreeBSD 14.2 Kernel: 14.2-RELEASE Compiler: clang 18.1.6 Windows Server 2022 Kernel: 10.0.20348.2031 Compiler: clang 15.0.7, gcc 14.1.0 (MinGW), and MSVC VS 19.39.33521 To view detailed results, visit: https://lab.dpdk.org/results/dashboard/patchsets/33551/ UNH-IOL DPDK Community Lab To manage your email subscriptions, visit: https://lab.dpdk.org/results/dashboard/preferences/subscriptions/