From mboxrd@z Thu Jan 1 00:00:00 1970 Return-Path: Received: from mails.dpdk.org (mails.dpdk.org [217.70.189.124]) by inbox.dpdk.org (Postfix) with ESMTP id 26EE446ACF for ; Tue, 1 Jul 2025 15:09:38 +0200 (CEST) Received: from mails.dpdk.org (localhost [127.0.0.1]) by mails.dpdk.org (Postfix) with ESMTP id 228FD400D7; Tue, 1 Jul 2025 15:09:38 +0200 (CEST) Received: from mail-ua1-f98.google.com (mail-ua1-f98.google.com [209.85.222.98]) by mails.dpdk.org (Postfix) with ESMTP id F0D60400D7 for ; Tue, 1 Jul 2025 15:09:36 +0200 (CEST) Received: by mail-ua1-f98.google.com with SMTP id a1e0cc1a2514c-87ecdf5f326so3568548241.1 for ; Tue, 01 Jul 2025 06:09:36 -0700 (PDT) DKIM-Signature: v=1; a=rsa-sha256; c=relaxed/relaxed; d=iol.unh.edu; s=unh-iol; t=1751375376; x=1751980176; darn=dpdk.org; h=references:in-reply-to:cc:to:from:subject:message-id:date:from:to :cc:subject:date:message-id:reply-to; bh=EtxfHSnDIbA6hZIvv8B+vdPH1eIHwWq+vOlS5pI3EIU=; b=bhYNJPZW8xogTSTdELS+C6qzWIxBWFgde7C1FkXij/2fJVAI+EiW7w1THgeLkztMdX uLomA/TQjXsZySs+we8BMo+uuqaM86guDdTCHyEw75qlmuRkCwcIeP1FfHZ5MFTHrx+L 1a19HelOGZ0QFTWqGykDmyEU8l4cyJ2CHGNSk= X-Google-DKIM-Signature: v=1; a=rsa-sha256; c=relaxed/relaxed; d=1e100.net; s=20230601; t=1751375376; x=1751980176; h=references:in-reply-to:cc:to:from:subject:message-id:date :x-gm-message-state:from:to:cc:subject:date:message-id:reply-to; bh=EtxfHSnDIbA6hZIvv8B+vdPH1eIHwWq+vOlS5pI3EIU=; b=ju1n+Mfdliqq/jPhg6fNINlH7mPVcdeBh1+BTxzWfTxcQ9n7uGddYk8o6er+PmOnA/ CpstWTaONL5IBmA7tIp/0G3zejSwAI8FCepY0mN6rNLF7n2Wzhk/u/ywYTX29vjBuYyT c3peRxYPi0krYucaMGECk0gE/tO7D1qzHhRqyvqsTl3KMdeRtbmOh9u8B+FP1rliW+lT oIucV4dFxYBAqpKyUlczEaGcsjxgUTU6S/mc99RCZwlCyM0sjM2KPgMBRHcs5nUhel0p Cr2TePXF4D4+rnnu31W+NlJDRYFfmJb7wtMZeJ5nMxlD8zHlF1TGj8OQd/9uXIAop6BY J7cQ== X-Gm-Message-State: AOJu0Yzm3rbxnoSx1+mqrz6lTK7sPMAZja3vSy9ODgoBAL3SWBY/fTBf oxcGRw7LeatLAd7DpRlEp0faY0sMbh3dFPFsBXPjpMoE8yNna8TIPQMc1IGQt8bKYvw+aix3dmG OJNQ3vDmo+I9QP2LbL61mIQv0fYSfk5KY0wBLhDBUQChJ9KGe8ih1Q58az1iL X-Gm-Gg: ASbGnct0PLTeNtiIwZCzPwpAjkJ6h9Qcpdw7zln0slowzonU1bKYHdRNn93CKxIPqGN djCtGWuKv7qrF9gGz5Tm9/SQUyyfqqDZ9f9TMGw8wQUfq5NiqVIPelOG1wwnUwoc4cEw+uX42wJ /oZ4HMQeH4qOqpxEDFJQc/K0m5mH+vBcxBjxB2xI0DZd2eiw/JBPNf8n9+yB2rD2aZ0if3nrUb9 6OmSV7ri1w/Mo8kxP4PlvjgYQTADDJ1PbwGYbJ78X9JgTkVKqwNuszAxqEGai8C61bkNma07WMf V7sHQ5cNFlICD0LOD01yDU2LWCrNmkFTX1FZ9g8OYm1EQoI= X-Google-Smtp-Source: AGHT+IGZfhjmbayUk+nhxYmG+dzPvSdd9vCmyuF8MfAzhRffIxeWk4+r+GRwzS8zAk1CbP1Lpe+4q8uHKTMz X-Received: by 2002:a05:6122:65a0:b0:527:67d9:100d with SMTP id 71dfb90a1353d-5341c858b0fmr2137783e0c.4.1751375376284; Tue, 01 Jul 2025 06:09:36 -0700 (PDT) Received: from postal.iol.unh.edu (postal.iol.unh.edu. [2606:4100:3880:1234::84]) by smtp-relay.gmail.com with ESMTPS id 71dfb90a1353d-533091e1d1dsm667713e0c.8.2025.07.01.06.09.36 (version=TLS1_2 cipher=ECDHE-ECDSA-AES128-GCM-SHA256 bits=128/128); Tue, 01 Jul 2025 06:09:36 -0700 (PDT) X-Relaying-Domain: iol.unh.edu Date: Tue, 01 Jul 2025 06:09:36 -0700 (PDT) Message-ID: <6863de10.050a0220.bc1dc.4647SMTPIN_ADDED_MISSING@mx.google.com> Received: from [172.21.0.5] (unknown [172.18.0.240]) by postal.iol.unh.edu (Postfix) with ESMTP id EE5BF604D420; Tue, 1 Jul 2025 09:09:35 -0400 (EDT) Subject: |SUCCESS| pw154881-154886 [PATCH] [v7,6/6] net/dpaa2: enable softwar From: dpdklab@iol.unh.edu To: Test Report Cc: dpdk-test-reports@iol.unh.edu In-Reply-To: <20250701042917.3000355-7-g.singh@nxp.com> References: <20250701042917.3000355-7-g.singh@nxp.com> Content-Type: text/plain X-BeenThere: test-report@dpdk.org X-Mailman-Version: 2.1.29 Precedence: list List-Id: automatic DPDK test reports List-Unsubscribe: , List-Archive: List-Post: List-Help: List-Subscribe: , Errors-To: test-report-bounces@dpdk.org Test-Label: iol-compile-arm64-testing Test-Status: SUCCESS http://dpdk.org/patch/154886 _Testing PASS_ Submitter: Gagandeep Singh Date: Tuesday, July 01 2025 04:29:17 DPDK git baseline: Repo:dpdk Branch: master CommitID:77864da82f25a9e1e43c14b2cba68c2049a3ee3e 154881-154886 --> testing pass Upstream job id: Generic-DPDK-Compile-Meson#404037 Test environment and result as below: +------------------------------+--------------------+ | Environment | dpdk_meson_compile | +==============================+====================+ | Red Hat Enterprise Linux 9.5 | PASS | +------------------------------+--------------------+ | Ubuntu 20.04 | PASS | +------------------------------+--------------------+ | Debian GNU/Linux 12 | PASS | +------------------------------+--------------------+ | Fedora Linux 40 | PASS | +------------------------------+--------------------+ | Fedora Linux 41 | PASS | +------------------------------+--------------------+ | Ubuntu 22.04 | PASS | +------------------------------+--------------------+ | Ubuntu 24.04 | PASS | +------------------------------+--------------------+ | CentOS Stream 9 | PASS | +------------------------------+--------------------+ | CentOS Stream 10 | PASS | +------------------------------+--------------------+ Red Hat Enterprise Linux 9.5 Kernel: 5.4 Compiler: gcc gcc (GCC) 11.5.0 20240719 (Red Hat 11.5.0-2) Ubuntu 20.04 Kernel: 5.15 Compiler: aarch64-linux-gnu-gcc gcc (Ubuntu 9.4.0-1ubuntu1~20.04.2) 9.4.0 Debian GNU/Linux 12 Kernel: 5.4 Compiler: gcc gcc (Debian 12.2.0-14+deb12u1) 12.2.0 Fedora Linux 40 Kernel: 5.4 Compiler: gcc gcc (GCC) 14.2.1 20240912 (Red Hat 14.2.1-3) Fedora Linux 41 Kernel: 5.4 Compiler: clang gcc (GCC) 14.3.1 20250523 (Red Hat 14.3.1-1) Ubuntu 22.04 Kernel: 5.4 Compiler: gcc gcc (Ubuntu 11.4.0-1ubuntu1~22.04) 11.4.0 Ubuntu 24.04 Kernel: 5.4 Compiler: gcc gcc (Ubuntu 13.3.0-6ubuntu2~24.04) 13.3.0 CentOS Stream 9 Kernel: 5.4 Compiler: gcc gcc (GCC) 11.5.0 20240719 (Red Hat 11.5.0-7) CentOS Stream 10 Kernel: 5.4 Compiler: gcc gcc (GCC) 14.2.1 20250110 (Red Hat 14.2.1-8) To view detailed results, visit: https://lab.dpdk.org/results/dashboard/patchsets/33549/ UNH-IOL DPDK Community Lab To manage your email subscriptions, visit: https://lab.dpdk.org/results/dashboard/preferences/subscriptions/