From mboxrd@z Thu Jan 1 00:00:00 1970 Return-Path: Received: from mails.dpdk.org (mails.dpdk.org [217.70.189.124]) by inbox.dpdk.org (Postfix) with ESMTP id 420AA46ACF for ; Tue, 1 Jul 2025 15:10:13 +0200 (CEST) Received: from mails.dpdk.org (localhost [127.0.0.1]) by mails.dpdk.org (Postfix) with ESMTP id 3E5BD400D7; Tue, 1 Jul 2025 15:10:13 +0200 (CEST) Received: from mail-il1-f228.google.com (mail-il1-f228.google.com [209.85.166.228]) by mails.dpdk.org (Postfix) with ESMTP id 39540400D7 for ; Tue, 1 Jul 2025 15:10:12 +0200 (CEST) Received: by mail-il1-f228.google.com with SMTP id e9e14a558f8ab-3df316b5b40so18446695ab.1 for ; Tue, 01 Jul 2025 06:10:12 -0700 (PDT) DKIM-Signature: v=1; a=rsa-sha256; c=relaxed/relaxed; d=iol.unh.edu; s=unh-iol; t=1751375411; x=1751980211; darn=dpdk.org; h=references:in-reply-to:cc:to:from:subject:message-id:date:from:to :cc:subject:date:message-id:reply-to; bh=qoEumE7zfPvpTXcVTnjP/4oLd0QhSPg6+L2jfa8vGls=; b=Wn3TRO7N3XzHRZYac48BJMn4DgXV1piYN3WKKt4H5HppnIFBMCQEY8LcgCvfaVGx8N K9oofhcg/wu/Ygss5eEk0XPaAbjbnWhHoZrPtDQ2vMOxyrSmBHvTtQvPWOBvlAYkFSHv Rk2qOfn3Pc6bNoy5fnsJOxfd6hE3ZEaptAmgI= X-Google-DKIM-Signature: v=1; a=rsa-sha256; c=relaxed/relaxed; d=1e100.net; s=20230601; t=1751375411; x=1751980211; h=references:in-reply-to:cc:to:from:subject:message-id:date :x-gm-message-state:from:to:cc:subject:date:message-id:reply-to; bh=qoEumE7zfPvpTXcVTnjP/4oLd0QhSPg6+L2jfa8vGls=; b=UYAk7UnEWqwKPLOzuEDaKt9fmLhhDS9H9lLHDvbd0zgcPjXCxv/Bw95jwejiJ65nwi 9CmcYQCu1MHCdFmOE2YZvczl7I8/lq0OcTSrW65sNKYqn+TfjB63qtrJJ+4XuyeqBAGq 0djnEHnCWx1jy+3KTo74fiwvS4pupMWJqg5s/een2qN7XFECRqf+AzPiM69i2ZJOpImz AvjLdYM74h+Hmfod7QekNY0peqT8fZALTMhV35UOuPh4Z4pnhbM8KXwxy82ZY3Kgt0DD N6Oe0RcAt3oO3wFMF/ddigmfv0j4mp/44lsfod3HgTXlXz0VVz7pqenLUzjXLExyrVls BS1g== X-Gm-Message-State: AOJu0YyQgTCZFEtCXTbNzsCpKjjwsL4VOrgM25N3tcMOXvKvgohmvy8C 8U+j0QLi1ty+62iIEIsYa6KF8AQ4y58X2nqZKuJ6e/LE9I0uAfAErznXwvTGRxmTKZQNrA/UCU6 fi57kTR88BG4JW3ecoqY1qMWnF5n0VQOzR9Io7C2M0rsz X-Gm-Gg: ASbGnctIG0xeBvlIqAfUaL5rwAe5BVVF9pVutu3UU2TPpgjtXGpiAkHEV0XAOT/Gzcf KoxcTfPXt9ZyhEbsFGvwx+Pt/36Sq22Mo2ozvRPX5dMYVKxz3eMBihq93BhP5B4Gkk14tf7qjES QZF2YYXmMANHNqZdEJVU4MnvTQrX/iFi8YbUiMNXGAQj/sdyQT0zppXgxbrpT4aZPZrif2uN6KZ xCxR7wSGhKKD+YGmz8onaiJ60K0chw5T3A4Ajtz28q9o7C/pLiSspMY+nOYPXWCMIYlWBSe7OLU x6NcnZ9Bxf7yHor8mTr2WylfiGP/yb3Efior6z3bsgkZLPlDOZXBrukhfNXRU8S8WNUSMw== X-Google-Smtp-Source: AGHT+IErhWPANfwqFqM3kd1LmWD3Wiu5Y6Dve2b4SnvMyvZYc2haeJHIqseesKKspkxMJjCyCzMd0Ar13gRi X-Received: by 2002:a05:6e02:32c9:b0:3df:410b:635b with SMTP id e9e14a558f8ab-3df4accdd5cmr199369415ab.19.1751375396461; Tue, 01 Jul 2025 06:09:56 -0700 (PDT) Received: from postal.iol.unh.edu (postal.iol.unh.edu. [132.177.123.84]) by smtp-relay.gmail.com with ESMTPS id e9e14a558f8ab-3df49fff9c7sm5608275ab.6.2025.07.01.06.09.56 (version=TLS1_2 cipher=ECDHE-ECDSA-AES128-GCM-SHA256 bits=128/128); Tue, 01 Jul 2025 06:09:56 -0700 (PDT) X-Relaying-Domain: iol.unh.edu Date: Tue, 01 Jul 2025 06:09:56 -0700 (PDT) Message-ID: <6863de24.920a0220.2c8120.f3a1SMTPIN_ADDED_MISSING@mx.google.com> Received: from [172.21.0.8] (unknown [172.18.0.240]) by postal.iol.unh.edu (Postfix) with ESMTP id 2247E604D420; Tue, 1 Jul 2025 09:09:56 -0400 (EDT) Subject: |SUCCESS| pw154881-154886 [PATCH] [v7,6/6] net/dpaa2: enable softwar From: dpdklab@iol.unh.edu To: Test Report Cc: dpdk-test-reports@iol.unh.edu In-Reply-To: <20250701042917.3000355-7-g.singh@nxp.com> References: <20250701042917.3000355-7-g.singh@nxp.com> Content-Type: text/plain X-BeenThere: test-report@dpdk.org X-Mailman-Version: 2.1.29 Precedence: list List-Id: automatic DPDK test reports List-Unsubscribe: , List-Archive: List-Post: List-Help: List-Subscribe: , Errors-To: test-report-bounces@dpdk.org Test-Label: iol-compile-arm64-testing Test-Status: SUCCESS http://dpdk.org/patch/154886 _Testing PASS_ Submitter: Gagandeep Singh Date: Tuesday, July 01 2025 04:29:17 DPDK git baseline: Repo:dpdk Branch: master CommitID:77864da82f25a9e1e43c14b2cba68c2049a3ee3e 154881-154886 --> testing pass Upstream job id: Generic-DPDK-Compile-Meson#404039 Test environment and result as below: +------------------------------+--------------------+ | Environment | dpdk_meson_compile | +==============================+====================+ | Red Hat Enterprise Linux 9.5 | PASS | +------------------------------+--------------------+ | Ubuntu 20.04 | PASS | +------------------------------+--------------------+ | Debian GNU/Linux 12 | PASS | +------------------------------+--------------------+ | Fedora Linux 40 | PASS | +------------------------------+--------------------+ | Fedora Linux 41 | PASS | +------------------------------+--------------------+ | Ubuntu 22.04 | PASS | +------------------------------+--------------------+ | Ubuntu 24.04 | PASS | +------------------------------+--------------------+ | CentOS Stream 9 | PASS | +------------------------------+--------------------+ | CentOS Stream 10 | PASS | +------------------------------+--------------------+ Red Hat Enterprise Linux 9.5 Kernel: 5.4 Compiler: gcc gcc (GCC) 11.5.0 20240719 (Red Hat 11.5.0-2) Ubuntu 20.04 Kernel: 5.15 Compiler: aarch64-linux-gnu-gcc gcc (Ubuntu 9.4.0-1ubuntu1~20.04.2) 9.4.0 Debian GNU/Linux 12 Kernel: 5.4 Compiler: gcc gcc (Debian 12.2.0-14+deb12u1) 12.2.0 Fedora Linux 40 Kernel: 5.4 Compiler: gcc gcc (GCC) 14.2.1 20240912 (Red Hat 14.2.1-3) Fedora Linux 41 Kernel: 5.4 Compiler: clang gcc (GCC) 14.3.1 20250523 (Red Hat 14.3.1-1) Ubuntu 22.04 Kernel: 5.4 Compiler: gcc gcc (Ubuntu 11.4.0-1ubuntu1~22.04) 11.4.0 Ubuntu 24.04 Kernel: 5.4 Compiler: gcc gcc (Ubuntu 13.3.0-6ubuntu2~24.04) 13.3.0 CentOS Stream 9 Kernel: 5.4 Compiler: gcc gcc (GCC) 11.5.0 20240719 (Red Hat 11.5.0-7) CentOS Stream 10 Kernel: 5.4 Compiler: gcc gcc (GCC) 14.2.1 20250110 (Red Hat 14.2.1-8) To view detailed results, visit: https://lab.dpdk.org/results/dashboard/patchsets/33549/ UNH-IOL DPDK Community Lab To manage your email subscriptions, visit: https://lab.dpdk.org/results/dashboard/preferences/subscriptions/