From mboxrd@z Thu Jan 1 00:00:00 1970 Return-Path: Received: from mails.dpdk.org (mails.dpdk.org [217.70.189.124]) by inbox.dpdk.org (Postfix) with ESMTP id 5D8C846ACF for ; Tue, 1 Jul 2025 15:38:24 +0200 (CEST) Received: from mails.dpdk.org (localhost [127.0.0.1]) by mails.dpdk.org (Postfix) with ESMTP id 5910340264; Tue, 1 Jul 2025 15:38:24 +0200 (CEST) Received: from mail-pl1-f225.google.com (mail-pl1-f225.google.com [209.85.214.225]) by mails.dpdk.org (Postfix) with ESMTP id 198F540264 for ; Tue, 1 Jul 2025 15:38:23 +0200 (CEST) Received: by mail-pl1-f225.google.com with SMTP id d9443c01a7336-23526264386so29415815ad.2 for ; Tue, 01 Jul 2025 06:38:23 -0700 (PDT) DKIM-Signature: v=1; a=rsa-sha256; c=relaxed/relaxed; d=iol.unh.edu; s=unh-iol; t=1751377102; x=1751981902; darn=dpdk.org; h=references:in-reply-to:cc:to:from:subject:message-id:date:from:to :cc:subject:date:message-id:reply-to; bh=j/fdwElvyqgdETZCjbQo5vNShx+8whS5ukbT2N9FtPI=; b=aQRDZiMK+X3x3k/gfCtdxarKUjHthi5TDF+bOWxuqIPyS6DhQQLJqI5e3hufa4+QZ5 sjUqvrn4T5r/9oyqRfyzKZgtFtAqqKhEtCFzHDZsECEjtgjdIs04c0DfIfaI9aMC2yzg wCoFXJN8YD/r3fgCwdNaw/YrEuZ4tM2EI++FA= X-Google-DKIM-Signature: v=1; a=rsa-sha256; c=relaxed/relaxed; d=1e100.net; s=20230601; t=1751377102; x=1751981902; h=references:in-reply-to:cc:to:from:subject:message-id:date :x-gm-message-state:from:to:cc:subject:date:message-id:reply-to; bh=j/fdwElvyqgdETZCjbQo5vNShx+8whS5ukbT2N9FtPI=; b=vE1E1mGqOaX32N0vfBjeFk5I0BqMUvSBVnpVWZgoj/DKm9FQUR+Ku8q/4Br29Oc4Ub U9+YyDJb6E6XRaAJVAHnK0nj4A1+X0j0z8hwbpxAf1jWPXjy1xORfAtckHPC/b78O8xG fYSDgwZKMI2aWpfNT+KcBO5covYAYl3i+gdO9S3aC4GbfX8T8NjZRtLpcrqx8AOw9xU/ MNlZVWKE7mVy5D1+H8fQ/YYUxJ3Z0JqKVpv5lAPF48R0T0DB9lo8LXDaPdNrnwwnIPpY A7H5jrsNKsN/jf0879oopXIB93GAZ+x1iZB/sDjVhM13uHCxV2Ff6JpI6K3i1hf0EdGO +b2A== X-Gm-Message-State: AOJu0Yx9232Yp8UEPzaBL0b2kWwJwoONuTjnxPCYmW8GelakzOmAhD6C JgBfiicTEBDCZgd+F6znAlBCEPkN9za2bq0Ly76siWNxVKbXGfcKW5/t0ilMfT/uj9rnUYI2/tL K5NbbCCoJC5kJIPC6IyaonFfLq4HcEQj8RP2K0fwie7x4DjR9Bklvr7qkC60L X-Gm-Gg: ASbGnct+HXd10kre57SKmgnMOrYIzv1daI+349N2keTT7pi0oPzp62GQghaXvP3gyfE +LpS96lZIGshjf0HZrj0niATNebGsOofb/CNJvxGNvuGONi8+YzEfrlcQzeJrocVy8p6+3I6TrT 9cuVDSDpepJ2ZtCcddVYX3dA2PyWx//kgNIQMha2FTX5kCOdUBEBK3lE4QqCAvbp2kDlQjMPKMq kpjWdvpNAv/ecqx/cgjjp0ZtCqbbhQofyWAoYGtF8yWleSAzizVHmnuhHa5JCKUT7eQmnk68RpA fsi5OOYj97wVYJl6iEDXhPrKo9Me8FbxaZ5XpHStADAWcBw= X-Google-Smtp-Source: AGHT+IHLh2WxXYalQ1xYONyJB36UtmFfB5GYUg+IT+ljMBXo2Qjz+p1z29FFan7aS642dibpytZ7z5LX/85y X-Received: by 2002:a17:902:ce8b:b0:224:23be:c569 with SMTP id d9443c01a7336-23ac45c1d32mr294145795ad.22.1751377102286; Tue, 01 Jul 2025 06:38:22 -0700 (PDT) Received: from postal.iol.unh.edu (postal.iol.unh.edu. [2606:4100:3880:1234::84]) by smtp-relay.gmail.com with ESMTPS id 98e67ed59e1d1-318c137b2ddsm372536a91.5.2025.07.01.06.38.22 (version=TLS1_2 cipher=ECDHE-ECDSA-AES128-GCM-SHA256 bits=128/128); Tue, 01 Jul 2025 06:38:22 -0700 (PDT) X-Relaying-Domain: iol.unh.edu Date: Tue, 01 Jul 2025 06:38:22 -0700 (PDT) Message-ID: <6863e4ce.170a0220.2132aa.4d57SMTPIN_ADDED_MISSING@mx.google.com> Received: from [172.21.0.5] (unknown [172.18.0.240]) by postal.iol.unh.edu (Postfix) with ESMTP id 8215D604D420; Tue, 1 Jul 2025 09:38:21 -0400 (EDT) Subject: |SUCCESS| pw154899-154901 [PATCH] [v2,3/3] net/ntnic: unmap DMA duri From: dpdklab@iol.unh.edu To: Test Report Cc: dpdk-test-reports@iol.unh.edu In-Reply-To: <20250701102027.3525524-4-sil-plv@napatech.com> References: <20250701102027.3525524-4-sil-plv@napatech.com> Content-Type: text/plain X-BeenThere: test-report@dpdk.org X-Mailman-Version: 2.1.29 Precedence: list List-Id: automatic DPDK test reports List-Unsubscribe: , List-Archive: List-Post: List-Help: List-Subscribe: , Errors-To: test-report-bounces@dpdk.org Test-Label: iol-unit-amd64-testing Test-Status: SUCCESS http://dpdk.org/patch/154901 _Testing PASS_ Submitter: Serhii Iliushyk Date: Tuesday, July 01 2025 10:20:27 DPDK git baseline: Repo:dpdk Branch: master CommitID:77864da82f25a9e1e43c14b2cba68c2049a3ee3e 154899-154901 --> testing pass Upstream job id: Generic-Unit-Test-DPDK#351432 Test environment and result as below: +-------------------------------+----------------+ | Environment | dpdk_unit_test | +===============================+================+ | Fedora Linux 41 | PASS | +-------------------------------+----------------+ | CentOS Stream 10 | PASS | +-------------------------------+----------------+ | CentOS Stream 9 | PASS | +-------------------------------+----------------+ | Fedora Linux 40 | PASS | +-------------------------------+----------------+ | Debian GNU/Linux 12 | PASS | +-------------------------------+----------------+ | Red Hat Enterprise Linux 9.5 | PASS | +-------------------------------+----------------+ | Red Hat Enterprise Linux 8.10 | PASS | +-------------------------------+----------------+ | Ubuntu 22.04 | PASS | +-------------------------------+----------------+ | Ubuntu 24.04 | PASS | +-------------------------------+----------------+ | Ubuntu 20.04 | PASS | +-------------------------------+----------------+ Fedora Linux 41 Kernel: 5.15 Compiler: gcc gcc (GCC) 14.3.1 20250523 (Red Hat 14.3.1-1) CentOS Stream 10 Kernel: 5.15 Compiler: gcc gcc (GCC) 14.2.1 20250110 (Red Hat 14.2.1-8) CentOS Stream 9 Kernel: 5.15 Compiler: gcc gcc (GCC) 11.5.0 20240719 (Red Hat 11.5.0-7) Fedora Linux 40 Kernel: 5.15 Compiler: clang gcc (GCC) 14.2.1 20240912 (Red Hat 14.2.1-3) Debian GNU/Linux 12 Kernel: 5.15 Compiler: gcc gcc (Debian 12.2.0-14+deb12u1) 12.2.0 Red Hat Enterprise Linux 9.5 Kernel: 5.15 Compiler: gcc gcc (GCC) 11.5.0 20240719 (Red Hat 11.5.0-2) Red Hat Enterprise Linux 8.10 Kernel: 5.15 Compiler: gcc gcc (GCC) 8.5.0 20210514 (Red Hat 8.5.0-22) Ubuntu 22.04 Kernel: 5.15 Compiler: gcc gcc (Ubuntu 11.4.0-1ubuntu1~22.04) 11.4.0 Ubuntu 24.04 Kernel: 5.15 Compiler: gcc gcc (Ubuntu 13.3.0-6ubuntu2~24.04) 13.3.0 Ubuntu 20.04 Kernel: 5.15 Compiler: gcc gcc (Ubuntu 9.4.0-1ubuntu1~20.04.2) 9.4.0 To view detailed results, visit: https://lab.dpdk.org/results/dashboard/patchsets/33552/ UNH-IOL DPDK Community Lab To manage your email subscriptions, visit: https://lab.dpdk.org/results/dashboard/preferences/subscriptions/