From mboxrd@z Thu Jan 1 00:00:00 1970 Return-Path: Received: from mails.dpdk.org (mails.dpdk.org [217.70.189.124]) by inbox.dpdk.org (Postfix) with ESMTP id 8C7FE46ACF for ; Tue, 1 Jul 2025 15:51:48 +0200 (CEST) Received: from mails.dpdk.org (localhost [127.0.0.1]) by mails.dpdk.org (Postfix) with ESMTP id 71609402A5; Tue, 1 Jul 2025 15:51:48 +0200 (CEST) Received: from mail-qk1-f228.google.com (mail-qk1-f228.google.com [209.85.222.228]) by mails.dpdk.org (Postfix) with ESMTP id 09B06402A5 for ; Tue, 1 Jul 2025 15:51:47 +0200 (CEST) Received: by mail-qk1-f228.google.com with SMTP id af79cd13be357-7d5bf3300e0so43019385a.0 for ; Tue, 01 Jul 2025 06:51:46 -0700 (PDT) DKIM-Signature: v=1; a=rsa-sha256; c=relaxed/relaxed; d=iol.unh.edu; s=unh-iol; t=1751377906; x=1751982706; darn=dpdk.org; h=references:in-reply-to:cc:to:from:subject:message-id:date:from:to :cc:subject:date:message-id:reply-to; bh=8N9jcO/6wXJoLLfvaRvo6L6hFMnjlMPUaaQ86TOZC4M=; b=dW6DqEGNNQdGTRTKV/Ogg0NYTpc/tBBCKp/dtlYGeOSoIJ0S5HFAsdXbCvJBUUpRhZ 9dMfNkf136sVn4xvuXOEZmuTPWlX6x3V0W8ObCtbAfm22s8HSHiD3rT95zYplxB7F2w9 tej0Tk7vMzV4gJoh5jdm4sZ/Cv3bXdFjnXcZM= X-Google-DKIM-Signature: v=1; a=rsa-sha256; c=relaxed/relaxed; d=1e100.net; s=20230601; t=1751377906; x=1751982706; h=references:in-reply-to:cc:to:from:subject:message-id:date :x-gm-message-state:from:to:cc:subject:date:message-id:reply-to; bh=8N9jcO/6wXJoLLfvaRvo6L6hFMnjlMPUaaQ86TOZC4M=; b=mhlCqyKCsijQTZH53vVhuXuSF2amZMdMJmPVpRqEsfn0fnXrWrb8SMJGLJUygHSbx2 /brnVXokfqNaojx06kWQTcTgSaPdx6/UKS17dOSkB6+yY4TONaPLhbW/78RG1hoaQMwZ EyMCiS/DrhR6vfDFXp5qHkr43GFgTXOu2xoibDiZF26xGIBmreOATs1/id4LzTYCIZu4 ptE6FoNQHfo5UEdenRvqnvNqHit5zoSgf/xwG+CNhVeEjL62zfNvAVWfT/O0s1rUXJ1R fBiREg5iVqr+ZSDEU6OUmHryIkIPir8JqjIkzezVuy8hDy+0hLU4P59EPx9FE+4/ChJp MFbA== X-Gm-Message-State: AOJu0YyVGSO7LqCucqqZdhlPpq0KxuNEE+oigEP97vuV4CZfZbtIHTer h3vP4J0AqOSj+laFXz3OYiakFijJ8P/0GURK9SHoulYFqPHOqyb9L3Sv9bCi7icUq0gNSPvyYBi oiZCc+vJ5fBJjfq++ACvPKiwxNLooj4Ws+bAWN+mUdDzs X-Gm-Gg: ASbGnctN1iPkC1v2o6xPGNOc5L/AcetJtKbyB1Y38xtGi8w9nwGWknvZWYZ7rYIXLPK nRASPRCVzMyplgU1YYqlkPojt6q/ZyU5x6hynqlg0WvboF/TRbIgc5kZNBChq6B183KHDqSaeTH MmIqmiqXtXQ+ZfCQDjJUx09fbF+MUX4eGgEvrs6WeZSE9Q7AyKEERWRQ9H3BpzUDcb1+54rTzRa OhZwNdEKmQiz/QrYTqe/4RUrfVA7CSIUYHPnyI0ua6yMy+57BhK0ZE3KXC7LPx/hrRA/NHvG7EM e7sJSIZWae4wKWJ3HE4bVEu4Z00cah7FyLQ6xHvf8FLNsJ204zr+m21BGhsLTu65GVTWUQ== X-Google-Smtp-Source: AGHT+IG96tzDBzSjK+EfhxBX7SkqLHGh0kUE98wimFHQG7eBLvK99CqQrLu2Qfec6JaObDh8S+gv8jyUqUrd X-Received: by 2002:a05:622a:28b:b0:4a7:1525:42ff with SMTP id d75a77b69052e-4a7fc8ce49fmr270978601cf.0.1751377906402; Tue, 01 Jul 2025 06:51:46 -0700 (PDT) Received: from postal.iol.unh.edu (postal.iol.unh.edu. [132.177.123.84]) by smtp-relay.gmail.com with ESMTPS id d75a77b69052e-4a7fc11d98fsm4071521cf.10.2025.07.01.06.51.46 (version=TLS1_2 cipher=ECDHE-ECDSA-AES128-GCM-SHA256 bits=128/128); Tue, 01 Jul 2025 06:51:46 -0700 (PDT) X-Relaying-Domain: iol.unh.edu Date: Tue, 01 Jul 2025 06:51:46 -0700 (PDT) Message-ID: <6863e7f2.050a0220.8b835.56fdSMTPIN_ADDED_MISSING@mx.google.com> Received: from [172.17.0.2] (unknown [172.18.0.76]) by postal.iol.unh.edu (Postfix) with ESMTP id 201E5604D420; Tue, 1 Jul 2025 09:51:46 -0400 (EDT) Subject: |SUCCESS| pw154899-154901 [PATCH] [v2,3/3] net/ntnic: unmap DMA duri From: dpdklab@iol.unh.edu To: Test Report Cc: dpdk-test-reports@iol.unh.edu In-Reply-To: <20250701102027.3525524-4-sil-plv@napatech.com> References: <20250701102027.3525524-4-sil-plv@napatech.com> Content-Type: text/plain X-BeenThere: test-report@dpdk.org X-Mailman-Version: 2.1.29 Precedence: list List-Id: automatic DPDK test reports List-Unsubscribe: , List-Archive: List-Post: List-Help: List-Subscribe: , Errors-To: test-report-bounces@dpdk.org Test-Label: iol-abi-testing Test-Status: SUCCESS http://dpdk.org/patch/154901 _Testing PASS_ Submitter: Serhii Iliushyk Date: Tuesday, July 01 2025 10:20:27 DPDK git baseline: Repo:dpdk Branch: master CommitID:77864da82f25a9e1e43c14b2cba68c2049a3ee3e 154899-154901 --> testing pass Upstream job id: Generic-DPDK-Compile-ABI#132547 Test environment and result as below: +-------------------------------+----------+ | Environment | abi_test | +===============================+==========+ | CentOS Stream 9 | PASS | +-------------------------------+----------+ | CentOS Stream 10 | PASS | +-------------------------------+----------+ | Debian GNU/Linux 12 | PASS | +-------------------------------+----------+ | Fedora Linux 40 | PASS | +-------------------------------+----------+ | Fedora Linux 41 | PASS | +-------------------------------+----------+ | openSUSE Leap 15.6 | PASS | +-------------------------------+----------+ | Red Hat Enterprise Linux 8.10 | PASS | +-------------------------------+----------+ | Red Hat Enterprise Linux 9.5 | PASS | +-------------------------------+----------+ | Ubuntu 24.04 | PASS | +-------------------------------+----------+ | Ubuntu 22.04 | PASS | +-------------------------------+----------+ CentOS Stream 9 Kernel: 5.15 Compiler: gcc gcc (GCC) 11.5.0 20240719 (Red Hat 11.5.0-7) CentOS Stream 10 Kernel: 5.15 Compiler: gcc gcc (GCC) 14.2.1 20250110 (Red Hat 14.2.1-8) Debian GNU/Linux 12 Kernel: 5.15 Compiler: gcc gcc (Debian 12.2.0-14+deb12u1) 12.2.0 Fedora Linux 40 Kernel: 5.15 Compiler: clang gcc (GCC) 14.2.1 20240912 (Red Hat 14.2.1-3) Fedora Linux 41 Kernel: 5.15 Compiler: clang gcc (GCC) 14.3.1 20250523 (Red Hat 14.3.1-1) openSUSE Leap 15.6 Kernel: 5.15 Compiler: gcc gcc (SUSE Linux) 7.5.0 Red Hat Enterprise Linux 8.10 Kernel: 5.15 Compiler: gcc gcc (GCC) 8.5.0 20210514 (Red Hat 8.5.0-22) Red Hat Enterprise Linux 9.5 Kernel: 5.15 Compiler: gcc gcc (GCC) 11.5.0 20240719 (Red Hat 11.5.0-2) Ubuntu 24.04 Kernel: 5.15 Compiler: gcc gcc (Ubuntu 13.3.0-6ubuntu2~24.04) 13.3.0 Ubuntu 22.04 Kernel: 5.15 Compiler: gcc gcc (Ubuntu 11.4.0-1ubuntu1~22.04) 11.4.0 To view detailed results, visit: https://lab.dpdk.org/results/dashboard/patchsets/33552/ UNH-IOL DPDK Community Lab To manage your email subscriptions, visit: https://lab.dpdk.org/results/dashboard/preferences/subscriptions/