From mboxrd@z Thu Jan 1 00:00:00 1970 Return-Path: Received: from mails.dpdk.org (mails.dpdk.org [217.70.189.124]) by inbox.dpdk.org (Postfix) with ESMTP id 9DFBD46ACF for ; Tue, 1 Jul 2025 15:52:59 +0200 (CEST) Received: from mails.dpdk.org (localhost [127.0.0.1]) by mails.dpdk.org (Postfix) with ESMTP id 9824F402A5; Tue, 1 Jul 2025 15:52:59 +0200 (CEST) Received: from mail-pl1-f228.google.com (mail-pl1-f228.google.com [209.85.214.228]) by mails.dpdk.org (Postfix) with ESMTP id 8DD44402A5 for ; Tue, 1 Jul 2025 15:52:57 +0200 (CEST) Received: by mail-pl1-f228.google.com with SMTP id d9443c01a7336-234fcadde3eso41678595ad.0 for ; Tue, 01 Jul 2025 06:52:57 -0700 (PDT) DKIM-Signature: v=1; a=rsa-sha256; c=relaxed/relaxed; d=iol.unh.edu; s=unh-iol; t=1751377977; x=1751982777; darn=dpdk.org; h=references:in-reply-to:cc:to:from:subject:message-id:date:from:to :cc:subject:date:message-id:reply-to; bh=CZCmzxkY6n882F6AKOfRt8EF6TXvwfn28q15HRFTzrY=; b=TjtR1a0G8GHqreBnyVTwic/ovp+Bn4sIiYPHGHtby7OgJmd/RedkL21zujQZXAiLWq IV7OXRpwUOBQBCLfbCxmS05e9YgGwz3YgSJW8bw+OuIcJ+05SakGztF/33iaucnWY1// 8bvEN0lCkPz50UMcer/lzcp8wndmswDiwR7Uo= X-Google-DKIM-Signature: v=1; a=rsa-sha256; c=relaxed/relaxed; d=1e100.net; s=20230601; t=1751377977; x=1751982777; h=references:in-reply-to:cc:to:from:subject:message-id:date :x-gm-message-state:from:to:cc:subject:date:message-id:reply-to; bh=CZCmzxkY6n882F6AKOfRt8EF6TXvwfn28q15HRFTzrY=; b=gjgsnvTeuoE2TSShlEPjfmxdcAut9AfqOMj8CvhnUQ8zEV33VDli3XLia/k7nELvt3 rydU7I4XQTkLgb49N7DCHFUoE6HH4QiadHQN1yOvqB+uSJAqhvaJ4Ko9bbYkcc9M0E8D tdDBS1FdNsDnauX1xTJGdEnuSoZkA7Arm4nT3ARP9wejlBDMrgj1phSYGzLnxXx525LQ phF8MRmtn4ggyaI2S2tEwtocDSKVoY0/FFg3lQmVf2PH7Hk2PzuuUIUG7oujscLOFet3 AX9PHfhYD3mQKX4UZw9nOxVw20KTv6MHupAZzzCvO6/qSrMyc2yNy0B4lcgl6eQoeY/0 YUBA== X-Gm-Message-State: AOJu0YyU2MkOau1zg0FRLbKnfaN23vRdctIseUKxrm077Ds83oqqR477 7zYOPJgwqShR+IwYEDZBmt6a3ilkicEsy/UqZvcMwdJn+5up0iMVIT00K6/671ACk0xyVb7LJIR BDbh1OIBRn3tHvg+eYO4cam7qE25T4RNpFpr0iZ5TK+z/b8zdJ7lmh+rH0YAh X-Gm-Gg: ASbGnctg719lPSQzstFsmB/a32QHHlkbfGVsOnsQh3tGDRg3O79sGL4z7rmYwCZJvHk QjyTVF4TRj7dedf0B2jY5KN3ag1LvV7WW/0k4o7LijhwplUhxm+tj5gZFL+5s+TA0bgZ/Ap28pJ jFQXMd6A24OYv1HMwjZWlDGBrPqpiqkmjBIVHqcf3k/vWkcC2aH4LCE6CBk77zOL7dBxdj3Pn0V HaStgkkMvkZfMoLYX1F6hqkLIaHrlL9qCca7KyYzFE3gQ6x2z/KNGy/LBXBxsd/9SS4tBP+ufkW fvXu0UrqoEIzyaTSxSjqvzhw2kzQgqH66396+85hzJ6oJdU= X-Google-Smtp-Source: AGHT+IFkvk1UzO+yttlPcQAOVlO5oPR88BMhNcXlEPDj5XFFA6csGUjXu2iKVDlexs+2s5Zm3pu76eQks4jf X-Received: by 2002:a17:902:d4cf:b0:237:ed38:a5b3 with SMTP id d9443c01a7336-23ac3bffac0mr262737035ad.8.1751377976747; Tue, 01 Jul 2025 06:52:56 -0700 (PDT) Received: from postal.iol.unh.edu (postal.iol.unh.edu. [2606:4100:3880:1234::84]) by smtp-relay.gmail.com with ESMTPS id d9443c01a7336-23acb389bc3sm5282805ad.114.2025.07.01.06.52.56 (version=TLS1_2 cipher=ECDHE-ECDSA-AES128-GCM-SHA256 bits=128/128); Tue, 01 Jul 2025 06:52:56 -0700 (PDT) X-Relaying-Domain: iol.unh.edu Date: Tue, 01 Jul 2025 06:52:56 -0700 (PDT) Message-ID: <6863e838.170a0220.6ec0a.c733SMTPIN_ADDED_MISSING@mx.google.com> Received: from [172.17.0.3] (unknown [172.18.0.76]) by postal.iol.unh.edu (Postfix) with ESMTP id 349FE604D420; Tue, 1 Jul 2025 09:52:56 -0400 (EDT) Subject: |SUCCESS| pw154893-154898 [PATCH] [v3,6/6] net/hns3: VF support mult From: dpdklab@iol.unh.edu To: Test Report Cc: dpdk-test-reports@iol.unh.edu In-Reply-To: <20250701091004.531704-7-huangdengdui@huawei.com> References: <20250701091004.531704-7-huangdengdui@huawei.com> Content-Type: text/plain X-BeenThere: test-report@dpdk.org X-Mailman-Version: 2.1.29 Precedence: list List-Id: automatic DPDK test reports List-Unsubscribe: , List-Archive: List-Post: List-Help: List-Subscribe: , Errors-To: test-report-bounces@dpdk.org Test-Label: iol-unit-arm64-testing Test-Status: SUCCESS http://dpdk.org/patch/154898 _Testing PASS_ Submitter: Dengdui Huang Date: Tuesday, July 01 2025 09:10:04 DPDK git baseline: Repo:dpdk Branch: master CommitID:77864da82f25a9e1e43c14b2cba68c2049a3ee3e 154893-154898 --> testing pass Upstream job id: Generic-Unit-Test-DPDK#351413 Test environment and result as below: +------------------------------+----------------+--------------+---------------------------+------------------------------+ | Environment | dpdk_unit_test | lpm_autotest | cryptodev_sw_zuc_autotest | cryptodev_sw_snow3g_autotest | +==============================+================+==============+===========================+==============================+ | Fedora Linux 41 | PASS | SKIPPED | SKIPPED | SKIPPED | +------------------------------+----------------+--------------+---------------------------+------------------------------+ | Fedora Linux 40 | PASS | SKIPPED | SKIPPED | SKIPPED | +------------------------------+----------------+--------------+---------------------------+------------------------------+ | CentOS Stream 10 | PASS | SKIPPED | SKIPPED | SKIPPED | +------------------------------+----------------+--------------+---------------------------+------------------------------+ | CentOS Stream 9 | PASS | SKIPPED | SKIPPED | SKIPPED | +------------------------------+----------------+--------------+---------------------------+------------------------------+ | Debian GNU/Linux 12 | PASS | SKIPPED | SKIPPED | SKIPPED | +------------------------------+----------------+--------------+---------------------------+------------------------------+ | Ubuntu 20.04 | PASS | PASS | SKIPPED | SKIPPED | +------------------------------+----------------+--------------+---------------------------+------------------------------+ | Red Hat Enterprise Linux 9.5 | PASS | SKIPPED | SKIPPED | SKIPPED | +------------------------------+----------------+--------------+---------------------------+------------------------------+ | Ubuntu 24.04 | PASS | SKIPPED | SKIPPED | SKIPPED | +------------------------------+----------------+--------------+---------------------------+------------------------------+ | Ubuntu 22.04 | PASS | SKIPPED | SKIPPED | SKIPPED | +------------------------------+----------------+--------------+---------------------------+------------------------------+ | Debian 12 (arm) | SKIPPED | SKIPPED | PASS | PASS | +------------------------------+----------------+--------------+---------------------------+------------------------------+ Fedora Linux 41 Kernel: 5.4 Compiler: gcc gcc (GCC) 14.3.1 20250523 (Red Hat 14.3.1-1) Fedora Linux 40 Kernel: 5.4 Compiler: gcc gcc (GCC) 14.2.1 20240912 (Red Hat 14.2.1-3) CentOS Stream 10 Kernel: 5.4 Compiler: gcc gcc (GCC) 14.2.1 20250110 (Red Hat 14.2.1-8) CentOS Stream 9 Kernel: 5.4 Compiler: gcc gcc (GCC) 11.5.0 20240719 (Red Hat 11.5.0-7) Debian GNU/Linux 12 Kernel: 5.4 Compiler: gcc gcc (Debian 12.2.0-14+deb12u1) 12.2.0 Ubuntu 20.04 Kernel: 5.4 Compiler: gcc gcc (Ubuntu 9.4.0-1ubuntu1~20.04.2) 9.4.0 Red Hat Enterprise Linux 9.5 Kernel: 5.4 Compiler: gcc gcc (GCC) 11.5.0 20240719 (Red Hat 11.5.0-2) Ubuntu 24.04 Kernel: 5.4 Compiler: gcc gcc (Ubuntu 13.3.0-6ubuntu2~24.04) 13.3.0 Ubuntu 22.04 Kernel: 5.4 Compiler: gcc gcc (Ubuntu 11.4.0-1ubuntu1~22.04) 11.4.0 Debian 12 (arm) Kernel: Depends on container host Compiler: gcc (Debian 12.2.0-14) 12.2.0 To view detailed results, visit: https://lab.dpdk.org/results/dashboard/patchsets/33551/ UNH-IOL DPDK Community Lab To manage your email subscriptions, visit: https://lab.dpdk.org/results/dashboard/preferences/subscriptions/