From mboxrd@z Thu Jan 1 00:00:00 1970 Return-Path: Received: from mails.dpdk.org (mails.dpdk.org [217.70.189.124]) by inbox.dpdk.org (Postfix) with ESMTP id 9738546AD0 for ; Tue, 1 Jul 2025 16:02:22 +0200 (CEST) Received: from mails.dpdk.org (localhost [127.0.0.1]) by mails.dpdk.org (Postfix) with ESMTP id 9301940264; Tue, 1 Jul 2025 16:02:22 +0200 (CEST) Received: from mail-vs1-f100.google.com (mail-vs1-f100.google.com [209.85.217.100]) by mails.dpdk.org (Postfix) with ESMTP id B088340264 for ; Tue, 1 Jul 2025 16:02:21 +0200 (CEST) Received: by mail-vs1-f100.google.com with SMTP id ada2fe7eead31-4e9c6b44477so2326630137.3 for ; Tue, 01 Jul 2025 07:02:21 -0700 (PDT) DKIM-Signature: v=1; a=rsa-sha256; c=relaxed/relaxed; d=iol.unh.edu; s=unh-iol; t=1751378541; x=1751983341; darn=dpdk.org; h=references:in-reply-to:cc:to:from:subject:message-id:date:from:to :cc:subject:date:message-id:reply-to; bh=K+rM8q+WTpFVx3aXOshGmi13dtgHvyjh+tTbwxpZkbg=; b=Z67BhEneg8JlGufRVdn1E41IndrYJgtBKsDMod8uVJdfhja6rysYAemVZ+EqjSU7og GKqY/64dzvZ+Jfm+7kvy4nLEJp7yqvhRKJ1jeMchwTnUHGRvT9C4Siq9dN7aKY+GGGap zKKb8B5vwVFejLBgau7h4DOoYLNdZT8EGOvTs= X-Google-DKIM-Signature: v=1; a=rsa-sha256; c=relaxed/relaxed; d=1e100.net; s=20230601; t=1751378541; x=1751983341; h=references:in-reply-to:cc:to:from:subject:message-id:date :x-gm-message-state:from:to:cc:subject:date:message-id:reply-to; bh=K+rM8q+WTpFVx3aXOshGmi13dtgHvyjh+tTbwxpZkbg=; b=WcGfOVK05w9C/HNDkyP1hqjh246O+sM98j9ILD7o+v5Egg7OMa60/ikBZPYmh79oIp ub9xpy0otBb6S2sgCxAtBRz7lwR1cuo5mPBrF3B4asye/r7/mXpfqqjvA5zdCnHrGSmk KiWt+gsjDLV/bwWRM5IOVcTGTJHNFBjkRAkKfDP2Cl54EmwMadvMZ2vf4WiJ2wlVvuDs EIFynxnbCwPiTxqsE8AtcbWhxObE5BEosxErX0MSq1Q++rhvejK5fgKapXi/XtIp04SN 869MPov9EqyyKiGPvEKuuherUFUocm5481+X14zGaQPS18Mf2bRsQMIq8Lb+95WDEp2q jwPg== X-Gm-Message-State: AOJu0Ywq6GlXWhmRUr20V1mbdlxWyDCynjZzUssQSf8RUOAHbFT++hyC rHrvyD3YaDxz8VhqrhYqz4FYYjJXEFnSmgZaxWfq6e82V5utC5LX7Vlg+ALkDaOI1GmIyMdHV5c EhzQiwY3nJohjjVX4D4cmZjhllhG9CcABDwdpWzcoSEDEUtBRI+ORhoLHr3kb X-Gm-Gg: ASbGnctdj/lZUYp4KVU5tRX4Br7rN/+NsfR7hlfDec6qG9RDBzCXrRBxiggETHFIIXG Xy09/c3PkxryO4NlotSIIbMw1SYIsDn58ZSbnm2o7v2BR+QMs2EIN4nTfCFIDskEGrn7baAyUSJ MV+Z1Yo8M6H2mMXRk7B060mMsqHy1Zj7kMgHlOGo6EG3L1ALzwDTsfc42eH0pGK2qUlrfyNBiJE lPDctBNH2nMnMyefKO97UPyPwkuqSG667o7WsogGWe0Dx12MpI9JE9CfvKJYfSyhPj3+SHjee7S BtoTn4esStYvh2+zGY3GJTav7MPpnfzqK4VM1wGvW/4ZJS4= X-Google-Smtp-Source: AGHT+IFKY8XAaGT4UAkL/b8BUDQUOczGQFXtVCjHuclrHLUK8PhWKk9xsG7ZhdUQ4UzfnKj41g7Sh/mB5ULl X-Received: by 2002:a17:902:f64f:b0:234:ba37:879e with SMTP id d9443c01a7336-23ac4605919mr277618585ad.38.1751378529855; Tue, 01 Jul 2025 07:02:09 -0700 (PDT) Received: from postal.iol.unh.edu (postal.iol.unh.edu. [2606:4100:3880:1234::84]) by smtp-relay.gmail.com with ESMTPS id d9443c01a7336-23acb2e32desm5458365ad.25.2025.07.01.07.02.09 (version=TLS1_2 cipher=ECDHE-ECDSA-AES128-GCM-SHA256 bits=128/128); Tue, 01 Jul 2025 07:02:09 -0700 (PDT) X-Relaying-Domain: iol.unh.edu Date: Tue, 01 Jul 2025 07:02:09 -0700 (PDT) Message-ID: <6863ea61.170a0220.d4930.dd56SMTPIN_ADDED_MISSING@mx.google.com> Received: from [172.17.0.3] (unknown [172.18.0.74]) by postal.iol.unh.edu (Postfix) with ESMTP id 101CD604D420; Tue, 1 Jul 2025 10:02:09 -0400 (EDT) Subject: |SUCCESS| pw154899-154901 [PATCH] [v2,3/3] net/ntnic: unmap DMA duri From: dpdklab@iol.unh.edu To: Test Report Cc: dpdk-test-reports@iol.unh.edu In-Reply-To: <20250701102027.3525524-4-sil-plv@napatech.com> References: <20250701102027.3525524-4-sil-plv@napatech.com> Content-Type: text/plain X-BeenThere: test-report@dpdk.org X-Mailman-Version: 2.1.29 Precedence: list List-Id: automatic DPDK test reports List-Unsubscribe: , List-Archive: List-Post: List-Help: List-Subscribe: , Errors-To: test-report-bounces@dpdk.org Test-Label: iol-unit-amd64-testing Test-Status: SUCCESS http://dpdk.org/patch/154901 _Testing PASS_ Submitter: Serhii Iliushyk Date: Tuesday, July 01 2025 10:20:27 DPDK git baseline: Repo:dpdk Branch: master CommitID:77864da82f25a9e1e43c14b2cba68c2049a3ee3e 154899-154901 --> testing pass Upstream job id: Generic-VM-Unit-Test-DPDK#29620 Test environment and result as below: +-------------------------------+----------------+ | Environment | dpdk_unit_test | +===============================+================+ | Fedora Linux 41 | PASS | +-------------------------------+----------------+ | CentOS Stream 10 | PASS | +-------------------------------+----------------+ | CentOS Stream 9 | PASS | +-------------------------------+----------------+ | Fedora Linux 40 | PASS | +-------------------------------+----------------+ | Debian GNU/Linux 12 | PASS | +-------------------------------+----------------+ | Red Hat Enterprise Linux 9.5 | PASS | +-------------------------------+----------------+ | Red Hat Enterprise Linux 8.10 | PASS | +-------------------------------+----------------+ | Ubuntu 22.04 | PASS | +-------------------------------+----------------+ | Ubuntu 24.04 | PASS | +-------------------------------+----------------+ | Ubuntu 20.04 | PASS | +-------------------------------+----------------+ | Windows Server 2022 | PASS | +-------------------------------+----------------+ Fedora Linux 41 Kernel: 5.15 Compiler: gcc gcc (GCC) 14.3.1 20250523 (Red Hat 14.3.1-1) CentOS Stream 10 Kernel: 5.15 Compiler: gcc gcc (GCC) 14.2.1 20250110 (Red Hat 14.2.1-8) CentOS Stream 9 Kernel: 5.15 Compiler: gcc gcc (GCC) 11.5.0 20240719 (Red Hat 11.5.0-7) Fedora Linux 40 Kernel: 5.15 Compiler: clang gcc (GCC) 14.2.1 20240912 (Red Hat 14.2.1-3) Debian GNU/Linux 12 Kernel: 5.15 Compiler: gcc gcc (Debian 12.2.0-14+deb12u1) 12.2.0 Red Hat Enterprise Linux 9.5 Kernel: 5.15 Compiler: gcc gcc (GCC) 11.5.0 20240719 (Red Hat 11.5.0-2) Red Hat Enterprise Linux 8.10 Kernel: 5.15 Compiler: gcc gcc (GCC) 8.5.0 20210514 (Red Hat 8.5.0-22) Ubuntu 22.04 Kernel: 5.15 Compiler: gcc gcc (Ubuntu 11.4.0-1ubuntu1~22.04) 11.4.0 Ubuntu 24.04 Kernel: 5.15 Compiler: gcc gcc (Ubuntu 13.3.0-6ubuntu2~24.04) 13.3.0 Ubuntu 20.04 Kernel: 5.15 Compiler: gcc gcc (Ubuntu 9.4.0-1ubuntu1~20.04.2) 9.4.0 Windows Server 2022 Kernel: 10.0.20348.2031 Compiler: clang 15.0.7, gcc 14.1.0 (MinGW), and MSVC VS 19.39.33521 To view detailed results, visit: https://lab.dpdk.org/results/dashboard/patchsets/33552/ UNH-IOL DPDK Community Lab To manage your email subscriptions, visit: https://lab.dpdk.org/results/dashboard/preferences/subscriptions/