From mboxrd@z Thu Jan 1 00:00:00 1970 Return-Path: Received: from mails.dpdk.org (mails.dpdk.org [217.70.189.124]) by inbox.dpdk.org (Postfix) with ESMTP id BB81646AD0 for ; Tue, 1 Jul 2025 16:03:48 +0200 (CEST) Received: from mails.dpdk.org (localhost [127.0.0.1]) by mails.dpdk.org (Postfix) with ESMTP id B663F40264; Tue, 1 Jul 2025 16:03:48 +0200 (CEST) Received: from mail-oa1-f99.google.com (mail-oa1-f99.google.com [209.85.160.99]) by mails.dpdk.org (Postfix) with ESMTP id 43B4A40264 for ; Tue, 1 Jul 2025 16:03:48 +0200 (CEST) Received: by mail-oa1-f99.google.com with SMTP id 586e51a60fabf-2eacb421554so946753fac.1 for ; Tue, 01 Jul 2025 07:03:48 -0700 (PDT) DKIM-Signature: v=1; a=rsa-sha256; c=relaxed/relaxed; d=iol.unh.edu; s=unh-iol; t=1751378627; x=1751983427; darn=dpdk.org; h=references:in-reply-to:cc:to:from:subject:message-id:date:from:to :cc:subject:date:message-id:reply-to; bh=MnDmBhKRtowNcUTvyuSeyY0Vle0vq2m1ZG0kdZTfGY0=; b=cUOq9yzJ8fpKlVk/X8lK3aVfpriaRYpR+JG4PtnLbZiEc3TfML2otMptgxE2vCi51J ZRWnoZFS87OclEvEjss5obqKenrSihrk2lbGtBe3NjIO3ed0y/x6yJWaa6ICE2xUvf62 EUTEPoS504cfv9dOgIRdGF6GWV/I+patnhBsA= X-Google-DKIM-Signature: v=1; a=rsa-sha256; c=relaxed/relaxed; d=1e100.net; s=20230601; t=1751378627; x=1751983427; h=references:in-reply-to:cc:to:from:subject:message-id:date :x-gm-message-state:from:to:cc:subject:date:message-id:reply-to; bh=MnDmBhKRtowNcUTvyuSeyY0Vle0vq2m1ZG0kdZTfGY0=; b=F9SOWreDyYOLwkOrXVUDVnqqfhKDtGP6KkNBIT/QusfXDgvx1n+4dT8D2d5hbyqctx 1/TGihFeYkdhOpxOIdSffEo2aNVSLxn04JgwGbJu17uOSrR4HAiKoOUJuozjak4ytjpa 75fd24kbfQUUkk7UIFA6utN0Msad7lD4RSLOSKJ2QTFcLBoeOIDsoWN1xibCFp44KNT6 7YmnD5V/VoCuCNPWH03IIOrT9IsAjUKHpgYoUT2NzopBlzKjDNJR5J/QaH0nKxjPGQ7q /ztYhLJ8xAgs8y3ymeyfbqzA3L59EbccGE/TlruvlDw6yMkwupEM3J4XNpGdopGg0d1Y v9eQ== X-Gm-Message-State: AOJu0Yze6CsTY4UwW/yILeQOr3UgoW3CZmx4Rk/NksB40j172ZML0V25 A707COAHoBf1TeSbQJJl6KA/MmGQ61N8v6US1LkuJkIjDjfGh38sQnPUZVC0wRMhsDQL4Aiyg17 K3NN9Sy3hIpVrPO7CL5vU1ThaB5aEhbuuBhUljM+BtCOAzQOCj0d+CD5coIn1 X-Gm-Gg: ASbGncuBMD6sjoEeSGF/OgUbclXSX4s8r63YsBri70brpVRgsFeA3D+PvgJH0N96wj+ 1yZOp7C9IDCQSmVWCCGocG5dSzYxw3s2GIlELyDi74XLQy4B7wKVn2zdAr4XTXX6JijYS4N49XV SAeOy4dKSHkS7xtpxDLSXdCvw/XSfnOKKJNU+2VGz9kCzFFf3odvFkhOXa+VcVyQj1NEHnxYhuH /Qp36dFNZMgi759cnpI/bEpCQ0105ehQgeQuWQE+5QQf5plWS0IeMhKqPYoi6dhZPugqqmy/JRX dfDZq33ZNbHt/KLC5CrvZnjpeDo0cy+Pi4vJqQxgqouWE3k= X-Google-Smtp-Source: AGHT+IGZj2FSIoyMAs8BEtPYdts1qaX3AJLq2I1FNTtARKipLl0ITym70+AHW1/JE1SCSCDUbJC9RXm0FfFR X-Received: by 2002:a05:6871:451:b0:2c2:4e19:1cdf with SMTP id 586e51a60fabf-2efed6bc3d9mr12589430fac.25.1751378627382; Tue, 01 Jul 2025 07:03:47 -0700 (PDT) Received: from postal.iol.unh.edu (postal.iol.unh.edu. [2606:4100:3880:1234::84]) by smtp-relay.gmail.com with ESMTPS id 586e51a60fabf-2efd5046b1dsm682056fac.38.2025.07.01.07.03.47 (version=TLS1_2 cipher=ECDHE-ECDSA-AES128-GCM-SHA256 bits=128/128); Tue, 01 Jul 2025 07:03:47 -0700 (PDT) X-Relaying-Domain: iol.unh.edu Date: Tue, 01 Jul 2025 07:03:47 -0700 (PDT) Message-ID: <6863eac3.050a0220.2ac8f0.4e66SMTPIN_ADDED_MISSING@mx.google.com> Received: from [172.17.0.2] (unknown [172.18.0.76]) by postal.iol.unh.edu (Postfix) with ESMTP id DA6A2604D420; Tue, 1 Jul 2025 10:03:46 -0400 (EDT) Subject: |WARNING| pw154899-154901 [PATCH] [v2,3/3] net/ntnic: unmap DMA duri From: dpdklab@iol.unh.edu To: Test Report Cc: dpdk-test-reports@iol.unh.edu In-Reply-To: <20250701102027.3525524-4-sil-plv@napatech.com> References: <20250701102027.3525524-4-sil-plv@napatech.com> Content-Type: text/plain X-BeenThere: test-report@dpdk.org X-Mailman-Version: 2.1.29 Precedence: list List-Id: automatic DPDK test reports List-Unsubscribe: , List-Archive: List-Post: List-Help: List-Subscribe: , Errors-To: test-report-bounces@dpdk.org Test-Label: iol-compile-amd64-testing Test-Status: WARNING http://dpdk.org/patch/154901 _Testing issues_ Submitter: Serhii Iliushyk Date: Tuesday, July 01 2025 10:20:27 DPDK git baseline: Repo:dpdk Branch: master CommitID:77864da82f25a9e1e43c14b2cba68c2049a3ee3e 154899-154901 --> testing issues Upstream job id: Generic-DPDK-Compile-Meson#404186 Test environment and result as below: +-------------------------------+--------------------+-------------------+------------------+-------------------------+ | Environment | dpdk_meson_compile | dpdk_compile_spdk | dpdk_compile_ovs | dpdk_llvm_clang_compile | +===============================+====================+===================+==================+=========================+ | CentOS Stream 9 | PASS | PASS | SKIPPED | SKIPPED | +-------------------------------+--------------------+-------------------+------------------+-------------------------+ | CentOS Stream 10 | PASS | SKIPPED | SKIPPED | SKIPPED | +-------------------------------+--------------------+-------------------+------------------+-------------------------+ | Fedora Linux 40 | PASS | PASS | SKIPPED | SKIPPED | +-------------------------------+--------------------+-------------------+------------------+-------------------------+ | Debian GNU/Linux 12 | PASS | PASS | SKIPPED | SKIPPED | +-------------------------------+--------------------+-------------------+------------------+-------------------------+ | Fedora Linux 41 | PASS | PASS | PASS | SKIPPED | +-------------------------------+--------------------+-------------------+------------------+-------------------------+ | openSUSE Leap 15.6 | PASS | SKIPPED | SKIPPED | SKIPPED | +-------------------------------+--------------------+-------------------+------------------+-------------------------+ | Red Hat Enterprise Linux 8.10 | PASS | SKIPPED | SKIPPED | SKIPPED | +-------------------------------+--------------------+-------------------+------------------+-------------------------+ | Red Hat Enterprise Linux 9.5 | PASS | SKIPPED | SKIPPED | SKIPPED | +-------------------------------+--------------------+-------------------+------------------+-------------------------+ | Ubuntu 20.04 | PASS | SKIPPED | SKIPPED | SKIPPED | +-------------------------------+--------------------+-------------------+------------------+-------------------------+ | Ubuntu 22.04 | PASS | PASS | SKIPPED | SKIPPED | +-------------------------------+--------------------+-------------------+------------------+-------------------------+ | Ubuntu 24.04 | PASS | PASS | PASS | SKIPPED | +-------------------------------+--------------------+-------------------+------------------+-------------------------+ | Alpine Linux 3.22.0 | PASS | SKIPPED | SKIPPED | SKIPPED | +-------------------------------+--------------------+-------------------+------------------+-------------------------+ | FreeBSD 14.2 | PASS | SKIPPED | SKIPPED | SKIPPED | +-------------------------------+--------------------+-------------------+------------------+-------------------------+ | Windows Server 2022 | SKIPPED | SKIPPED | SKIPPED | PASS | +-------------------------------+--------------------+-------------------+------------------+-------------------------+ CentOS Stream 9 Kernel: 5.15 Compiler: gcc gcc (GCC) 11.5.0 20240719 (Red Hat 11.5.0-7) CentOS Stream 10 Kernel: 5.15 Compiler: gcc gcc (GCC) 14.2.1 20250110 (Red Hat 14.2.1-8) Fedora Linux 40 Kernel: 5.15 Compiler: clang gcc (GCC) 14.2.1 20240912 (Red Hat 14.2.1-3) Debian GNU/Linux 12 Kernel: 5.15 Compiler: gcc gcc (Debian 12.2.0-14+deb12u1) 12.2.0 Fedora Linux 41 Kernel: 5.15 Compiler: clang gcc (GCC) 14.3.1 20250523 (Red Hat 14.3.1-1) openSUSE Leap 15.6 Kernel: 5.15 Compiler: gcc gcc (SUSE Linux) 7.5.0 Red Hat Enterprise Linux 8.10 Kernel: 5.15 Compiler: gcc gcc (GCC) 8.5.0 20210514 (Red Hat 8.5.0-22) Red Hat Enterprise Linux 9.5 Kernel: 5.15 Compiler: gcc gcc (GCC) 11.5.0 20240719 (Red Hat 11.5.0-2) Ubuntu 20.04 Kernel: 5.15 Compiler: gcc gcc (Ubuntu 9.4.0-1ubuntu1~20.04.2) 9.4.0 Ubuntu 22.04 Kernel: 5.15 Compiler: gcc gcc (Ubuntu 11.4.0-1ubuntu1~22.04) 11.4.0 Ubuntu 24.04 Kernel: 5.15 Compiler: gcc gcc (Ubuntu 13.3.0-6ubuntu2~24.04) 13.3.0 Alpine Linux 3.22.0 Kernel: 5.15 Compiler: gcc gcc (Alpine 14.2.0) 14.2.0 FreeBSD 14.2 Kernel: 14.2-RELEASE Compiler: clang 18.1.6 Windows Server 2022 Kernel: 10.0.20348.2031 Compiler: clang 15.0.7, gcc 14.1.0 (MinGW), and MSVC VS 19.39.33521 To view detailed results, visit: https://lab.dpdk.org/results/dashboard/patchsets/33552/ UNH-IOL DPDK Community Lab To manage your email subscriptions, visit: https://lab.dpdk.org/results/dashboard/preferences/subscriptions/