From mboxrd@z Thu Jan 1 00:00:00 1970 Return-Path: Received: from mails.dpdk.org (mails.dpdk.org [217.70.189.124]) by inbox.dpdk.org (Postfix) with ESMTP id E0B2146AD2 for ; Tue, 1 Jul 2025 16:05:00 +0200 (CEST) Received: from mails.dpdk.org (localhost [127.0.0.1]) by mails.dpdk.org (Postfix) with ESMTP id DBFED402A5; Tue, 1 Jul 2025 16:05:00 +0200 (CEST) Received: from mail-pl1-f225.google.com (mail-pl1-f225.google.com [209.85.214.225]) by mails.dpdk.org (Postfix) with ESMTP id 0FCEE40264 for ; Tue, 1 Jul 2025 16:05:00 +0200 (CEST) Received: by mail-pl1-f225.google.com with SMTP id d9443c01a7336-2352400344aso53075295ad.2 for ; Tue, 01 Jul 2025 07:04:59 -0700 (PDT) DKIM-Signature: v=1; a=rsa-sha256; c=relaxed/relaxed; d=iol.unh.edu; s=unh-iol; t=1751378699; x=1751983499; darn=dpdk.org; h=references:in-reply-to:cc:to:from:subject:message-id:date:from:to :cc:subject:date:message-id:reply-to; bh=HF2hGaM0E8XH5SPdSklms5Kz9rQXAHoyT7/ye0npOYQ=; b=EWKfMfY3whGZ3LgTh4D9g2Ywd+EuJm5Ha/lZy9lCzWKOCNEeYiP8wh97uqCZvD7tYf JvmVsYlWWJsORsK1nWkeLuL43BElCO1SQOWTB05dcsiCu9P6DHMIHn6hogw3lnFA5r8m /G16cisE3xWjlqYFW7nOvOnUr2YjmxzkTulVE= X-Google-DKIM-Signature: v=1; a=rsa-sha256; c=relaxed/relaxed; d=1e100.net; s=20230601; t=1751378699; x=1751983499; h=references:in-reply-to:cc:to:from:subject:message-id:date :x-gm-message-state:from:to:cc:subject:date:message-id:reply-to; bh=HF2hGaM0E8XH5SPdSklms5Kz9rQXAHoyT7/ye0npOYQ=; b=K5ocIA1hJagnQjpdf2TufphrxUOMT2Y+qCBbtRj1uiXaTiOWyluqG73Jl7ikSsUMw3 sWJ6c+NtwSxOB0rs9/l9EJco8KTPHI9gbf6yNw0udGPjYiIgG7xp1EbkQ0pLBKbruBsW orQp0BmRgvDMaUoqpoKwCMZecg6tT1BVTdh/MYQiZukRyskng/6X9FgytdqCFNf5CBus /EoMOD6omHAZ1/kBFp2GyxeFBugevGfNEQoX2ATyQXxQN/hsISJtW8z1mky5ijhv2YRK BcKnnE5ovz9Nh8aU/tW81LUaR6lQGeKBXs2xsP4bhyULhAhg54a8fHa8cGjvbXh88l01 Vhzw== X-Gm-Message-State: AOJu0YxwVESDsHzpvCRGYqLxnQAqes9in+xf+YhcP/r+cedYgKvwNcow 2jBYVNcqovXH80pZkbjJE0iCCTAY1iAtp+LdhH9gbTVMAuzupi72/1nXVkKj6cg8OXWCqJtSrPQ 4763YWqcwcAbsgfBxLMa8eo+HgLfHWf42BVr2QkWTRUwb X-Gm-Gg: ASbGncsePCkf9bOKT3yk2F1sA7YmVbP6WYTIcbx54S5fgpxHXhDiLHb7E27YhvjzWf6 2OW41O+9CzvjT3HsGP1iwDEmEL8fP90APyD9mHGxjXwXwp85qWykdMSdrjTgK0TmP37a1JtzfWq U1ZgvS6X8rEptQF9SrG3GUSMhQMIXVMc9By9n3xzybmyBLmOddRGpIoF7501ZMxKguTJtQDFk+i WKCwstYTOTPBTxwtRetXeeuut3VBrSwAL1+ZQqvagycG0WEDJ1sf8hXlTJZML8yUSIPx+GQGbcE z0lOa+eI+oDouliLrAAz+dB18NLv3z+ST3HWTfhKT1Z+3RWvrKTmEOJZ54Yw5siMKYL4tg== X-Google-Smtp-Source: AGHT+IFG6sNfz4S9ynCQ2Fv2aoT2EfthodzFcjqZsNwuZV2bBidt7yKlDwO1pAzvX8aW+P/HZShcklvbDSji X-Received: by 2002:a17:902:edd5:b0:237:e696:3d56 with SMTP id d9443c01a7336-23ac45e37b0mr191504645ad.32.1751378698972; Tue, 01 Jul 2025 07:04:58 -0700 (PDT) Received: from postal.iol.unh.edu (postal.iol.unh.edu. [132.177.123.84]) by smtp-relay.gmail.com with ESMTPS id d9443c01a7336-23acb369168sm5508085ad.87.2025.07.01.07.04.58 (version=TLS1_2 cipher=ECDHE-ECDSA-AES128-GCM-SHA256 bits=128/128); Tue, 01 Jul 2025 07:04:58 -0700 (PDT) X-Relaying-Domain: iol.unh.edu Date: Tue, 01 Jul 2025 07:04:58 -0700 (PDT) Message-ID: <6863eb0a.170a0220.2e5a7e.eebeSMTPIN_ADDED_MISSING@mx.google.com> Received: from [172.17.0.2] (unknown [172.18.0.76]) by postal.iol.unh.edu (Postfix) with ESMTP id 6ABF7604D421; Tue, 1 Jul 2025 10:04:58 -0400 (EDT) Subject: |WARNING| pw154899-154901 [PATCH] [v2,3/3] net/ntnic: unmap DMA duri From: dpdklab@iol.unh.edu To: Test Report Cc: dpdk-test-reports@iol.unh.edu In-Reply-To: <20250701102027.3525524-4-sil-plv@napatech.com> References: <20250701102027.3525524-4-sil-plv@napatech.com> Content-Type: text/plain X-BeenThere: test-report@dpdk.org X-Mailman-Version: 2.1.29 Precedence: list List-Id: automatic DPDK test reports List-Unsubscribe: , List-Archive: List-Post: List-Help: List-Subscribe: , Errors-To: test-report-bounces@dpdk.org Test-Label: iol-compile-amd64-testing Test-Status: WARNING http://dpdk.org/patch/154901 _Testing issues_ Submitter: Serhii Iliushyk Date: Tuesday, July 01 2025 10:20:27 DPDK git baseline: Repo:dpdk Branch: master CommitID:77864da82f25a9e1e43c14b2cba68c2049a3ee3e 154899-154901 --> testing issues Upstream job id: Generic-DPDK-Compile-Meson#404175 Test environment and result as below: +-------------------------------+--------------------+-------------------+------------------+-------------------------+ | Environment | dpdk_meson_compile | dpdk_compile_spdk | dpdk_compile_ovs | dpdk_llvm_clang_compile | +===============================+====================+===================+==================+=========================+ | CentOS Stream 9 | PASS | PASS | SKIPPED | SKIPPED | +-------------------------------+--------------------+-------------------+------------------+-------------------------+ | CentOS Stream 10 | PASS | SKIPPED | SKIPPED | SKIPPED | +-------------------------------+--------------------+-------------------+------------------+-------------------------+ | Fedora Linux 40 | PASS | PASS | SKIPPED | SKIPPED | +-------------------------------+--------------------+-------------------+------------------+-------------------------+ | Debian GNU/Linux 12 | PASS | PASS | SKIPPED | SKIPPED | +-------------------------------+--------------------+-------------------+------------------+-------------------------+ | Fedora Linux 41 | PASS | PASS | PASS | SKIPPED | +-------------------------------+--------------------+-------------------+------------------+-------------------------+ | openSUSE Leap 15.6 | PASS | SKIPPED | SKIPPED | SKIPPED | +-------------------------------+--------------------+-------------------+------------------+-------------------------+ | Red Hat Enterprise Linux 8.10 | PASS | SKIPPED | SKIPPED | SKIPPED | +-------------------------------+--------------------+-------------------+------------------+-------------------------+ | Red Hat Enterprise Linux 9.5 | PASS | SKIPPED | SKIPPED | SKIPPED | +-------------------------------+--------------------+-------------------+------------------+-------------------------+ | Ubuntu 20.04 | PASS | SKIPPED | SKIPPED | SKIPPED | +-------------------------------+--------------------+-------------------+------------------+-------------------------+ | Ubuntu 22.04 | PASS | PASS | SKIPPED | SKIPPED | +-------------------------------+--------------------+-------------------+------------------+-------------------------+ | Ubuntu 24.04 | PASS | PASS | PASS | SKIPPED | +-------------------------------+--------------------+-------------------+------------------+-------------------------+ | Alpine Linux 3.22.0 | PASS | SKIPPED | SKIPPED | SKIPPED | +-------------------------------+--------------------+-------------------+------------------+-------------------------+ | FreeBSD 14.2 | PASS | SKIPPED | SKIPPED | SKIPPED | +-------------------------------+--------------------+-------------------+------------------+-------------------------+ | Windows Server 2022 | SKIPPED | SKIPPED | SKIPPED | PASS | +-------------------------------+--------------------+-------------------+------------------+-------------------------+ CentOS Stream 9 Kernel: 5.15 Compiler: gcc gcc (GCC) 11.5.0 20240719 (Red Hat 11.5.0-7) CentOS Stream 10 Kernel: 5.15 Compiler: gcc gcc (GCC) 14.2.1 20250110 (Red Hat 14.2.1-8) Fedora Linux 40 Kernel: 5.15 Compiler: clang gcc (GCC) 14.2.1 20240912 (Red Hat 14.2.1-3) Debian GNU/Linux 12 Kernel: 5.15 Compiler: gcc gcc (Debian 12.2.0-14+deb12u1) 12.2.0 Fedora Linux 41 Kernel: 5.15 Compiler: clang gcc (GCC) 14.3.1 20250523 (Red Hat 14.3.1-1) openSUSE Leap 15.6 Kernel: 5.15 Compiler: gcc gcc (SUSE Linux) 7.5.0 Red Hat Enterprise Linux 8.10 Kernel: 5.15 Compiler: gcc gcc (GCC) 8.5.0 20210514 (Red Hat 8.5.0-22) Red Hat Enterprise Linux 9.5 Kernel: 5.15 Compiler: gcc gcc (GCC) 11.5.0 20240719 (Red Hat 11.5.0-2) Ubuntu 20.04 Kernel: 5.15 Compiler: gcc gcc (Ubuntu 9.4.0-1ubuntu1~20.04.2) 9.4.0 Ubuntu 22.04 Kernel: 5.15 Compiler: gcc gcc (Ubuntu 11.4.0-1ubuntu1~22.04) 11.4.0 Ubuntu 24.04 Kernel: 5.15 Compiler: gcc gcc (Ubuntu 13.3.0-6ubuntu2~24.04) 13.3.0 Alpine Linux 3.22.0 Kernel: 5.15 Compiler: gcc gcc (Alpine 14.2.0) 14.2.0 FreeBSD 14.2 Kernel: 14.2-RELEASE Compiler: clang 18.1.6 Windows Server 2022 Kernel: 10.0.20348.2031 Compiler: clang 15.0.7, gcc 14.1.0 (MinGW), and MSVC VS 19.39.33521 To view detailed results, visit: https://lab.dpdk.org/results/dashboard/patchsets/33552/ UNH-IOL DPDK Community Lab To manage your email subscriptions, visit: https://lab.dpdk.org/results/dashboard/preferences/subscriptions/