From mboxrd@z Thu Jan 1 00:00:00 1970 Return-Path: Received: from mails.dpdk.org (mails.dpdk.org [217.70.189.124]) by inbox.dpdk.org (Postfix) with ESMTP id 07B3D46AD2 for ; Tue, 1 Jul 2025 16:05:43 +0200 (CEST) Received: from mails.dpdk.org (localhost [127.0.0.1]) by mails.dpdk.org (Postfix) with ESMTP id 0431040673; Tue, 1 Jul 2025 16:05:43 +0200 (CEST) Received: from mail-oa1-f98.google.com (mail-oa1-f98.google.com [209.85.160.98]) by mails.dpdk.org (Postfix) with ESMTP id B0E2040673 for ; Tue, 1 Jul 2025 16:05:41 +0200 (CEST) Received: by mail-oa1-f98.google.com with SMTP id 586e51a60fabf-2ea08399ec8so3134934fac.1 for ; Tue, 01 Jul 2025 07:05:41 -0700 (PDT) DKIM-Signature: v=1; a=rsa-sha256; c=relaxed/relaxed; d=iol.unh.edu; s=unh-iol; t=1751378741; x=1751983541; darn=dpdk.org; h=references:in-reply-to:cc:to:from:subject:message-id:date:from:to :cc:subject:date:message-id:reply-to; bh=mLQtmVC00oUWr0RNKCOm0oLPS5L3R/QjfZLCK0PlpKE=; b=R7frU2t7PNqog8aU7AktjW0b807FpbYAdyOrF1gzbJ27g17FjCFuFOf9weWahOSGh6 u5nAo5p83zDKDXnkZ3al4hZkKO4vZlG6sLXOGW+Cn/1n5zDSOZNN+IPR6NwqJOcX0tP3 9d6P1bsRg5a+p8xRMup7smcyarGodfRLutoMY= X-Google-DKIM-Signature: v=1; a=rsa-sha256; c=relaxed/relaxed; d=1e100.net; s=20230601; t=1751378741; x=1751983541; h=references:in-reply-to:cc:to:from:subject:message-id:date :x-gm-message-state:from:to:cc:subject:date:message-id:reply-to; bh=mLQtmVC00oUWr0RNKCOm0oLPS5L3R/QjfZLCK0PlpKE=; b=RbJVQ3OG9KNroIGjfkTbitXQWnOUaeSsyLB9BYouwpbogz+VHvjiNutNi8ZaPebgY2 bJOsEadQFUMqqMzz4PrNxmuHhIboHs52OObojl96Pq7Tddfx9bsdyfebVxa1Pz7o/n+S I2/MFBMc2P034qT3+cGDyk0KTR9Mw5GteJ7xU95r0v1I8pSxJdTKURWeeHsCcRCQGTq7 Kga8Z8A4vxtVB9Oz2StfuZLnIkeCaUlfGsrhPyu20pswnOloCwXNiLvN0beaRdpKMhPv 00tXEy5sGjTWg3PXqQJnz2jw0URPBtve3qNF2iUS11PUHb8Fp5FSqzrO1FJdXReGwe70 j8bw== X-Gm-Message-State: AOJu0Yx979OT0SwcuerJB7eON5UicvnEgwgk5oYjVC63EBn/Ps6sYtSc M6LsO09BjoNQsxo6THNdIacjlUWEWPI1oFYDwdoDxVVlFeoF8t2rohxJy3NIk79dOFetU6Z/jCX uzuLynpM586+/9DbIdyyP4My9DCagZ/QK72gcaVxW65hF X-Gm-Gg: ASbGncvqLesdP8mPU3PItIUEgjtu4D5AmGiz8Jc6sVRwyVAFLiKT4lvbN+Eqe1POaTK kMh5VnqbOS71PwqilFZTAqP1IYPkhhWihXWw9MsmCxWqipn3fz89wQkRl+UVc140R25ceT5tFou VksKRonpqT4Wn4+5BWCt9W1rrfricnkCflhJXnxov5cQqm8n2GqjUpBYwHoxHBzY9FgCXZPTKSk 8jyBNq13puid5tSopJKcsGRasi2ux1E8ATi3LiRgchubofag4bMSs5jz1S3rc8uJzA60dNgDs0/ ys5dt1z9Us6VZz4CGYdzXtv7FrWssfHQ6FnWU5QGqjF4wui/loBizJPgWlT7D7QYCRtK7Q== X-Google-Smtp-Source: AGHT+IGoJzF9NBwBmw2hwQivll3cW4x2RDtoHbQWP2nhGQBftSUjlotdpEGQ4p6uTFwdQT7yRoHAHo4Kt9Br X-Received: by 2002:a05:6870:1f0a:b0:2bc:8c4a:aac2 with SMTP id 586e51a60fabf-2efed6f76cfmr13684813fac.27.1751378740737; Tue, 01 Jul 2025 07:05:40 -0700 (PDT) Received: from postal.iol.unh.edu (postal.iol.unh.edu. [132.177.123.84]) by smtp-relay.gmail.com with ESMTPS id 586e51a60fabf-2efd4b03ac8sm639751fac.0.2025.07.01.07.05.40 (version=TLS1_2 cipher=ECDHE-ECDSA-AES128-GCM-SHA256 bits=128/128); Tue, 01 Jul 2025 07:05:40 -0700 (PDT) X-Relaying-Domain: iol.unh.edu Date: Tue, 01 Jul 2025 07:05:40 -0700 (PDT) Message-ID: <6863eb34.050a0220.1e373d.2f26SMTPIN_ADDED_MISSING@mx.google.com> Received: from [172.17.0.2] (unknown [172.18.0.74]) by postal.iol.unh.edu (Postfix) with ESMTP id 59ABE604D420; Tue, 1 Jul 2025 10:05:40 -0400 (EDT) Subject: |WARNING| pw154899-154901 [PATCH] [v2,3/3] net/ntnic: unmap DMA duri From: dpdklab@iol.unh.edu To: Test Report Cc: dpdk-test-reports@iol.unh.edu In-Reply-To: <20250701102027.3525524-4-sil-plv@napatech.com> References: <20250701102027.3525524-4-sil-plv@napatech.com> Content-Type: text/plain X-BeenThere: test-report@dpdk.org X-Mailman-Version: 2.1.29 Precedence: list List-Id: automatic DPDK test reports List-Unsubscribe: , List-Archive: List-Post: List-Help: List-Subscribe: , Errors-To: test-report-bounces@dpdk.org Test-Label: iol-compile-amd64-testing Test-Status: WARNING http://dpdk.org/patch/154901 _Testing issues_ Submitter: Serhii Iliushyk Date: Tuesday, July 01 2025 10:20:27 DPDK git baseline: Repo:dpdk Branch: master CommitID:77864da82f25a9e1e43c14b2cba68c2049a3ee3e 154899-154901 --> testing issues Upstream job id: Generic-DPDK-Compile-Meson#404179 Test environment and result as below: +-------------------------------+--------------------+-------------------+------------------+-------------------------+ | Environment | dpdk_meson_compile | dpdk_compile_spdk | dpdk_compile_ovs | dpdk_llvm_clang_compile | +===============================+====================+===================+==================+=========================+ | CentOS Stream 9 | PASS | PASS | SKIPPED | SKIPPED | +-------------------------------+--------------------+-------------------+------------------+-------------------------+ | CentOS Stream 10 | PASS | SKIPPED | SKIPPED | SKIPPED | +-------------------------------+--------------------+-------------------+------------------+-------------------------+ | Fedora Linux 40 | PASS | PASS | SKIPPED | SKIPPED | +-------------------------------+--------------------+-------------------+------------------+-------------------------+ | Debian GNU/Linux 12 | PASS | PASS | SKIPPED | SKIPPED | +-------------------------------+--------------------+-------------------+------------------+-------------------------+ | Fedora Linux 41 | PASS | PASS | PASS | SKIPPED | +-------------------------------+--------------------+-------------------+------------------+-------------------------+ | openSUSE Leap 15.6 | PASS | SKIPPED | SKIPPED | SKIPPED | +-------------------------------+--------------------+-------------------+------------------+-------------------------+ | Red Hat Enterprise Linux 8.10 | PASS | SKIPPED | SKIPPED | SKIPPED | +-------------------------------+--------------------+-------------------+------------------+-------------------------+ | Red Hat Enterprise Linux 9.5 | PASS | SKIPPED | SKIPPED | SKIPPED | +-------------------------------+--------------------+-------------------+------------------+-------------------------+ | Ubuntu 20.04 | PASS | SKIPPED | SKIPPED | SKIPPED | +-------------------------------+--------------------+-------------------+------------------+-------------------------+ | Ubuntu 22.04 | PASS | PASS | SKIPPED | SKIPPED | +-------------------------------+--------------------+-------------------+------------------+-------------------------+ | Ubuntu 24.04 | PASS | PASS | PASS | SKIPPED | +-------------------------------+--------------------+-------------------+------------------+-------------------------+ | Alpine Linux 3.22.0 | PASS | SKIPPED | SKIPPED | SKIPPED | +-------------------------------+--------------------+-------------------+------------------+-------------------------+ | FreeBSD 14.2 | PASS | SKIPPED | SKIPPED | SKIPPED | +-------------------------------+--------------------+-------------------+------------------+-------------------------+ | Windows Server 2022 | SKIPPED | SKIPPED | SKIPPED | PASS | +-------------------------------+--------------------+-------------------+------------------+-------------------------+ CentOS Stream 9 Kernel: 5.15 Compiler: gcc gcc (GCC) 11.5.0 20240719 (Red Hat 11.5.0-7) CentOS Stream 10 Kernel: 5.15 Compiler: gcc gcc (GCC) 14.2.1 20250110 (Red Hat 14.2.1-8) Fedora Linux 40 Kernel: 5.15 Compiler: clang gcc (GCC) 14.2.1 20240912 (Red Hat 14.2.1-3) Debian GNU/Linux 12 Kernel: 5.15 Compiler: gcc gcc (Debian 12.2.0-14+deb12u1) 12.2.0 Fedora Linux 41 Kernel: 5.15 Compiler: clang gcc (GCC) 14.3.1 20250523 (Red Hat 14.3.1-1) openSUSE Leap 15.6 Kernel: 5.15 Compiler: gcc gcc (SUSE Linux) 7.5.0 Red Hat Enterprise Linux 8.10 Kernel: 5.15 Compiler: gcc gcc (GCC) 8.5.0 20210514 (Red Hat 8.5.0-22) Red Hat Enterprise Linux 9.5 Kernel: 5.15 Compiler: gcc gcc (GCC) 11.5.0 20240719 (Red Hat 11.5.0-2) Ubuntu 20.04 Kernel: 5.15 Compiler: gcc gcc (Ubuntu 9.4.0-1ubuntu1~20.04.2) 9.4.0 Ubuntu 22.04 Kernel: 5.15 Compiler: gcc gcc (Ubuntu 11.4.0-1ubuntu1~22.04) 11.4.0 Ubuntu 24.04 Kernel: 5.15 Compiler: gcc gcc (Ubuntu 13.3.0-6ubuntu2~24.04) 13.3.0 Alpine Linux 3.22.0 Kernel: 5.15 Compiler: gcc gcc (Alpine 14.2.0) 14.2.0 FreeBSD 14.2 Kernel: 14.2-RELEASE Compiler: clang 18.1.6 Windows Server 2022 Kernel: 10.0.20348.2031 Compiler: clang 15.0.7, gcc 14.1.0 (MinGW), and MSVC VS 19.39.33521 To view detailed results, visit: https://lab.dpdk.org/results/dashboard/patchsets/33552/ UNH-IOL DPDK Community Lab To manage your email subscriptions, visit: https://lab.dpdk.org/results/dashboard/preferences/subscriptions/