From mboxrd@z Thu Jan 1 00:00:00 1970 Return-Path: Received: from mails.dpdk.org (mails.dpdk.org [217.70.189.124]) by inbox.dpdk.org (Postfix) with ESMTP id ED13B46AD2 for ; Tue, 1 Jul 2025 16:15:46 +0200 (CEST) Received: from mails.dpdk.org (localhost [127.0.0.1]) by mails.dpdk.org (Postfix) with ESMTP id E84AB40264; Tue, 1 Jul 2025 16:15:46 +0200 (CEST) Received: from mail-pl1-f228.google.com (mail-pl1-f228.google.com [209.85.214.228]) by mails.dpdk.org (Postfix) with ESMTP id 07AF940264 for ; Tue, 1 Jul 2025 16:15:46 +0200 (CEST) Received: by mail-pl1-f228.google.com with SMTP id d9443c01a7336-234b9dfb842so29414565ad.1 for ; Tue, 01 Jul 2025 07:15:45 -0700 (PDT) DKIM-Signature: v=1; a=rsa-sha256; c=relaxed/relaxed; d=iol.unh.edu; s=unh-iol; t=1751379345; x=1751984145; darn=dpdk.org; h=references:in-reply-to:cc:to:from:subject:message-id:date:from:to :cc:subject:date:message-id:reply-to; bh=kZ6xQRZjJ74zCV+Uw2lxowK8HGaX7qA6pE1YAYgb+P4=; b=Ydu6BOszHRjROzT390WxSaiNtzWN8lYdet2W33ZD/Uhn4zqJXGurMLD0rnD/Z/V2/Y IIkrtOGlXJg5YDFfKEkW4ZAcoexgPqXLUDJT8UHDWYkiTrg/LeGcyAPC23q3cp+0pmUb CWJWykI+JSQo4kPovO4Obv6R4BYw29RUuNGKg= X-Google-DKIM-Signature: v=1; a=rsa-sha256; c=relaxed/relaxed; d=1e100.net; s=20230601; t=1751379345; x=1751984145; h=references:in-reply-to:cc:to:from:subject:message-id:date :x-gm-message-state:from:to:cc:subject:date:message-id:reply-to; bh=kZ6xQRZjJ74zCV+Uw2lxowK8HGaX7qA6pE1YAYgb+P4=; b=nmHLZ5ZyPQpIswsFur3jSovjlCXvVp3TZfh2JljqRC9VOJsyq+ZA+1wmec30LYSzfb cRq/Kxnqd6fqKnh/UxDiqo/YmXpQhTQXnY/HA4/WZefGfeIwEvyApz3qt8ngIOi2dShI SkktOgnVMWN54qHo/+noZxRPW/kz9LE4QvSNEZ19gxT0cWN425EQypHDAOqX+Xds2Nz/ S2B23bbcgBiGPwVT/UgDsjHOjNttpaPLoBUvLLm2qXjNNc6ixWHmWexHP60ujIR1vXAb Fah5KxS52J4Qjzz+j21lzVWRQx5E7xzW/vF3hFgr/AQDiLVJyFkx267dY6psRRnFwTr1 5NPQ== X-Gm-Message-State: AOJu0YyH80km775Awel+KLcvuRo6iu+NeKRQW2yH+O4UDDlIzSmZ4bfw tYkDmq80gY2aUcivIOIt2kpsKqUfqE4G30vVHXVbcqddTvtk+yq/mwqbrFsqSGrg/7bsrU0Szy6 8A4fBgle6Uwx8SMEECZo3Be08xe3tpkApR/yCrvRSJuI/ X-Gm-Gg: ASbGncvWeYUKMmrEcTFS2L7aU7uvWsg8qV83bJy/U5K0FykNIyK4xBQvslI0in+o1Us j10WSLxOY1tEHIExB9i0M04v+uXr59QJ/UqWirHMdkxMCdFAP8ToTOPunWuxIOaOO247EBgyYua VLll9ovptzkK4P8nIrjhn3llUlCNzlYppZXlnef40q2gsIj6+lXey1uoluj844/YZnNvZpgZQ7R UgJdb8MIubp9xiBHazvnfnOOJSVhuW63WPIEImOQpMG2qPcGw1KHFajxzxbvXmsXdBHRCwzucAg u2gCKSsOJ9BMIFKcE3Vc1y92mYWbN9W4a3MFUuHF0NSh6M1AIAurJXyruHtc6OXj5NVEkw== X-Google-Smtp-Source: AGHT+IHQi+AulQlZhskQ01vHA5uJckEfo/1prj/eMRZecvr9Evxf47fFNm+IP3WmXOSUSEITBlff/ZsQ5xSD X-Received: by 2002:a17:903:3d0e:b0:234:98eb:8eda with SMTP id d9443c01a7336-23ac45e2211mr355527105ad.28.1751379344999; Tue, 01 Jul 2025 07:15:44 -0700 (PDT) Received: from postal.iol.unh.edu (postal.iol.unh.edu. [132.177.123.84]) by smtp-relay.gmail.com with ESMTPS id d9443c01a7336-23acb39aaf7sm5712675ad.127.2025.07.01.07.15.44 (version=TLS1_2 cipher=ECDHE-ECDSA-AES128-GCM-SHA256 bits=128/128); Tue, 01 Jul 2025 07:15:44 -0700 (PDT) X-Relaying-Domain: iol.unh.edu Date: Tue, 01 Jul 2025 07:15:44 -0700 (PDT) Message-ID: <6863ed90.170a0220.20befc.fc9bSMTPIN_ADDED_MISSING@mx.google.com> Received: from [172.17.0.5] (unknown [172.18.0.74]) by postal.iol.unh.edu (Postfix) with ESMTP id 22787604D420; Tue, 1 Jul 2025 10:15:44 -0400 (EDT) Subject: |SUCCESS| pw154889-154890 [PATCH] [v2,6/6] net/hns3: VF support mult From: dpdklab@iol.unh.edu To: Test Report Cc: dpdk-test-reports@iol.unh.edu In-Reply-To: <20250701064512.3868175-7-huangdengdui@huawei.com> References: <20250701064512.3868175-7-huangdengdui@huawei.com> Content-Type: text/plain X-BeenThere: test-report@dpdk.org X-Mailman-Version: 2.1.29 Precedence: list List-Id: automatic DPDK test reports List-Unsubscribe: , List-Archive: List-Post: List-Help: List-Subscribe: , Errors-To: test-report-bounces@dpdk.org Test-Label: iol-compile-arm64-testing Test-Status: SUCCESS http://dpdk.org/patch/154890 _Testing PASS_ Submitter: Dengdui Huang Date: Tuesday, July 01 2025 06:45:12 DPDK git baseline: Repo:dpdk Branch: master CommitID:77864da82f25a9e1e43c14b2cba68c2049a3ee3e 154889-154890 --> testing pass Upstream job id: Generic-DPDK-Compile-Meson#404116 Test environment and result as below: +------------------------------+--------------------+ | Environment | dpdk_meson_compile | +==============================+====================+ | Red Hat Enterprise Linux 9.5 | PASS | +------------------------------+--------------------+ | Ubuntu 20.04 | PASS | +------------------------------+--------------------+ | Debian GNU/Linux 12 | PASS | +------------------------------+--------------------+ | Fedora Linux 40 | PASS | +------------------------------+--------------------+ | Fedora Linux 41 | PASS | +------------------------------+--------------------+ | Ubuntu 22.04 | PASS | +------------------------------+--------------------+ | Ubuntu 24.04 | PASS | +------------------------------+--------------------+ | CentOS Stream 9 | PASS | +------------------------------+--------------------+ | CentOS Stream 10 | PASS | +------------------------------+--------------------+ Red Hat Enterprise Linux 9.5 Kernel: 5.4 Compiler: gcc gcc (GCC) 11.5.0 20240719 (Red Hat 11.5.0-2) Ubuntu 20.04 Kernel: 5.15 Compiler: aarch64-linux-gnu-gcc gcc (Ubuntu 9.4.0-1ubuntu1~20.04.2) 9.4.0 Debian GNU/Linux 12 Kernel: 5.4 Compiler: gcc gcc (Debian 12.2.0-14+deb12u1) 12.2.0 Fedora Linux 40 Kernel: 5.4 Compiler: gcc gcc (GCC) 14.2.1 20240912 (Red Hat 14.2.1-3) Fedora Linux 41 Kernel: 5.4 Compiler: gcc gcc (GCC) 14.3.1 20250523 (Red Hat 14.3.1-1) Ubuntu 22.04 Kernel: 5.4 Compiler: gcc gcc (Ubuntu 11.4.0-1ubuntu1~22.04) 11.4.0 Ubuntu 24.04 Kernel: 5.4 Compiler: gcc gcc (Ubuntu 13.3.0-6ubuntu2~24.04) 13.3.0 CentOS Stream 9 Kernel: 5.4 Compiler: gcc gcc (GCC) 11.5.0 20240719 (Red Hat 11.5.0-7) CentOS Stream 10 Kernel: 5.4 Compiler: gcc gcc (GCC) 14.2.1 20250110 (Red Hat 14.2.1-8) To view detailed results, visit: https://lab.dpdk.org/results/dashboard/patchsets/33550/ UNH-IOL DPDK Community Lab To manage your email subscriptions, visit: https://lab.dpdk.org/results/dashboard/preferences/subscriptions/