From mboxrd@z Thu Jan 1 00:00:00 1970 Return-Path: Received: from mails.dpdk.org (mails.dpdk.org [217.70.189.124]) by inbox.dpdk.org (Postfix) with ESMTP id AFCCA46AD2 for ; Tue, 1 Jul 2025 16:27:46 +0200 (CEST) Received: from mails.dpdk.org (localhost [127.0.0.1]) by mails.dpdk.org (Postfix) with ESMTP id 8822540264; Tue, 1 Jul 2025 16:27:46 +0200 (CEST) Received: from mail-pl1-f225.google.com (mail-pl1-f225.google.com [209.85.214.225]) by mails.dpdk.org (Postfix) with ESMTP id E690340264 for ; Tue, 1 Jul 2025 16:27:44 +0200 (CEST) Received: by mail-pl1-f225.google.com with SMTP id d9443c01a7336-234b440afa7so57428265ad.0 for ; Tue, 01 Jul 2025 07:27:44 -0700 (PDT) DKIM-Signature: v=1; a=rsa-sha256; c=relaxed/relaxed; d=iol.unh.edu; s=unh-iol; t=1751380064; x=1751984864; darn=dpdk.org; h=references:in-reply-to:cc:to:from:subject:message-id:date:from:to :cc:subject:date:message-id:reply-to; bh=wngkhP73uGCJzLMenuQ9j/dwywxFHYjxScrnrh9ovs8=; b=Ysj7swx77AqRfyxHm9T5FR/d8RRqakgj4odnLAn+iAWClIzhfnXvnfGe9l5NaUnLPe XjboyOEtWJltGg6erSCxH65wDuMvqOjdywkSLlt5NM3i/gqRWyKHKoG/lNBlVCZgwMMw jkz2doklCBnXoFL+D8++96OsNIdaecrTumq80= X-Google-DKIM-Signature: v=1; a=rsa-sha256; c=relaxed/relaxed; d=1e100.net; s=20230601; t=1751380064; x=1751984864; h=references:in-reply-to:cc:to:from:subject:message-id:date :x-gm-message-state:from:to:cc:subject:date:message-id:reply-to; bh=wngkhP73uGCJzLMenuQ9j/dwywxFHYjxScrnrh9ovs8=; b=qbRLPVrcYqZceHhORbhixji0KattdCoTvHXOkMQ9mZBWuBzsd4uMRSiaHhABXZKlCv ApxZmmjqWKInRYLrJb61Ergiy+kXxlRYpiqirh4GnTyYhddR1u8Uq+QLyV3qxTQcTma+ 2ztqXFbjgyj19N86XOTqTJufczZiPg9Xls5sCsBEGb9EsLQAN0gsXwh2bn+hWU1A81gr ICulN/oR0pyV/COcFWpi4EprCF4j9yFDL6t6IcPaMZRPxaPv46t9YtrqQHR9K3f1V7BQ DQPZoPeXPMoxe3kXxUJnLyEX9j1HDfLMYecnfEYfougSID7ZvYsCRppoZN+7kEm0BYbB X/bg== X-Gm-Message-State: AOJu0YxXT8h+F2vCq32sqhl7jH3Zr+n5SeALEl2AmAOg7AWy3iOjD6cv B0zNHCY2lt4JBj3XWNBSI4dRqr/3rzFVQYpNuAd1VuKU8C/0fvW6T46zW5aocJtRApZN6aIzKQN T7KqnZkDOcu/kalNFhcBJ1eK1tcSE4wuXjc2YsuvCUxd1 X-Gm-Gg: ASbGncs1M6TLrpl13ULI3z4YgbQQo2433g3tzJUNm+SGkdKqge8+7N4pjEdZDByrACa 7Uwqr9t8mcqAqIkYZScWV3HOhsveW4OeJI348qcLaIOdVWR7RwRKlgZ30RsVqlVexRCb4doQv2m AT8AReTdUlwYhk+uQ+3hbyOGV5iKblA1aqvxVFGhv3o6tUq8d8G5ZCHv0AolBQcpfucUdAJFd9E bEfVc4oFKhNE8EZfozgPUfihl2EjO5f3BQjUVMfPvLll0NQdFxWYYAdWsxuEtlRG67WrmF5wBwY /CrpnsBA8WnrtuaHR4e5hXQ5wYM4bpB6Ur+bOo2ZFzdOMJHAkpbRjcUAsHONfk7DgMGroQ== X-Google-Smtp-Source: AGHT+IEHSQngQBrHr4jNfE8UvPcFCHMNmNWpj3s2hJEMz7NmBT1FMF6E4C4y4ZM7eCG6OgR2VqC3Fh0tVskV X-Received: by 2002:a17:903:2305:b0:234:8e54:2d53 with SMTP id d9443c01a7336-23ac46544d8mr235362405ad.45.1751380063581; Tue, 01 Jul 2025 07:27:43 -0700 (PDT) Received: from postal.iol.unh.edu (postal.iol.unh.edu. [132.177.123.84]) by smtp-relay.gmail.com with ESMTPS id d9443c01a7336-23acb36e1f3sm5403315ad.94.2025.07.01.07.27.43 (version=TLS1_2 cipher=ECDHE-ECDSA-AES128-GCM-SHA256 bits=128/128); Tue, 01 Jul 2025 07:27:43 -0700 (PDT) X-Relaying-Domain: iol.unh.edu Date: Tue, 01 Jul 2025 07:27:43 -0700 (PDT) Message-ID: <6863f05f.170a0220.16b30c.d6f4SMTPIN_ADDED_MISSING@mx.google.com> Received: from [172.17.0.5] (unknown [172.18.0.74]) by postal.iol.unh.edu (Postfix) with ESMTP id BE4CB604D420; Tue, 1 Jul 2025 10:27:42 -0400 (EDT) Subject: |WARNING| pw154899-154901 [PATCH] [v2,3/3] net/ntnic: unmap DMA duri From: dpdklab@iol.unh.edu To: Test Report Cc: dpdk-test-reports@iol.unh.edu In-Reply-To: <20250701102027.3525524-4-sil-plv@napatech.com> References: <20250701102027.3525524-4-sil-plv@napatech.com> Content-Type: text/plain X-BeenThere: test-report@dpdk.org X-Mailman-Version: 2.1.29 Precedence: list List-Id: automatic DPDK test reports List-Unsubscribe: , List-Archive: List-Post: List-Help: List-Subscribe: , Errors-To: test-report-bounces@dpdk.org Test-Label: iol-compile-amd64-testing Test-Status: WARNING http://dpdk.org/patch/154901 _Testing issues_ Submitter: Serhii Iliushyk Date: Tuesday, July 01 2025 10:20:27 DPDK git baseline: Repo:dpdk Branch: master CommitID:77864da82f25a9e1e43c14b2cba68c2049a3ee3e 154899-154901 --> testing issues Upstream job id: Windows-Compile-DPDK-Native#29477 Test environment and result as below: +-------------------------------+--------------------+-------------------+------------------+-------------------------+-------------------+----------------------+ | Environment | dpdk_meson_compile | dpdk_compile_spdk | dpdk_compile_ovs | dpdk_llvm_clang_compile | dpdk_msvc_compile | dpdk_mingw64_compile | +===============================+====================+===================+==================+=========================+===================+======================+ | CentOS Stream 9 | PASS | PASS | SKIPPED | SKIPPED | SKIPPED | SKIPPED | +-------------------------------+--------------------+-------------------+------------------+-------------------------+-------------------+----------------------+ | CentOS Stream 10 | PASS | SKIPPED | SKIPPED | SKIPPED | SKIPPED | SKIPPED | +-------------------------------+--------------------+-------------------+------------------+-------------------------+-------------------+----------------------+ | Fedora Linux 40 | PASS | PASS | SKIPPED | SKIPPED | SKIPPED | SKIPPED | +-------------------------------+--------------------+-------------------+------------------+-------------------------+-------------------+----------------------+ | Debian GNU/Linux 12 | PASS | PASS | SKIPPED | SKIPPED | SKIPPED | SKIPPED | +-------------------------------+--------------------+-------------------+------------------+-------------------------+-------------------+----------------------+ | Fedora Linux 41 | PASS | PASS | PASS | SKIPPED | SKIPPED | SKIPPED | +-------------------------------+--------------------+-------------------+------------------+-------------------------+-------------------+----------------------+ | openSUSE Leap 15.6 | PASS | SKIPPED | SKIPPED | SKIPPED | SKIPPED | SKIPPED | +-------------------------------+--------------------+-------------------+------------------+-------------------------+-------------------+----------------------+ | Red Hat Enterprise Linux 8.10 | PASS | SKIPPED | SKIPPED | SKIPPED | SKIPPED | SKIPPED | +-------------------------------+--------------------+-------------------+------------------+-------------------------+-------------------+----------------------+ | Red Hat Enterprise Linux 9.5 | PASS | SKIPPED | SKIPPED | SKIPPED | SKIPPED | SKIPPED | +-------------------------------+--------------------+-------------------+------------------+-------------------------+-------------------+----------------------+ | Ubuntu 20.04 | PASS | SKIPPED | SKIPPED | SKIPPED | SKIPPED | SKIPPED | +-------------------------------+--------------------+-------------------+------------------+-------------------------+-------------------+----------------------+ | Ubuntu 22.04 | PASS | PASS | SKIPPED | SKIPPED | SKIPPED | SKIPPED | +-------------------------------+--------------------+-------------------+------------------+-------------------------+-------------------+----------------------+ | Ubuntu 24.04 | PASS | PASS | PASS | SKIPPED | SKIPPED | SKIPPED | +-------------------------------+--------------------+-------------------+------------------+-------------------------+-------------------+----------------------+ | Alpine Linux 3.22.0 | PASS | SKIPPED | SKIPPED | SKIPPED | SKIPPED | SKIPPED | +-------------------------------+--------------------+-------------------+------------------+-------------------------+-------------------+----------------------+ | FreeBSD 14.2 | PASS | SKIPPED | SKIPPED | SKIPPED | SKIPPED | SKIPPED | +-------------------------------+--------------------+-------------------+------------------+-------------------------+-------------------+----------------------+ | Windows Server 2022 | SKIPPED | SKIPPED | SKIPPED | PASS | PASS | PASS | +-------------------------------+--------------------+-------------------+------------------+-------------------------+-------------------+----------------------+ CentOS Stream 9 Kernel: 5.15 Compiler: gcc gcc (GCC) 11.5.0 20240719 (Red Hat 11.5.0-7) CentOS Stream 10 Kernel: 5.15 Compiler: gcc gcc (GCC) 14.2.1 20250110 (Red Hat 14.2.1-8) Fedora Linux 40 Kernel: 5.15 Compiler: clang gcc (GCC) 14.2.1 20240912 (Red Hat 14.2.1-3) Debian GNU/Linux 12 Kernel: 5.15 Compiler: gcc gcc (Debian 12.2.0-14+deb12u1) 12.2.0 Fedora Linux 41 Kernel: 5.15 Compiler: clang gcc (GCC) 14.3.1 20250523 (Red Hat 14.3.1-1) openSUSE Leap 15.6 Kernel: 5.15 Compiler: gcc gcc (SUSE Linux) 7.5.0 Red Hat Enterprise Linux 8.10 Kernel: 5.15 Compiler: gcc gcc (GCC) 8.5.0 20210514 (Red Hat 8.5.0-22) Red Hat Enterprise Linux 9.5 Kernel: 5.15 Compiler: gcc gcc (GCC) 11.5.0 20240719 (Red Hat 11.5.0-2) Ubuntu 20.04 Kernel: 5.15 Compiler: gcc gcc (Ubuntu 9.4.0-1ubuntu1~20.04.2) 9.4.0 Ubuntu 22.04 Kernel: 5.15 Compiler: gcc gcc (Ubuntu 11.4.0-1ubuntu1~22.04) 11.4.0 Ubuntu 24.04 Kernel: 5.15 Compiler: gcc gcc (Ubuntu 13.3.0-6ubuntu2~24.04) 13.3.0 Alpine Linux 3.22.0 Kernel: 5.15 Compiler: gcc gcc (Alpine 14.2.0) 14.2.0 FreeBSD 14.2 Kernel: 14.2-RELEASE Compiler: clang 18.1.6 Windows Server 2022 Kernel: 10.0.20348.2031 Compiler: clang 15.0.7, gcc 14.1.0 (MinGW), and MSVC VS 19.39.33521 To view detailed results, visit: https://lab.dpdk.org/results/dashboard/patchsets/33552/ UNH-IOL DPDK Community Lab To manage your email subscriptions, visit: https://lab.dpdk.org/results/dashboard/preferences/subscriptions/