From mboxrd@z Thu Jan 1 00:00:00 1970 Return-Path: Received: from mails.dpdk.org (mails.dpdk.org [217.70.189.124]) by inbox.dpdk.org (Postfix) with ESMTP id CF0CC46AD4 for ; Tue, 1 Jul 2025 16:42:13 +0200 (CEST) Received: from mails.dpdk.org (localhost [127.0.0.1]) by mails.dpdk.org (Postfix) with ESMTP id AE4A7402A5; Tue, 1 Jul 2025 16:42:13 +0200 (CEST) Received: from mail-pl1-f228.google.com (mail-pl1-f228.google.com [209.85.214.228]) by mails.dpdk.org (Postfix) with ESMTP id B92CC402A5 for ; Tue, 1 Jul 2025 16:42:12 +0200 (CEST) Received: by mail-pl1-f228.google.com with SMTP id d9443c01a7336-234bfe37cccso69303095ad.0 for ; Tue, 01 Jul 2025 07:42:12 -0700 (PDT) DKIM-Signature: v=1; a=rsa-sha256; c=relaxed/relaxed; d=iol.unh.edu; s=unh-iol; t=1751380932; x=1751985732; darn=dpdk.org; h=references:in-reply-to:cc:to:from:subject:message-id:date:from:to :cc:subject:date:message-id:reply-to; bh=esiY7+RgpYC5Xan+tK3KJ5TRh65Syv1Gs9ZGOMIcXPo=; b=eB8sjbLwp4KbY1MRKD4wEddEdlQh/Y+aQ8es3f58mU/4Ui3HjqWiQ9tz2/wGM13Ycw uStMs8TOGasNpk5kETm1dldj/O3A3NTiUo3VwNR3VOv3Yq3uFonx8msqfpWEhog8a3xq 1+KFrRmDOuEZpo5qjFrIxo8gvDDGnBc5gC6bw= X-Google-DKIM-Signature: v=1; a=rsa-sha256; c=relaxed/relaxed; d=1e100.net; s=20230601; t=1751380932; x=1751985732; h=references:in-reply-to:cc:to:from:subject:message-id:date :x-gm-message-state:from:to:cc:subject:date:message-id:reply-to; bh=esiY7+RgpYC5Xan+tK3KJ5TRh65Syv1Gs9ZGOMIcXPo=; b=B1tAZkVFfpXig+M8OCHoal2WPlv6yHC8/+lWAnRtP7E/wMyu1zc7qqgN+hU458o0Vx 2DAU34SYieZbtZWAxK+RSalLxgUXqmtHozxjNtMOGAtQkouSAeYjpsg1EwZLEqCsOmtf vCYg4GNk9l7iTcGHZ6zk2J33JwIfDRhtt8bOyqo5TSVW+V7BRg/QFefAehv83HzcoomF gKQFpNKCqmiqWfQPOHblM3MnFFf2bAsTYtYlxSzdqii3fpHLvu5J1hxoNuO3Vxu7ms6B FJEwBN7R6wvN5uS+bDiHyXq2P9eE62nL9iPhKg0iOlmCdClQUYaJKQauCd+Ogunbjqb3 WNgg== X-Gm-Message-State: AOJu0YzgPR3rnBMzACzZRCIvGbbAgYFdXQKtfr1Awe0g7RiVE69CzUXW K0UK+06GPOWGnQbly0xJ0vYqaAqypbAeM+t0eegCnjUgyRig2rWABMhPzT3kSobXP0DGeGcR4XV 8pFnREI2mNueNr+Z7uICEhSXRL3m/KqKXy+ho4UnyOBBQJzWhrVCdQQTiwXfi X-Gm-Gg: ASbGncsptKclMQXiJlp6dkC+FIVomqf+WXgUOJf5GCeq2/FwFWBebOXRTdt50q/fns1 8h1Tgm51/GbD94vFb+Z/LFkQUd2FlMzaY7NMkHtp1m2LlgUdhvSG53hL+aSSpaSlAjZPt+hkVhV lAbaGEotVZROIVv2Wt02dzKwtPQulr/MNDXMHmlHB7NVubtPJ4mI9VY/cWXhbzY9nWxKvRMwOt7 XaGuoT+5BdnujqM1pxI1MmaGjRjR+a9RkK5faI6qun9ga1cx/BNDNWW3YyMFY6Y2hUE87UapW7/ UYNaRZ64isMR+P0GlNT6nmgPZezJv7V2tn5VRL/a3Y6uwyg= X-Google-Smtp-Source: AGHT+IG6XCihC4P8wpSy6NFSog+BgMYdNEtdERNqChFgMOyGVkF6EDzV0UtdFEQI+GKeDljrVu7HI6KlhcC4 X-Received: by 2002:a17:902:f545:b0:234:8ec1:4af1 with SMTP id d9443c01a7336-23ac19ab87cmr301645905ad.0.1751380931834; Tue, 01 Jul 2025 07:42:11 -0700 (PDT) Received: from postal.iol.unh.edu (postal.iol.unh.edu. [2606:4100:3880:1234::84]) by smtp-relay.gmail.com with ESMTPS id d9443c01a7336-23acb2f1b0fsm5437355ad.32.2025.07.01.07.42.11 (version=TLS1_2 cipher=ECDHE-ECDSA-AES128-GCM-SHA256 bits=128/128); Tue, 01 Jul 2025 07:42:11 -0700 (PDT) X-Relaying-Domain: iol.unh.edu Date: Tue, 01 Jul 2025 07:42:11 -0700 (PDT) Message-ID: <6863f3c3.170a0220.104796.d76eSMTPIN_ADDED_MISSING@mx.google.com> Received: from [172.21.0.5] (unknown [172.18.0.240]) by postal.iol.unh.edu (Postfix) with ESMTP id 0A699604D420; Tue, 1 Jul 2025 10:42:11 -0400 (EDT) Subject: |SUCCESS| pw154899-154901 [PATCH] [v2,3/3] net/ntnic: unmap DMA duri From: dpdklab@iol.unh.edu To: Test Report Cc: dpdk-test-reports@iol.unh.edu In-Reply-To: <20250701102027.3525524-4-sil-plv@napatech.com> References: <20250701102027.3525524-4-sil-plv@napatech.com> Content-Type: text/plain X-BeenThere: test-report@dpdk.org X-Mailman-Version: 2.1.29 Precedence: list List-Id: automatic DPDK test reports List-Unsubscribe: , List-Archive: List-Post: List-Help: List-Subscribe: , Errors-To: test-report-bounces@dpdk.org Test-Label: iol-unit-amd64-testing Test-Status: SUCCESS http://dpdk.org/patch/154901 _Testing PASS_ Submitter: Serhii Iliushyk Date: Tuesday, July 01 2025 10:20:27 DPDK git baseline: Repo:dpdk Branch: master CommitID:77864da82f25a9e1e43c14b2cba68c2049a3ee3e 154899-154901 --> testing pass Upstream job id: Generic-VM-Unit-Test-DPDK#29621 Test environment and result as below: +-------------------------------+----------------+ | Environment | dpdk_unit_test | +===============================+================+ | Fedora Linux 41 | PASS | +-------------------------------+----------------+ | CentOS Stream 10 | PASS | +-------------------------------+----------------+ | CentOS Stream 9 | PASS | +-------------------------------+----------------+ | Fedora Linux 40 | PASS | +-------------------------------+----------------+ | Debian GNU/Linux 12 | PASS | +-------------------------------+----------------+ | Red Hat Enterprise Linux 9.5 | PASS | +-------------------------------+----------------+ | Red Hat Enterprise Linux 8.10 | PASS | +-------------------------------+----------------+ | Ubuntu 22.04 | PASS | +-------------------------------+----------------+ | Ubuntu 24.04 | PASS | +-------------------------------+----------------+ | Ubuntu 20.04 | PASS | +-------------------------------+----------------+ | Windows Server 2022 | PASS | +-------------------------------+----------------+ Fedora Linux 41 Kernel: 5.15 Compiler: gcc gcc (GCC) 14.3.1 20250523 (Red Hat 14.3.1-1) CentOS Stream 10 Kernel: 5.15 Compiler: gcc gcc (GCC) 14.2.1 20250110 (Red Hat 14.2.1-8) CentOS Stream 9 Kernel: 5.15 Compiler: gcc gcc (GCC) 11.5.0 20240719 (Red Hat 11.5.0-7) Fedora Linux 40 Kernel: 5.15 Compiler: clang gcc (GCC) 14.2.1 20240912 (Red Hat 14.2.1-3) Debian GNU/Linux 12 Kernel: 5.15 Compiler: gcc gcc (Debian 12.2.0-14+deb12u1) 12.2.0 Red Hat Enterprise Linux 9.5 Kernel: 5.15 Compiler: gcc gcc (GCC) 11.5.0 20240719 (Red Hat 11.5.0-2) Red Hat Enterprise Linux 8.10 Kernel: 5.15 Compiler: gcc gcc (GCC) 8.5.0 20210514 (Red Hat 8.5.0-22) Ubuntu 22.04 Kernel: 5.15 Compiler: gcc gcc (Ubuntu 11.4.0-1ubuntu1~22.04) 11.4.0 Ubuntu 24.04 Kernel: 5.15 Compiler: gcc gcc (Ubuntu 13.3.0-6ubuntu2~24.04) 13.3.0 Ubuntu 20.04 Kernel: 5.15 Compiler: gcc gcc (Ubuntu 9.4.0-1ubuntu1~20.04.2) 9.4.0 Windows Server 2022 Kernel: 10.0.20348.2031 Compiler: clang 15.0.7, gcc 14.1.0 (MinGW), and MSVC VS 19.39.33521 To view detailed results, visit: https://lab.dpdk.org/results/dashboard/patchsets/33552/ UNH-IOL DPDK Community Lab To manage your email subscriptions, visit: https://lab.dpdk.org/results/dashboard/preferences/subscriptions/