From mboxrd@z Thu Jan 1 00:00:00 1970 Return-Path: Received: from mails.dpdk.org (mails.dpdk.org [217.70.189.124]) by inbox.dpdk.org (Postfix) with ESMTP id 839F146ACD for ; Tue, 1 Jul 2025 17:12:20 +0200 (CEST) Received: from mails.dpdk.org (localhost [127.0.0.1]) by mails.dpdk.org (Postfix) with ESMTP id 5B61C40264; Tue, 1 Jul 2025 17:12:20 +0200 (CEST) Received: from mail-oa1-f100.google.com (mail-oa1-f100.google.com [209.85.160.100]) by mails.dpdk.org (Postfix) with ESMTP id 4B87540264 for ; Tue, 1 Jul 2025 17:12:19 +0200 (CEST) Received: by mail-oa1-f100.google.com with SMTP id 586e51a60fabf-2eacb421554so977051fac.1 for ; Tue, 01 Jul 2025 08:12:19 -0700 (PDT) DKIM-Signature: v=1; a=rsa-sha256; c=relaxed/relaxed; d=iol.unh.edu; s=unh-iol; t=1751382738; x=1751987538; darn=dpdk.org; h=references:in-reply-to:cc:to:from:subject:message-id:date:from:to :cc:subject:date:message-id:reply-to; bh=gKp3kMxaTByqz/jdclkJI+1yV2gaTWNsuRV9pU1v4FY=; b=Z7nM43nmVDgOX+w3HBCY+9NCv7EVEN/y6JwjXLtTxllkPS9XXenPzzOLzyJxMnVvcU qkdu48VuN8o9Cw6qvAR0501TK6+QtTopl5J4+9WD7x2G5KwQeYA/8elA+r1y2N+sGa+Y VVDvpkevA9k2cb0HEZ4O+L6ZrO1ZbRHG/Kwwo= X-Google-DKIM-Signature: v=1; a=rsa-sha256; c=relaxed/relaxed; d=1e100.net; s=20230601; t=1751382738; x=1751987538; h=references:in-reply-to:cc:to:from:subject:message-id:date :x-gm-message-state:from:to:cc:subject:date:message-id:reply-to; bh=gKp3kMxaTByqz/jdclkJI+1yV2gaTWNsuRV9pU1v4FY=; b=p04jtN+zapO8VngkX3mcfm+TPRv6eZ7777ocA9jiNWfFVu7qgJ884nP63pBgMj1jIV 81d5S+ie5I4VsWJcqwUQ+4pRfs6Mn5N/J5yUHvYTHufkFoORY/8iWFwwX5TPsIOSRFLA MIt7TSt/5jvn/KDNT1SyDePHnJO79y0dFv3XiL8XFztKVDIqYFtf5sBCa5WUXSMLEqnV ++oFYBPcGj7LwJhMqb8imivcTwj0o82gOTB3lpn1dkK4kAOGGUjfSCewDMN4/+rXhgQt b7RoGLepSIzUlIAngobD92VfhfwWhtt6AQS2Qu6pm73pdejAY0geMJpQXKDQZtZa8VEy tIJw== X-Gm-Message-State: AOJu0YzHAGEpJv54GKslzCDDThM9N0ihJrn2s+6HGXo2K4mXejw1iFTk GyMWGsGELx2l0I1qsTJIt00gQyJVh8g3YpUpGJSnqEPmSEs4X0juJStDZEMfsQbIAvFAztGDGaq xmd6IGh5835jOPpjKmPep8r/vKLo8pbJGjOVYoKaZpDAFwSK8T+MxQmVoSigO X-Gm-Gg: ASbGnctv7zGy26L1HJe7MCrPYffiuwaFAdALs0Fb5Kz2iq2rwxZY5cDG6bur0OuL18T L893TyWfcKWFp6GGtp4WQAn1XH3QRCxWdfieVPKFZN5KrbGSKR6rT37oYv5cil2i2w4X8xt/5Qs AChaXOhVj+FkDL74ciMtMJvgWmUNiO8reWiTjLzXOAIWXM08LQ6C9Q5bX+2zVfC3ymoLdDQZnx4 7LWH3w+DhYNiNyXGjHYIr7wCx/F9cYeZ4C6/i453uErNndu43m/vWztXlVjMytb8D11mcHt652F o4jbUqB048a7B/hHc/KnskX8I8eSfTVCeIHU7ZWlMScIjLQ= X-Google-Smtp-Source: AGHT+IGv7VRxu+jbe+wtsH6pEGZK4EKPnJizOgzeYCvXGoUpkkgv+1Ajbv7V5QxMfmrgJPQVDShZz+qMmSa7 X-Received: by 2002:a05:6870:a99b:b0:2ef:14cc:caa8 with SMTP id 586e51a60fabf-2efed451aa9mr12170404fac.3.1751382738507; Tue, 01 Jul 2025 08:12:18 -0700 (PDT) Received: from postal.iol.unh.edu (postal.iol.unh.edu. [2606:4100:3880:1234::84]) by smtp-relay.gmail.com with ESMTPS id 586e51a60fabf-2efd4febd16sm683175fac.27.2025.07.01.08.12.18 (version=TLS1_2 cipher=ECDHE-ECDSA-AES128-GCM-SHA256 bits=128/128); Tue, 01 Jul 2025 08:12:18 -0700 (PDT) X-Relaying-Domain: iol.unh.edu Date: Tue, 01 Jul 2025 08:12:18 -0700 (PDT) Message-ID: <6863fad2.050a0220.1aa4ad.4ff5SMTPIN_ADDED_MISSING@mx.google.com> Received: from [172.21.0.5] (unknown [172.18.0.240]) by postal.iol.unh.edu (Postfix) with ESMTP id 069CB604D420; Tue, 1 Jul 2025 11:12:18 -0400 (EDT) Subject: |SUCCESS| pw154899-154901 [PATCH] [v2,3/3] net/ntnic: unmap DMA duri From: dpdklab@iol.unh.edu To: Test Report Cc: dpdk-test-reports@iol.unh.edu In-Reply-To: <20250701102027.3525524-4-sil-plv@napatech.com> References: <20250701102027.3525524-4-sil-plv@napatech.com> Content-Type: text/plain X-BeenThere: test-report@dpdk.org X-Mailman-Version: 2.1.29 Precedence: list List-Id: automatic DPDK test reports List-Unsubscribe: , List-Archive: List-Post: List-Help: List-Subscribe: , Errors-To: test-report-bounces@dpdk.org Test-Label: iol-unit-arm64-testing Test-Status: SUCCESS http://dpdk.org/patch/154901 _Testing PASS_ Submitter: Serhii Iliushyk Date: Tuesday, July 01 2025 10:20:27 DPDK git baseline: Repo:dpdk Branch: master CommitID:77864da82f25a9e1e43c14b2cba68c2049a3ee3e 154899-154901 --> testing pass Upstream job id: Generic-Unit-Test-DPDK#351439 Test environment and result as below: +------------------------------+----------------+---------------------------+------------------------------+--------------+ | Environment | dpdk_unit_test | cryptodev_sw_zuc_autotest | cryptodev_sw_snow3g_autotest | lpm_autotest | +==============================+================+===========================+==============================+==============+ | CentOS Stream 10 | PASS | SKIPPED | SKIPPED | SKIPPED | +------------------------------+----------------+---------------------------+------------------------------+--------------+ | Fedora Linux 40 | PASS | SKIPPED | SKIPPED | SKIPPED | +------------------------------+----------------+---------------------------+------------------------------+--------------+ | CentOS Stream 9 | PASS | SKIPPED | SKIPPED | SKIPPED | +------------------------------+----------------+---------------------------+------------------------------+--------------+ | Fedora Linux 41 | PASS | SKIPPED | SKIPPED | SKIPPED | +------------------------------+----------------+---------------------------+------------------------------+--------------+ | Red Hat Enterprise Linux 9.5 | PASS | SKIPPED | SKIPPED | SKIPPED | +------------------------------+----------------+---------------------------+------------------------------+--------------+ | Debian GNU/Linux 12 | PASS | SKIPPED | SKIPPED | SKIPPED | +------------------------------+----------------+---------------------------+------------------------------+--------------+ | Ubuntu 20.04 | PASS | SKIPPED | SKIPPED | PASS | +------------------------------+----------------+---------------------------+------------------------------+--------------+ | Ubuntu 22.04 | PASS | SKIPPED | SKIPPED | SKIPPED | +------------------------------+----------------+---------------------------+------------------------------+--------------+ | Ubuntu 24.04 | PASS | SKIPPED | SKIPPED | SKIPPED | +------------------------------+----------------+---------------------------+------------------------------+--------------+ | Debian 12 (arm) | SKIPPED | PASS | PASS | SKIPPED | +------------------------------+----------------+---------------------------+------------------------------+--------------+ CentOS Stream 10 Kernel: 5.4 Compiler: gcc gcc (GCC) 14.2.1 20250110 (Red Hat 14.2.1-8) Fedora Linux 40 Kernel: 5.4 Compiler: clang gcc (GCC) 14.2.1 20240912 (Red Hat 14.2.1-3) CentOS Stream 9 Kernel: 5.4 Compiler: gcc gcc (GCC) 11.5.0 20240719 (Red Hat 11.5.0-7) Fedora Linux 41 Kernel: 5.4 Compiler: gcc gcc (GCC) 14.3.1 20250523 (Red Hat 14.3.1-1) Red Hat Enterprise Linux 9.5 Kernel: 5.4 Compiler: gcc gcc (GCC) 11.5.0 20240719 (Red Hat 11.5.0-2) Debian GNU/Linux 12 Kernel: 5.4 Compiler: gcc gcc (Debian 12.2.0-14+deb12u1) 12.2.0 Ubuntu 20.04 Kernel: 5.4 Compiler: gcc gcc (Ubuntu 9.4.0-1ubuntu1~20.04.2) 9.4.0 Ubuntu 22.04 Kernel: 5.4 Compiler: gcc gcc (Ubuntu 11.4.0-1ubuntu1~22.04) 11.4.0 Ubuntu 24.04 Kernel: 5.4 Compiler: gcc gcc (Ubuntu 13.3.0-6ubuntu2~24.04) 13.3.0 Debian 12 (arm) Kernel: Depends on container host Compiler: gcc (Debian 12.2.0-14) 12.2.0 To view detailed results, visit: https://lab.dpdk.org/results/dashboard/patchsets/33552/ UNH-IOL DPDK Community Lab To manage your email subscriptions, visit: https://lab.dpdk.org/results/dashboard/preferences/subscriptions/