From mboxrd@z Thu Jan 1 00:00:00 1970 Return-Path: Received: from mails.dpdk.org (mails.dpdk.org [217.70.189.124]) by inbox.dpdk.org (Postfix) with ESMTP id 1736446ABC for ; Tue, 1 Jul 2025 17:41:41 +0200 (CEST) Received: from mails.dpdk.org (localhost [127.0.0.1]) by mails.dpdk.org (Postfix) with ESMTP id 01BDE40264; Tue, 1 Jul 2025 17:41:41 +0200 (CEST) Received: from mail-io1-f98.google.com (mail-io1-f98.google.com [209.85.166.98]) by mails.dpdk.org (Postfix) with ESMTP id 6E97040264 for ; Tue, 1 Jul 2025 17:41:40 +0200 (CEST) Received: by mail-io1-f98.google.com with SMTP id ca18e2360f4ac-874a68f6516so500461239f.2 for ; Tue, 01 Jul 2025 08:41:40 -0700 (PDT) DKIM-Signature: v=1; a=rsa-sha256; c=relaxed/relaxed; d=iol.unh.edu; s=unh-iol; t=1751384500; x=1751989300; darn=dpdk.org; h=references:in-reply-to:cc:to:from:subject:message-id:date:from:to :cc:subject:date:message-id:reply-to; bh=pBs5eN8DoQFttsQ6K/BM+PJOJ/UFzSB0WhsHUdc7atQ=; b=WfLwRfuuKRbwjLlbuv+Zq3O3oFqFeTJy6zLMDw8rYx4WeTx/i+jErY/3l2DACH7psI pxk6uau9VyICObV2BrcYtUo0cuf0UIFNVSQGGs5IQJLZpTDTWYA5jtAi3hwQcWod3bV2 35nRwHakZwR8cx/rwbLm9/V0yFqE7zclMWpDo= X-Google-DKIM-Signature: v=1; a=rsa-sha256; c=relaxed/relaxed; d=1e100.net; s=20230601; t=1751384500; x=1751989300; h=references:in-reply-to:cc:to:from:subject:message-id:date :x-gm-message-state:from:to:cc:subject:date:message-id:reply-to; bh=pBs5eN8DoQFttsQ6K/BM+PJOJ/UFzSB0WhsHUdc7atQ=; b=qA63+Hvss54XowKu1fU9JYNDm7fl8x0pMUhwNMn/JdQGatVSJtyfROTpAOBLH47bbi BZNoy1jxizdoS1EFLZHbi2KRRFwZxWUzWle0/1K8pSYPPg8FvkswBGHJQgKSeIyW83lp vQBQZSfz3Y8jdborMouMbdeLqr1lwnJ7epi5mvS700QTUJbAIo1TI3uba1ftToIIz46Q yH8rsGXt6owOAwN1IgolKuHDByHTSJuo9qoBkml0p59+Bgv52kaJyz+WdA+K+RJBn8K5 grYDCQZZzOcv4UisQahqrGp9thlcZCcOqK0egqj5EPPy2DFDL24xqc8cJ9yFtwrlM2Me DHXQ== X-Gm-Message-State: AOJu0YyGTihdEElaBVzgS16oqKGSYdiiA1yDADidgrhwYMtkkGR7xRH2 pUa8XK68rfOjaPdCc5brOcpEADh5w6lmBHRSl6mrEnXsr3iwxnjjxwHDHk8YVqtWI2vcJ6rNX+H ZlpZSK/HuG5QDAafMmzHg3DrOFBSn+WIMrE6c3eGbVsBO5gO4Mij53rXw7h0h X-Gm-Gg: ASbGncunFIL6pMrVxP3JKHiQ5NLZXbcOIeuT7nIkjuqDDVpe5flGSFrmiLA4pPhA8KN HVEOlKaG7GERowWGiMOp9GvStUvMCMQrlBm8yvspbn21mrKs+Pb6cRP7dO0LD+pKEbxNsoH1rHc CDY6gttfDiWLetX5iAlvgF7WYKjwmDcR1PMCP8Wwv6e9WzzAKzHPJqEh4C48pQmA38oGM2bZkHM zZ5HuX7yIlYoXtLBINRLPcHmVuq7iygdCtCppb0hUhSS5uI0hPXLBFWfMqNipxEPu6AxjKPaKC+ sWRD1bhGPi8D4zqSlpL0QKpZjkVTc0zXDBd4+LbqdBi3EKY= X-Google-Smtp-Source: AGHT+IEiRh6YCUnWNU4Z9pHytFhcgNWzC/z/D4dwB6cw2t+YZov7xLQtknbxzCBuM+Jqqk+ANo3pCD2EeLId X-Received: by 2002:a05:6e02:3398:b0:3df:3bdc:2e49 with SMTP id e9e14a558f8ab-3df4aba8bb2mr196503765ab.12.1751384499715; Tue, 01 Jul 2025 08:41:39 -0700 (PDT) Received: from postal.iol.unh.edu (postal.iol.unh.edu. [2606:4100:3880:1234::84]) by smtp-relay.gmail.com with ESMTPS id e9e14a558f8ab-3df4a037ad8sm6124305ab.25.2025.07.01.08.41.39 (version=TLS1_2 cipher=ECDHE-ECDSA-AES128-GCM-SHA256 bits=128/128); Tue, 01 Jul 2025 08:41:39 -0700 (PDT) X-Relaying-Domain: iol.unh.edu Date: Tue, 01 Jul 2025 08:41:39 -0700 (PDT) Message-ID: <686401b3.920a0220.8c28b.2fecSMTPIN_ADDED_MISSING@mx.google.com> Received: from [172.21.0.5] (unknown [172.18.0.240]) by postal.iol.unh.edu (Postfix) with ESMTP id 38CBF604D420; Tue, 1 Jul 2025 11:41:39 -0400 (EDT) Subject: |SUCCESS| pw154893-154898 [PATCH] [v3,6/6] net/hns3: VF support mult From: dpdklab@iol.unh.edu To: Test Report Cc: dpdk-test-reports@iol.unh.edu In-Reply-To: <20250701091004.531704-7-huangdengdui@huawei.com> References: <20250701091004.531704-7-huangdengdui@huawei.com> Content-Type: text/plain X-BeenThere: test-report@dpdk.org X-Mailman-Version: 2.1.29 Precedence: list List-Id: automatic DPDK test reports List-Unsubscribe: , List-Archive: List-Post: List-Help: List-Subscribe: , Errors-To: test-report-bounces@dpdk.org Test-Label: iol-compile-arm64-testing Test-Status: SUCCESS http://dpdk.org/patch/154898 _Testing PASS_ Submitter: Dengdui Huang Date: Tuesday, July 01 2025 09:10:04 DPDK git baseline: Repo:dpdk Branch: master CommitID:77864da82f25a9e1e43c14b2cba68c2049a3ee3e 154893-154898 --> testing pass Upstream job id: Generic-DPDK-Compile-Meson#404147 Test environment and result as below: +------------------------------+--------------------+ | Environment | dpdk_meson_compile | +==============================+====================+ | Red Hat Enterprise Linux 9.5 | PASS | +------------------------------+--------------------+ | Ubuntu 20.04 | PASS | +------------------------------+--------------------+ | Fedora Linux 40 | PASS | +------------------------------+--------------------+ | Debian GNU/Linux 12 | PASS | +------------------------------+--------------------+ | Fedora Linux 41 | PASS | +------------------------------+--------------------+ | CentOS Stream 9 | PASS | +------------------------------+--------------------+ | Ubuntu 24.04 | PASS | +------------------------------+--------------------+ | Ubuntu 22.04 | PASS | +------------------------------+--------------------+ | CentOS Stream 10 | PASS | +------------------------------+--------------------+ Red Hat Enterprise Linux 9.5 Kernel: 5.4 Compiler: gcc gcc (GCC) 11.5.0 20240719 (Red Hat 11.5.0-2) Ubuntu 20.04 Kernel: 5.15 Compiler: aarch64-linux-gnu-gcc gcc (Ubuntu 9.4.0-1ubuntu1~20.04.2) 9.4.0 Fedora Linux 40 Kernel: 5.4 Compiler: gcc gcc (GCC) 14.2.1 20240912 (Red Hat 14.2.1-3) Debian GNU/Linux 12 Kernel: 5.4 Compiler: gcc gcc (Debian 12.2.0-14+deb12u1) 12.2.0 Fedora Linux 41 Kernel: 5.4 Compiler: clang gcc (GCC) 14.3.1 20250523 (Red Hat 14.3.1-1) CentOS Stream 9 Kernel: 5.4 Compiler: gcc gcc (GCC) 11.5.0 20240719 (Red Hat 11.5.0-7) Ubuntu 24.04 Kernel: 5.4 Compiler: gcc gcc (Ubuntu 13.3.0-6ubuntu2~24.04) 13.3.0 Ubuntu 22.04 Kernel: 5.4 Compiler: gcc gcc (Ubuntu 11.4.0-1ubuntu1~22.04) 11.4.0 CentOS Stream 10 Kernel: 5.4 Compiler: gcc gcc (GCC) 14.2.1 20250110 (Red Hat 14.2.1-8) To view detailed results, visit: https://lab.dpdk.org/results/dashboard/patchsets/33551/ UNH-IOL DPDK Community Lab To manage your email subscriptions, visit: https://lab.dpdk.org/results/dashboard/preferences/subscriptions/