From mboxrd@z Thu Jan 1 00:00:00 1970 Return-Path: Received: from mails.dpdk.org (mails.dpdk.org [217.70.189.124]) by inbox.dpdk.org (Postfix) with ESMTP id D2BF546ABC for ; Tue, 1 Jul 2025 17:46:16 +0200 (CEST) Received: from mails.dpdk.org (localhost [127.0.0.1]) by mails.dpdk.org (Postfix) with ESMTP id A4E6340264; Tue, 1 Jul 2025 17:46:16 +0200 (CEST) Received: from mail-yw1-f227.google.com (mail-yw1-f227.google.com [209.85.128.227]) by mails.dpdk.org (Postfix) with ESMTP id C108E40264 for ; Tue, 1 Jul 2025 17:46:15 +0200 (CEST) Received: by mail-yw1-f227.google.com with SMTP id 00721157ae682-710f39f5cb9so56619197b3.3 for ; Tue, 01 Jul 2025 08:46:15 -0700 (PDT) DKIM-Signature: v=1; a=rsa-sha256; c=relaxed/relaxed; d=iol.unh.edu; s=unh-iol; t=1751384775; x=1751989575; darn=dpdk.org; h=references:in-reply-to:cc:to:from:subject:message-id:date:from:to :cc:subject:date:message-id:reply-to; bh=umk+TJjxw2xyTX8/7JBHkfV21QznFylZq14GHcAa8Z8=; b=cyWE1Yg0J1AjKhw4lhrNtWaPCAGOwF6xX6PgJSgWTvsJKGjmFfopRdLCDmFll2DUtf p68g+lhUCm9YGcjsXdDYkTHehczEGRtD08qR5u2FZkA8wqGC9WjQHxGKP3wH0O2j64Jc S9SC9rmnaCMzA0xkBzcEXughVdRUr0JA5u3qM= X-Google-DKIM-Signature: v=1; a=rsa-sha256; c=relaxed/relaxed; d=1e100.net; s=20230601; t=1751384775; x=1751989575; h=references:in-reply-to:cc:to:from:subject:message-id:date :x-gm-message-state:from:to:cc:subject:date:message-id:reply-to; bh=umk+TJjxw2xyTX8/7JBHkfV21QznFylZq14GHcAa8Z8=; b=d1PfEEbP9ami//evabzgXlXIfFe7D9mYJAwVlD/nDZ+ufhRiAnvXWmbHejK2EjVzEA W+oB4605ZhYtAgniOObSUV3O+8rY/tqJJzVuLk+qCphCxrauy8MRbfuUSdhOSw8WA4v9 aucZU9ZLacntkiYL2Z2Kf4m4snLiLk0+gewbv0PKr/yOqxcJmisWAv8Y4tnKsJj87NuD CMYB4Teg39QdxJTkAXWiIxnYJa0AReuUJtAOSHUJxHJqPi5d6md+Sl/qZktr35PYozQH S/UhLDvaRtDBuqvUIdd/E542aRDiGdiM/dRGjPWyapXKBRPEw+PWUmQGdmyaF+9iT+1E yWYA== X-Gm-Message-State: AOJu0YyGtAd3i59rAv2iKwatmmwDehD0jZfPAl9vGAijptveyf2uSV1v CA3ye6wuOeuspd2VOH0kUt3KXmrMrBR05JZu7LdDu5hLxkicfKTi9H8yyRUlkLK3teFnGbBMi5T eltBiQTmlnHyOo3DGKwdPIN8NkKnJhpAJYByZeX6QCx6nvqJhwNGsp4xcGoZt X-Gm-Gg: ASbGncuBvZPL6NKoP9Ed43DDOgHSSHTZuV5rFVpWenhvoBP4izznSVooL82NMzr1kgX Pxzq4RuBRHqCNlJJlX//0UcLGXQlZiTX3glRw4uSxoJowrLQHfOgzEhK70uYfYVpSInaXCOySSM 2ioRIF5aImLmbaPuejZqVgHFfJw4TtmW5+AVABu4MoktGLLnsYdOIUVXt4VD4aHXX96+1/QTwFH czUHN6h4fxRy1bjXWqMOHQUfN68jpZorROeMzsRT31ePktfe4+JxQ/nza85m8FmepVXSEUuJyLE qnP7QiE60V5EUp8vKfAAaR6MTIDzARt/Qp9gYNFxT3vi6Lc= X-Google-Smtp-Source: AGHT+IHda5Gza1yLWKjWpXoMV0J/cIf0XbRfXgnmQMnYsEoIFjD5C8GqY9kmsfmZRnXEwG3nAFLhr0vSP6PW X-Received: by 2002:a05:690c:c99:b0:70e:779:7e84 with SMTP id 00721157ae682-715171a3749mr267820737b3.27.1751384775055; Tue, 01 Jul 2025 08:46:15 -0700 (PDT) Received: from postal.iol.unh.edu (postal.iol.unh.edu. [2606:4100:3880:1234::84]) by smtp-relay.gmail.com with ESMTPS id 00721157ae682-71515be1587sm3752327b3.13.2025.07.01.08.46.14 (version=TLS1_2 cipher=ECDHE-ECDSA-AES128-GCM-SHA256 bits=128/128); Tue, 01 Jul 2025 08:46:15 -0700 (PDT) X-Relaying-Domain: iol.unh.edu Date: Tue, 01 Jul 2025 08:46:15 -0700 (PDT) Message-ID: <686402c7.050a0220.1c2337.53a9SMTPIN_ADDED_MISSING@mx.google.com> Received: from [172.21.0.5] (unknown [172.18.0.240]) by postal.iol.unh.edu (Postfix) with ESMTP id AFDE9604D420; Tue, 1 Jul 2025 11:46:14 -0400 (EDT) Subject: |SUCCESS| pw154842-154847 [PATCH] [v6,6/6] net/dpaa2: enable softwar From: dpdklab@iol.unh.edu To: Test Report Cc: dpdk-test-reports@iol.unh.edu In-Reply-To: <20250630095800.2943863-7-g.singh@nxp.com> References: <20250630095800.2943863-7-g.singh@nxp.com> Content-Type: text/plain X-BeenThere: test-report@dpdk.org X-Mailman-Version: 2.1.29 Precedence: list List-Id: automatic DPDK test reports List-Unsubscribe: , List-Archive: List-Post: List-Help: List-Subscribe: , Errors-To: test-report-bounces@dpdk.org Test-Label: iol-compile-arm64-testing Test-Status: SUCCESS http://dpdk.org/patch/154847 _Testing PASS_ Submitter: Gagandeep Singh Date: Monday, June 30 2025 09:58:00 DPDK git baseline: Repo:dpdk Branch: master CommitID:798e267824a5b9018fff6e0dc37e9a9f1f73e8fb 154842-154847 --> testing pass Upstream job id: Generic-DPDK-Compile-Meson#404209 Test environment and result as below: +------------------------------+--------------------+ | Environment | dpdk_meson_compile | +==============================+====================+ | Ubuntu 20.04 | PASS | +------------------------------+--------------------+ | Red Hat Enterprise Linux 9.5 | PASS | +------------------------------+--------------------+ | Debian GNU/Linux 12 | PASS | +------------------------------+--------------------+ | Fedora Linux 40 | PASS | +------------------------------+--------------------+ | Fedora Linux 41 | PASS | +------------------------------+--------------------+ | Ubuntu 22.04 | PASS | +------------------------------+--------------------+ | CentOS Stream 10 | PASS | +------------------------------+--------------------+ | Ubuntu 24.04 | PASS | +------------------------------+--------------------+ | CentOS Stream 9 | PASS | +------------------------------+--------------------+ Ubuntu 20.04 Kernel: 5.15 Compiler: aarch64-linux-gnu-gcc gcc (Ubuntu 9.4.0-1ubuntu1~20.04.2) 9.4.0 Red Hat Enterprise Linux 9.5 Kernel: 5.4 Compiler: gcc gcc (GCC) 11.5.0 20240719 (Red Hat 11.5.0-2) Debian GNU/Linux 12 Kernel: 5.4 Compiler: gcc gcc (Debian 12.2.0-14+deb12u1) 12.2.0 Fedora Linux 40 Kernel: 5.4 Compiler: clang gcc (GCC) 14.2.1 20240912 (Red Hat 14.2.1-3) Fedora Linux 41 Kernel: 5.4 Compiler: clang gcc (GCC) 14.3.1 20250523 (Red Hat 14.3.1-1) Ubuntu 22.04 Kernel: 5.4 Compiler: gcc gcc (Ubuntu 11.4.0-1ubuntu1~22.04) 11.4.0 CentOS Stream 10 Kernel: 5.4 Compiler: gcc gcc (GCC) 14.2.1 20250110 (Red Hat 14.2.1-8) Ubuntu 24.04 Kernel: 5.4 Compiler: gcc gcc (Ubuntu 13.3.0-6ubuntu2~24.04) 13.3.0 CentOS Stream 9 Kernel: 5.4 Compiler: gcc gcc (GCC) 11.5.0 20240719 (Red Hat 11.5.0-7) To view detailed results, visit: https://lab.dpdk.org/results/dashboard/patchsets/33540/ UNH-IOL DPDK Community Lab To manage your email subscriptions, visit: https://lab.dpdk.org/results/dashboard/preferences/subscriptions/