From mboxrd@z Thu Jan 1 00:00:00 1970 Return-Path: Received: from mails.dpdk.org (mails.dpdk.org [217.70.189.124]) by inbox.dpdk.org (Postfix) with ESMTP id 4FA2C46AC4 for ; Tue, 1 Jul 2025 17:50:27 +0200 (CEST) Received: from mails.dpdk.org (localhost [127.0.0.1]) by mails.dpdk.org (Postfix) with ESMTP id 4B51B40264; Tue, 1 Jul 2025 17:50:27 +0200 (CEST) Received: from mail-io1-f97.google.com (mail-io1-f97.google.com [209.85.166.97]) by mails.dpdk.org (Postfix) with ESMTP id 8DC6D40264 for ; Tue, 1 Jul 2025 17:50:26 +0200 (CEST) Received: by mail-io1-f97.google.com with SMTP id ca18e2360f4ac-875f57e0cb9so524450639f.3 for ; Tue, 01 Jul 2025 08:50:26 -0700 (PDT) DKIM-Signature: v=1; a=rsa-sha256; c=relaxed/relaxed; d=iol.unh.edu; s=unh-iol; t=1751385026; x=1751989826; darn=dpdk.org; h=references:in-reply-to:cc:to:from:subject:message-id:date:from:to :cc:subject:date:message-id:reply-to; bh=SQ9zHcnaIKtg1SqN4nj5DeI2OcxaU8t0DpQ7gI6uSjE=; b=SroFL66mlIRTr+hYb0+Y0gXzv9kEz5E8tcMwGp4/PZ/jEQh6ii9VmZOkS4ftCzWCeP +p9RZvvQuSK5gEkzNnjscHqoSOsPXuBUxGFyxfniXw3wNmJGnePD9BOq0wzitGV68tAQ C1zNmhIZ4rYdj0fh/yfPexp5ngJ2lYYSYTcco= X-Google-DKIM-Signature: v=1; a=rsa-sha256; c=relaxed/relaxed; d=1e100.net; s=20230601; t=1751385026; x=1751989826; h=references:in-reply-to:cc:to:from:subject:message-id:date :x-gm-message-state:from:to:cc:subject:date:message-id:reply-to; bh=SQ9zHcnaIKtg1SqN4nj5DeI2OcxaU8t0DpQ7gI6uSjE=; b=pRnCYi9pYssz7NU6wp0oLhy4QTaN6sc4QZmhJhlmgVDncIoOIXLQNhrH2kcMVb7YRm HBLmS0PXGda5o5ZT/O+VPfL15SkNF6+WkrY1OaVCq/7aZEDcpTlwyW6zpQwH7hjfxEqO vCFgFOh0kEVsQ6cAvg2Q4LlQxFnOVIT+FEE7dgLo2wM0SYBusJwaoZDPv9gkx0v8qM0a +/ZFnKXUghfQjfAWCFYInGoTOk3L8mTQdRn80eWFjB/9a0Kqv0SfGncAVFNZb6KHH41F Cvk6TLwlgdMq0xOnZndSRJsEoUDd5DcRPG6Q3mc0rsgwD+dqtKSbUDwbmylcMmW9LoYp 3PHQ== X-Gm-Message-State: AOJu0YyTTNosZm4n6EbQXon9V32rmoArf8UaGAx2X8tT6AUa1syDLbJG cJ3K+8G/HxLDrFU2Gt8DRNSatoAPe+CKd5ZXpYeVl4XsPAlLYOQLVipewH/MncoR76vL6uuBhdk 0dJBn7JnibpBAveAmF/7ENUgZo6l9Sc79gkq1Wcyi0A25 X-Gm-Gg: ASbGnct1/QcTP/I+v7a+JLg5ArJeeBNWqErWpqHHDpkq9AI9q1dt9rbB1Mp8ArHBjm2 wKnO7LRmpiv7h4vijInF+xtQdC137EKXZSlDNqIKt4oRyYXQQedwArujfXrv0L46od/50M3CtnJ xXhCR5ewd7qTyYUJivfjwGDrT7QLT9AtQsqEU+n1+Lh4ZT4jJFCMOiUn8KHiRt7aXeUs2hoSDyq mBIQihoCRy+SzRB8U8bxzWErWVE30gTG/rwM9OKBSBpjBr8imPcN94uyLkfRvpE+PhOpRvhNAJe nC9OAC6c5+57R+7DwiW3ZftAnZPUE8DiWx306wp1Ce4hDCFl1BcqRHdCkYXZUfs4EObY5g== X-Google-Smtp-Source: AGHT+IGi3Yb777qMXL/CdgbBSe7FJSDIkK1njBXBzwhq5AdfMWYMthgWhU2SPrbRU+MUhco+mtPqSrDncSya X-Received: by 2002:a05:6e02:3c08:b0:3dd:cdf2:fea4 with SMTP id e9e14a558f8ab-3df4aba7d02mr189061855ab.14.1751385025789; Tue, 01 Jul 2025 08:50:25 -0700 (PDT) Received: from postal.iol.unh.edu (postal.iol.unh.edu. [132.177.123.84]) by smtp-relay.gmail.com with ESMTPS id 8926c6da1cb9f-50204857606sm411407173.2.2025.07.01.08.50.25 (version=TLS1_2 cipher=ECDHE-ECDSA-AES128-GCM-SHA256 bits=128/128); Tue, 01 Jul 2025 08:50:25 -0700 (PDT) X-Relaying-Domain: iol.unh.edu Date: Tue, 01 Jul 2025 08:50:25 -0700 (PDT) Message-ID: <686403c1.050a0220.25dcd1.62e3SMTPIN_ADDED_MISSING@mx.google.com> Received: from [172.21.0.5] (unknown [172.18.0.240]) by postal.iol.unh.edu (Postfix) with ESMTP id 6A917604D420; Tue, 1 Jul 2025 11:50:25 -0400 (EDT) Subject: |SUCCESS| pw154902 [PATCH] net/mlx5: fix masked indirect age action From: dpdklab@iol.unh.edu To: Test Report Cc: dpdk-test-reports@iol.unh.edu In-Reply-To: <20250701103253.318225-1-dsosnowski@nvidia.com> References: <20250701103253.318225-1-dsosnowski@nvidia.com> Content-Type: text/plain X-BeenThere: test-report@dpdk.org X-Mailman-Version: 2.1.29 Precedence: list List-Id: automatic DPDK test reports List-Unsubscribe: , List-Archive: List-Post: List-Help: List-Subscribe: , Errors-To: test-report-bounces@dpdk.org Test-Label: iol-unit-amd64-testing Test-Status: SUCCESS http://dpdk.org/patch/154902 _Testing PASS_ Submitter: Dariusz Sosnowski Date: Tuesday, July 01 2025 10:32:53 DPDK git baseline: Repo:dpdk Branch: master CommitID:5c0c1a13c34aa57c6e18f9ba852a9b5807c58b72 154902 --> testing pass Upstream job id: Generic-Unit-Test-DPDK#351473 Test environment and result as below: +-------------------------------+----------------+ | Environment | dpdk_unit_test | +===============================+================+ | CentOS Stream 9 | PASS | +-------------------------------+----------------+ | Fedora Linux 40 | PASS | +-------------------------------+----------------+ | Fedora Linux 41 | PASS | +-------------------------------+----------------+ | CentOS Stream 10 | PASS | +-------------------------------+----------------+ | Red Hat Enterprise Linux 9.5 | PASS | +-------------------------------+----------------+ | Ubuntu 22.04 | PASS | +-------------------------------+----------------+ | Debian GNU/Linux 12 | PASS | +-------------------------------+----------------+ | Ubuntu 20.04 | PASS | +-------------------------------+----------------+ | Red Hat Enterprise Linux 8.10 | PASS | +-------------------------------+----------------+ | Ubuntu 24.04 | PASS | +-------------------------------+----------------+ | Windows Server 2022 | PASS | +-------------------------------+----------------+ CentOS Stream 9 Kernel: 5.15 Compiler: gcc gcc (GCC) 11.5.0 20240719 (Red Hat 11.5.0-7) Fedora Linux 40 Kernel: 5.15 Compiler: gcc gcc (GCC) 14.2.1 20240912 (Red Hat 14.2.1-3) Fedora Linux 41 Kernel: 5.15 Compiler: gcc gcc (GCC) 14.3.1 20250523 (Red Hat 14.3.1-1) CentOS Stream 10 Kernel: 5.15 Compiler: gcc gcc (GCC) 14.2.1 20250110 (Red Hat 14.2.1-8) Red Hat Enterprise Linux 9.5 Kernel: 5.15 Compiler: gcc gcc (GCC) 11.5.0 20240719 (Red Hat 11.5.0-2) Ubuntu 22.04 Kernel: 5.15 Compiler: gcc gcc (Ubuntu 11.4.0-1ubuntu1~22.04) 11.4.0 Debian GNU/Linux 12 Kernel: 5.15 Compiler: gcc gcc (Debian 12.2.0-14+deb12u1) 12.2.0 Ubuntu 20.04 Kernel: 5.15 Compiler: gcc gcc (Ubuntu 9.4.0-1ubuntu1~20.04.2) 9.4.0 Red Hat Enterprise Linux 8.10 Kernel: 5.15 Compiler: gcc gcc (GCC) 8.5.0 20210514 (Red Hat 8.5.0-22) Ubuntu 24.04 Kernel: 5.15 Compiler: gcc gcc (Ubuntu 13.3.0-6ubuntu2~24.04) 13.3.0 Windows Server 2022 Kernel: 10.0.20348.2031 Compiler: clang 15.0.7, gcc 14.1.0 (MinGW), and MSVC VS 19.39.33521 To view detailed results, visit: https://lab.dpdk.org/results/dashboard/patchsets/33553/ UNH-IOL DPDK Community Lab To manage your email subscriptions, visit: https://lab.dpdk.org/results/dashboard/preferences/subscriptions/