From mboxrd@z Thu Jan 1 00:00:00 1970 Return-Path: Received: from mails.dpdk.org (mails.dpdk.org [217.70.189.124]) by inbox.dpdk.org (Postfix) with ESMTP id 8081746AD0 for ; Tue, 1 Jul 2025 17:51:44 +0200 (CEST) Received: from mails.dpdk.org (localhost [127.0.0.1]) by mails.dpdk.org (Postfix) with ESMTP id 6BE2F40264; Tue, 1 Jul 2025 17:51:44 +0200 (CEST) Received: from mail-oa1-f99.google.com (mail-oa1-f99.google.com [209.85.160.99]) by mails.dpdk.org (Postfix) with ESMTP id CA7A740264 for ; Tue, 1 Jul 2025 17:51:42 +0200 (CEST) Received: by mail-oa1-f99.google.com with SMTP id 586e51a60fabf-2eff5d1c7efso2146205fac.2 for ; Tue, 01 Jul 2025 08:51:42 -0700 (PDT) DKIM-Signature: v=1; a=rsa-sha256; c=relaxed/relaxed; d=iol.unh.edu; s=unh-iol; t=1751385102; x=1751989902; darn=dpdk.org; h=references:in-reply-to:cc:to:from:subject:message-id:date:from:to :cc:subject:date:message-id:reply-to; bh=vfGSaEfXyZ8i1lHVGZFPlp0KB0n1mAaTgCGxQwD3Vu4=; b=ag2yfNnIDgLIBKMitkHCVwh1TSVpbpZvc6auYxXnuNJYsZ/YayB9+yXMNn4Z8hACwK 7/VRD91mLLEBncHgD1dWcajvPRnqN7NNSbJmeH9KsgPQTs7AnA7vQsGP2f+06UbyjBzQ 5DqlDtnXRBAWfUFLV8Ty3yoeOAxPXqpCd8jOw= X-Google-DKIM-Signature: v=1; a=rsa-sha256; c=relaxed/relaxed; d=1e100.net; s=20230601; t=1751385102; x=1751989902; h=references:in-reply-to:cc:to:from:subject:message-id:date :x-gm-message-state:from:to:cc:subject:date:message-id:reply-to; bh=vfGSaEfXyZ8i1lHVGZFPlp0KB0n1mAaTgCGxQwD3Vu4=; b=vTbINq79cPA/Voc5gyy/ufXKBm6xVx9Qx6dCJ9cKgWun8p+pv6Zq4MEcK+19WaG/7J F5hoBKc9eqHoVmtmSA8wiaSJ3GhryTmO8lcG2xjet5gpsqq8OuLdwwUz3djbFkZVRE+A gQ+k65fCJAcmmbiclEzQ6IDHdPA6EKPmWzM8Q4ZVH0uUAqJFROh2RvuhMZNOww3brn6W orqAfG1yIdbVrXjntAMbJnTCFbdwsmNH7FTc/CLHpiOiMtNq8dfnXSbkRODXDGRZweK4 ZSe6LIOt1vZovIaOUhJWZaQs2+TzTl6F6JzjIC7IP2Ej2sQUzQp3sLkef6vWZg6HoMZG OAfA== X-Gm-Message-State: AOJu0YyM0DPfLH+03MJpFA+pQRn97+LOh6VRxb8+VCdxHtQIXMghJDvl hvXFWsDHQUKpU0baQK6dFFzLNa+u2YT0aPztM+c6A9DtoLAl93u8b5K/L6cKlK59HbI2dcSFWWl ariSvUBSPBfXIvifTBc1J8/+38AFdkEz21xPxc+9ohQai X-Gm-Gg: ASbGncsXqKdG12pNBaNizbKmqZgWqYo4IXayyYt6U632cbVxNcyhKfz8dXD7YG608pY 9OOrwvua1AsiB/iWXP4ucellVolpBoioJNqazXftULQBZe347mMgx4gUYzTr52esOKn+xYxw0lt P1fBpexWhKArZDGenWSaaWb2DILHfGs9eHYd47hfm1IzBskB7wmYOUQCqpxb2mwZFUhfKLFaDkH WOC3c1kgYFOsa+KOFVD5FgxX1bgl5fmxYqwl2RWiu7GLpI3Bt6eAT1N0BLtwG7wbKG+qfz1k8o4 z0hv4NvTnzyCADZvpk9bmFZbWS6umzyRcZeyuIvH6y0MP6yIK1V3WBSA4K/Yryt16PVepA== X-Google-Smtp-Source: AGHT+IFZgV+NzKa0D8I2JLJ62A0pWTvBVLSKEquTSuNNURwKIymo0CJmNTlGu6ShBwBNRcuJHKy86AS5NjLh X-Received: by 2002:a05:6871:109:b0:2bd:455e:c22e with SMTP id 586e51a60fabf-2efed6a5c5emr13473169fac.19.1751385102031; Tue, 01 Jul 2025 08:51:42 -0700 (PDT) Received: from postal.iol.unh.edu (postal.iol.unh.edu. [132.177.123.84]) by smtp-relay.gmail.com with ESMTPS id 586e51a60fabf-2efd4d812e6sm700732fac.3.2025.07.01.08.51.41 (version=TLS1_2 cipher=ECDHE-ECDSA-AES128-GCM-SHA256 bits=128/128); Tue, 01 Jul 2025 08:51:42 -0700 (PDT) X-Relaying-Domain: iol.unh.edu Date: Tue, 01 Jul 2025 08:51:42 -0700 (PDT) Message-ID: <6864040e.050a0220.80e98.8928SMTPIN_ADDED_MISSING@mx.google.com> Received: from [172.21.0.6] (unknown [172.18.0.240]) by postal.iol.unh.edu (Postfix) with ESMTP id 8AAAC604D420; Tue, 1 Jul 2025 11:51:41 -0400 (EDT) Subject: |SUCCESS| pw154902 [PATCH] net/mlx5: fix masked indirect age action From: dpdklab@iol.unh.edu To: Test Report Cc: dpdk-test-reports@iol.unh.edu In-Reply-To: <20250701103253.318225-1-dsosnowski@nvidia.com> References: <20250701103253.318225-1-dsosnowski@nvidia.com> Content-Type: text/plain X-BeenThere: test-report@dpdk.org X-Mailman-Version: 2.1.29 Precedence: list List-Id: automatic DPDK test reports List-Unsubscribe: , List-Archive: List-Post: List-Help: List-Subscribe: , Errors-To: test-report-bounces@dpdk.org Test-Label: iol-unit-amd64-testing Test-Status: SUCCESS http://dpdk.org/patch/154902 _Testing PASS_ Submitter: Dariusz Sosnowski Date: Tuesday, July 01 2025 10:32:53 DPDK git baseline: Repo:dpdk Branch: master CommitID:5c0c1a13c34aa57c6e18f9ba852a9b5807c58b72 154902 --> testing pass Upstream job id: Generic-VM-Unit-Test-DPDK#29622 Test environment and result as below: +-------------------------------+----------------+ | Environment | dpdk_unit_test | +===============================+================+ | CentOS Stream 9 | PASS | +-------------------------------+----------------+ | Fedora Linux 40 | PASS | +-------------------------------+----------------+ | Fedora Linux 41 | PASS | +-------------------------------+----------------+ | CentOS Stream 10 | PASS | +-------------------------------+----------------+ | Red Hat Enterprise Linux 9.5 | PASS | +-------------------------------+----------------+ | Ubuntu 22.04 | PASS | +-------------------------------+----------------+ | Debian GNU/Linux 12 | PASS | +-------------------------------+----------------+ | Ubuntu 20.04 | PASS | +-------------------------------+----------------+ | Red Hat Enterprise Linux 8.10 | PASS | +-------------------------------+----------------+ | Ubuntu 24.04 | PASS | +-------------------------------+----------------+ | Windows Server 2022 | PASS | +-------------------------------+----------------+ CentOS Stream 9 Kernel: 5.15 Compiler: gcc gcc (GCC) 11.5.0 20240719 (Red Hat 11.5.0-7) Fedora Linux 40 Kernel: 5.15 Compiler: gcc gcc (GCC) 14.2.1 20240912 (Red Hat 14.2.1-3) Fedora Linux 41 Kernel: 5.15 Compiler: gcc gcc (GCC) 14.3.1 20250523 (Red Hat 14.3.1-1) CentOS Stream 10 Kernel: 5.15 Compiler: gcc gcc (GCC) 14.2.1 20250110 (Red Hat 14.2.1-8) Red Hat Enterprise Linux 9.5 Kernel: 5.15 Compiler: gcc gcc (GCC) 11.5.0 20240719 (Red Hat 11.5.0-2) Ubuntu 22.04 Kernel: 5.15 Compiler: gcc gcc (Ubuntu 11.4.0-1ubuntu1~22.04) 11.4.0 Debian GNU/Linux 12 Kernel: 5.15 Compiler: gcc gcc (Debian 12.2.0-14+deb12u1) 12.2.0 Ubuntu 20.04 Kernel: 5.15 Compiler: gcc gcc (Ubuntu 9.4.0-1ubuntu1~20.04.2) 9.4.0 Red Hat Enterprise Linux 8.10 Kernel: 5.15 Compiler: gcc gcc (GCC) 8.5.0 20210514 (Red Hat 8.5.0-22) Ubuntu 24.04 Kernel: 5.15 Compiler: gcc gcc (Ubuntu 13.3.0-6ubuntu2~24.04) 13.3.0 Windows Server 2022 Kernel: 10.0.20348.2031 Compiler: clang 15.0.7, gcc 14.1.0 (MinGW), and MSVC VS 19.39.33521 To view detailed results, visit: https://lab.dpdk.org/results/dashboard/patchsets/33553/ UNH-IOL DPDK Community Lab To manage your email subscriptions, visit: https://lab.dpdk.org/results/dashboard/preferences/subscriptions/