From mboxrd@z Thu Jan 1 00:00:00 1970 Return-Path: Received: from mails.dpdk.org (mails.dpdk.org [217.70.189.124]) by inbox.dpdk.org (Postfix) with ESMTP id C100A46AD1 for ; Tue, 1 Jul 2025 17:54:12 +0200 (CEST) Received: from mails.dpdk.org (localhost [127.0.0.1]) by mails.dpdk.org (Postfix) with ESMTP id BD12940264; Tue, 1 Jul 2025 17:54:12 +0200 (CEST) Received: from mail-il1-f226.google.com (mail-il1-f226.google.com [209.85.166.226]) by mails.dpdk.org (Postfix) with ESMTP id 2DB9240264 for ; Tue, 1 Jul 2025 17:54:11 +0200 (CEST) Received: by mail-il1-f226.google.com with SMTP id e9e14a558f8ab-3df34b727dcso55497545ab.2 for ; Tue, 01 Jul 2025 08:54:11 -0700 (PDT) DKIM-Signature: v=1; a=rsa-sha256; c=relaxed/relaxed; d=iol.unh.edu; s=unh-iol; t=1751385250; x=1751990050; darn=dpdk.org; h=references:in-reply-to:cc:to:from:subject:message-id:date:from:to :cc:subject:date:message-id:reply-to; bh=g8iTPPlC00sgLfAisdvZ+TPfHawmGE6x1ADYFwDm5cE=; b=OOCjyDZBzdjnZlcqgOHH3uxbrFS7NqXF2G/G992zjAx0zz+a7clhw6Mw+T5j190dqv vNr754Fwk1ZiIH2/KhVC+1CUGWwgb7GkIvh/DQlO4nqQp+GbsWD0PAhQXTBE4b2iYNna Fg/x0xEmQJdVQu1E8QlOpv76vl/ZhsAD8s9nw= X-Google-DKIM-Signature: v=1; a=rsa-sha256; c=relaxed/relaxed; d=1e100.net; s=20230601; t=1751385250; x=1751990050; h=references:in-reply-to:cc:to:from:subject:message-id:date :x-gm-message-state:from:to:cc:subject:date:message-id:reply-to; bh=g8iTPPlC00sgLfAisdvZ+TPfHawmGE6x1ADYFwDm5cE=; b=KRBqTXm+R7WvcWecjF3rnYXRWDov3KhwnfxodGZq4iZUq587HMsPchFNZUXJCZBmsT kFDzBC9ydv0F/pd+/CWo2XNKGR1eFnmexoVpm0D7qugp+6wnTxfZ9EaoW27rDhsGHOYB LVIolayc3+Ag7XwStOeIIfL+49th4fsBiIqlMW6EnTRMrNXqi4/q9/STMVP35cT403lG 1eK2Z80rpGSeuTitLw01H/JNeij31KtZ+Bd7882/dALWBfsjVyfLVz0Lg3YfAyXAgfte DF52laHvDDPLC3stsMEc8Ud/obbr+V+vLsBB7VFSdl/dsoWjX8SNjVZCDWbay7dmu0iW ov2Q== X-Gm-Message-State: AOJu0Yy3DIiN2zp7hAKmZeuEPpynzZhcqrNDL62ShEHR7y/zZJ98M+My En5IVYMNt5+A5d65S9oVsY1WIcqbxgAU28J7HcyuCUgWCGDtpwKcoTkwbZGoUr2BKcWrmrmYQgg ICTZIBMBcez03QFq8xjNJM1My2e0tfJfks0bTUU7X75H+ X-Gm-Gg: ASbGncseXyHFyj2lZqnPOeuWd1Kaak8mVCajjDo3hMYheK2+ifvS9VkYcCCNR5qy7+v NELfTJhYN6KOeu5azPT/p7eNMDd6bHKwvvLLhXsiybPXNGuC/7+B70KD2Ph7MUC4kci0uEuYPPp fNFZPdZmK/OPoTdX1526iGVxlTCLgmLvIOg+MAVduKhVd3H44yrWxiuex1esSCeIKIBbDiQD2PH ZqXH27i1Eincma5My7Ip/H8C0YemdOMydGgpzNWjup8b1bEqZJ/7hKLR4JMidU17v7D40kE+gbu btjKEElzDkD8BPd4haMTOP6shlUaA7HVj50Jom4RdLh+ZvNAdPvqT7yIDt9tl6eoOe138A== X-Google-Smtp-Source: AGHT+IFRlcZ8gM5e16b3EmnEIimQI3q8DjI4H1DaVb9k7myzIf/eyDNUuG6HqVwgKMXGEhWG3qumMNusn5Kv X-Received: by 2002:a05:6e02:219c:b0:3dd:cdea:8f85 with SMTP id e9e14a558f8ab-3df4acc8010mr221334915ab.20.1751385250105; Tue, 01 Jul 2025 08:54:10 -0700 (PDT) Received: from postal.iol.unh.edu (postal.iol.unh.edu. [132.177.123.84]) by smtp-relay.gmail.com with ESMTPS id e9e14a558f8ab-3df4a0260efsm5912405ab.23.2025.07.01.08.54.09 (version=TLS1_2 cipher=ECDHE-ECDSA-AES128-GCM-SHA256 bits=128/128); Tue, 01 Jul 2025 08:54:10 -0700 (PDT) X-Relaying-Domain: iol.unh.edu Date: Tue, 01 Jul 2025 08:54:10 -0700 (PDT) Message-ID: <686404a2.050a0220.266e25.f77aSMTPIN_ADDED_MISSING@mx.google.com> Received: from [172.21.0.7] (unknown [172.18.0.240]) by postal.iol.unh.edu (Postfix) with ESMTP id 8BEC5604D420; Tue, 1 Jul 2025 11:54:09 -0400 (EDT) Subject: |SUCCESS| pw154889-154890 [PATCH] [v2,6/6] net/hns3: VF support mult From: dpdklab@iol.unh.edu To: Test Report Cc: dpdk-test-reports@iol.unh.edu In-Reply-To: <20250701064512.3868175-7-huangdengdui@huawei.com> References: <20250701064512.3868175-7-huangdengdui@huawei.com> Content-Type: text/plain X-BeenThere: test-report@dpdk.org X-Mailman-Version: 2.1.29 Precedence: list List-Id: automatic DPDK test reports List-Unsubscribe: , List-Archive: List-Post: List-Help: List-Subscribe: , Errors-To: test-report-bounces@dpdk.org Test-Label: iol-unit-arm64-testing Test-Status: SUCCESS http://dpdk.org/patch/154890 _Testing PASS_ Submitter: Dengdui Huang Date: Tuesday, July 01 2025 06:45:12 DPDK git baseline: Repo:dpdk Branch: master CommitID:77864da82f25a9e1e43c14b2cba68c2049a3ee3e 154889-154890 --> testing pass Upstream job id: Aarch32-Unit-Test#6767 Test environment and result as below: +------------------------------+----------------+---------------------------+------------------------------+--------------+ | Environment | dpdk_unit_test | cryptodev_sw_zuc_autotest | cryptodev_sw_snow3g_autotest | lpm_autotest | +==============================+================+===========================+==============================+==============+ | CentOS Stream 9 | PASS | SKIPPED | SKIPPED | SKIPPED | +------------------------------+----------------+---------------------------+------------------------------+--------------+ | CentOS Stream 10 | PASS | SKIPPED | SKIPPED | SKIPPED | +------------------------------+----------------+---------------------------+------------------------------+--------------+ | Debian GNU/Linux 12 | PASS | SKIPPED | SKIPPED | SKIPPED | +------------------------------+----------------+---------------------------+------------------------------+--------------+ | Fedora Linux 40 | PASS | SKIPPED | SKIPPED | SKIPPED | +------------------------------+----------------+---------------------------+------------------------------+--------------+ | Fedora Linux 41 | PASS | SKIPPED | SKIPPED | SKIPPED | +------------------------------+----------------+---------------------------+------------------------------+--------------+ | Red Hat Enterprise Linux 9.5 | PASS | SKIPPED | SKIPPED | SKIPPED | +------------------------------+----------------+---------------------------+------------------------------+--------------+ | Ubuntu 20.04 | PASS | SKIPPED | SKIPPED | PASS | +------------------------------+----------------+---------------------------+------------------------------+--------------+ | Ubuntu 22.04 | PASS | SKIPPED | SKIPPED | SKIPPED | +------------------------------+----------------+---------------------------+------------------------------+--------------+ | Ubuntu 24.04 | PASS | SKIPPED | SKIPPED | SKIPPED | +------------------------------+----------------+---------------------------+------------------------------+--------------+ | Debian 12 (arm) | SKIPPED | PASS | PASS | SKIPPED | +------------------------------+----------------+---------------------------+------------------------------+--------------+ CentOS Stream 9 Kernel: 5.4 Compiler: gcc gcc (GCC) 11.5.0 20240719 (Red Hat 11.5.0-7) CentOS Stream 10 Kernel: 5.4 Compiler: gcc gcc (GCC) 14.2.1 20250110 (Red Hat 14.2.1-8) Debian GNU/Linux 12 Kernel: 5.4 Compiler: gcc gcc (Debian 12.2.0-14+deb12u1) 12.2.0 Fedora Linux 40 Kernel: 5.4 Compiler: clang gcc (GCC) 14.2.1 20240912 (Red Hat 14.2.1-3) Fedora Linux 41 Kernel: 5.4 Compiler: clang gcc (GCC) 14.3.1 20250523 (Red Hat 14.3.1-1) Red Hat Enterprise Linux 9.5 Kernel: 5.4 Compiler: gcc gcc (GCC) 11.5.0 20240719 (Red Hat 11.5.0-2) Ubuntu 20.04 Kernel: 5.4 Compiler: gcc gcc (Ubuntu 9.4.0-1ubuntu1~20.04.2) 9.4.0 Ubuntu 22.04 Kernel: 5.4 Compiler: gcc gcc (Ubuntu 11.4.0-1ubuntu1~22.04) 11.4.0 Ubuntu 24.04 Kernel: 5.4 Compiler: gcc gcc (Ubuntu 13.3.0-6ubuntu2~24.04) 13.3.0 Debian 12 (arm) Kernel: Depends on container host Compiler: gcc (Debian 12.2.0-14) 12.2.0 To view detailed results, visit: https://lab.dpdk.org/results/dashboard/patchsets/33550/ UNH-IOL DPDK Community Lab To manage your email subscriptions, visit: https://lab.dpdk.org/results/dashboard/preferences/subscriptions/