From mboxrd@z Thu Jan 1 00:00:00 1970 Return-Path: Received: from mails.dpdk.org (mails.dpdk.org [217.70.189.124]) by inbox.dpdk.org (Postfix) with ESMTP id 2BF9D46AD3 for ; Tue, 1 Jul 2025 18:17:13 +0200 (CEST) Received: from mails.dpdk.org (localhost [127.0.0.1]) by mails.dpdk.org (Postfix) with ESMTP id 2499A40276; Tue, 1 Jul 2025 18:17:13 +0200 (CEST) Received: from mail-yw1-f227.google.com (mail-yw1-f227.google.com [209.85.128.227]) by mails.dpdk.org (Postfix) with ESMTP id 62ECE40276 for ; Tue, 1 Jul 2025 18:17:11 +0200 (CEST) Received: by mail-yw1-f227.google.com with SMTP id 00721157ae682-70a57a8ffc3so62103967b3.0 for ; Tue, 01 Jul 2025 09:17:11 -0700 (PDT) DKIM-Signature: v=1; a=rsa-sha256; c=relaxed/relaxed; d=iol.unh.edu; s=unh-iol; t=1751386631; x=1751991431; darn=dpdk.org; h=references:in-reply-to:cc:to:from:subject:message-id:date:from:to :cc:subject:date:message-id:reply-to; bh=ZtoZDdiUqGpRUdK4kraye+YMMN6qcOafxiahq5sI2go=; b=gd6NSeOS4xw+G9KTkg/C9uTKRlpEM57SKTFCt/RHFnPh3r90u8NROtnT4EON/jVG7p Pc/7U1ODf9LmSSWgiuV1+G40rVMWL3yU6XaTFggwCJevuPtLSS4h4Vo8cHag5e5Uc7cX NpGnKVVIXEVAqpkrjF6McC6AMWXRUgCDzW+7w= X-Google-DKIM-Signature: v=1; a=rsa-sha256; c=relaxed/relaxed; d=1e100.net; s=20230601; t=1751386631; x=1751991431; h=references:in-reply-to:cc:to:from:subject:message-id:date :x-gm-message-state:from:to:cc:subject:date:message-id:reply-to; bh=ZtoZDdiUqGpRUdK4kraye+YMMN6qcOafxiahq5sI2go=; b=cECJGox1Nx6pRQmknmMyjrID2EHyHbaHyAC8zW63k4d88tXZWd3//Fzx+4Wz6lzLpr YnYhUtZayb57nCKO2lMGW/2prc59N7RWdO2hz/LY+yAg7XjG4lyo9CLxvT7p+//heXSA 7DP8gcJn40JzuwHeXisK6WhtGgZ44Pk7eQlyL+cFDafvFrViBiPEfOJ4f140Ix2GvzoY jdMq7GjVmnR9iQ/Q/ALb0a7MpSt5j8F18/eJUAaNZ7jjUfzmQQwVWilBIngNcxpfpAUD mDDQKkYqYOLimfjd1v0yN8H7AS9WKUOINqEgMtMla7KL5RL9qSPII/THB6KJcAO8T+JM JS/g== X-Gm-Message-State: AOJu0YyQXv4LbpnCh4PVnm1lrl5oriSQOpcX/36Elb4G3R3Cu7wLjb3j +M6bnGljgr5tQWeygm+on4kgE4tNRBOGkPuzpzBQhAUPWn5XH6u/5d9NPxsrdWnTg4unDFKXapu fF2fand/g7Y1kMByzdhkTyprjiVWQzq0yDPrwd3lF6mf1m1Vhkujuj0lnhubN X-Gm-Gg: ASbGncuQdeDUJZFWAGwfJ8n8Et59Lzu1047Qcc1T5dgSLHftCWBP+VvZin/ufI4hsfT r71ri8z2ESokoHw6+Jaioi1g+BD7OgcdmpI7NI79U6q7YIGMKRXwgjAloKz1xP3ozZHf9k9qPOE QzqMV4I2JpJ9APmnQGmG3+aN03DdvigyCpQS+OK3v99kD3fA6BxK72UMrJXcybITEmE0zJdtjUR CdOMD0J71ssOqJGIc61ozvZX5a/gBbndcemO1GpIstiEo54L3zdtENKk/hNoxQ62HbjPXFCTpZD iXRGqkXF0sgG2QxQPXHTX9UY8EWrh99/RixYjru9OFtSguE= X-Google-Smtp-Source: AGHT+IGjrYqunwD2MSBZR6nF6484UjberOoE/FAUCb2C+AVfPkUwPWQyzO7tsMxEO1Wzz01FYnqWLhJyfhQ7 X-Received: by 2002:a05:690c:6b07:b0:714:250:833a with SMTP id 00721157ae682-715171c747amr278956837b3.27.1751386630590; Tue, 01 Jul 2025 09:17:10 -0700 (PDT) Received: from postal.iol.unh.edu (postal.iol.unh.edu. [2606:4100:3880:1234::84]) by smtp-relay.gmail.com with ESMTPS id 00721157ae682-71515be13a9sm3755687b3.5.2025.07.01.09.17.10 (version=TLS1_2 cipher=ECDHE-ECDSA-AES128-GCM-SHA256 bits=128/128); Tue, 01 Jul 2025 09:17:10 -0700 (PDT) X-Relaying-Domain: iol.unh.edu Date: Tue, 01 Jul 2025 09:17:10 -0700 (PDT) Message-ID: <68640a06.050a0220.65032.4f1cSMTPIN_ADDED_MISSING@mx.google.com> Received: from [172.21.0.8] (unknown [172.18.0.240]) by postal.iol.unh.edu (Postfix) with ESMTP id 41DD8604D420; Tue, 1 Jul 2025 12:17:10 -0400 (EDT) Subject: |SUCCESS| pw154902 [PATCH] net/mlx5: fix masked indirect age action From: dpdklab@iol.unh.edu To: Test Report Cc: dpdk-test-reports@iol.unh.edu In-Reply-To: <20250701103253.318225-1-dsosnowski@nvidia.com> References: <20250701103253.318225-1-dsosnowski@nvidia.com> Content-Type: text/plain X-BeenThere: test-report@dpdk.org X-Mailman-Version: 2.1.29 Precedence: list List-Id: automatic DPDK test reports List-Unsubscribe: , List-Archive: List-Post: List-Help: List-Subscribe: , Errors-To: test-report-bounces@dpdk.org Test-Label: iol-unit-arm64-testing Test-Status: SUCCESS http://dpdk.org/patch/154902 _Testing PASS_ Submitter: Dariusz Sosnowski Date: Tuesday, July 01 2025 10:32:53 DPDK git baseline: Repo:dpdk Branch: master CommitID:5c0c1a13c34aa57c6e18f9ba852a9b5807c58b72 154902 --> testing pass Upstream job id: Generic-Unit-Test-DPDK#351465 Test environment and result as below: +------------------------------+--------------+---------------------------+------------------------------+----------------+ | Environment | lpm_autotest | cryptodev_sw_zuc_autotest | cryptodev_sw_snow3g_autotest | dpdk_unit_test | +==============================+==============+===========================+==============================+================+ | Ubuntu 20.04 | PASS | SKIPPED | SKIPPED | PASS | +------------------------------+--------------+---------------------------+------------------------------+----------------+ | Debian 12 (arm) | SKIPPED | PASS | PASS | SKIPPED | +------------------------------+--------------+---------------------------+------------------------------+----------------+ | CentOS Stream 9 | SKIPPED | SKIPPED | SKIPPED | PASS | +------------------------------+--------------+---------------------------+------------------------------+----------------+ | Debian GNU/Linux 12 | SKIPPED | SKIPPED | SKIPPED | PASS | +------------------------------+--------------+---------------------------+------------------------------+----------------+ | Fedora Linux 40 | SKIPPED | SKIPPED | SKIPPED | PASS | +------------------------------+--------------+---------------------------+------------------------------+----------------+ | Fedora Linux 41 | SKIPPED | SKIPPED | SKIPPED | PASS | +------------------------------+--------------+---------------------------+------------------------------+----------------+ | Red Hat Enterprise Linux 9.5 | SKIPPED | SKIPPED | SKIPPED | PASS | +------------------------------+--------------+---------------------------+------------------------------+----------------+ | CentOS Stream 10 | SKIPPED | SKIPPED | SKIPPED | PASS | +------------------------------+--------------+---------------------------+------------------------------+----------------+ | Ubuntu 24.04 | SKIPPED | SKIPPED | SKIPPED | PASS | +------------------------------+--------------+---------------------------+------------------------------+----------------+ | Ubuntu 22.04 | SKIPPED | SKIPPED | SKIPPED | PASS | +------------------------------+--------------+---------------------------+------------------------------+----------------+ Ubuntu 20.04 Kernel: 5.4 Compiler: gcc gcc (Ubuntu 9.4.0-1ubuntu1~20.04.2) 9.4.0 Debian 12 (arm) Kernel: Depends on container host Compiler: gcc (Debian 12.2.0-14) 12.2.0 CentOS Stream 9 Kernel: 5.4 Compiler: gcc gcc (GCC) 11.5.0 20240719 (Red Hat 11.5.0-7) Debian GNU/Linux 12 Kernel: 5.4 Compiler: gcc gcc (Debian 12.2.0-14+deb12u1) 12.2.0 Fedora Linux 40 Kernel: 5.4 Compiler: gcc gcc (GCC) 14.2.1 20240912 (Red Hat 14.2.1-3) Fedora Linux 41 Kernel: 5.4 Compiler: gcc gcc (GCC) 14.3.1 20250523 (Red Hat 14.3.1-1) Red Hat Enterprise Linux 9.5 Kernel: 5.4 Compiler: gcc gcc (GCC) 11.5.0 20240719 (Red Hat 11.5.0-2) CentOS Stream 10 Kernel: 5.4 Compiler: gcc gcc (GCC) 14.2.1 20250110 (Red Hat 14.2.1-8) Ubuntu 24.04 Kernel: 5.4 Compiler: gcc gcc (Ubuntu 13.3.0-6ubuntu2~24.04) 13.3.0 Ubuntu 22.04 Kernel: 5.4 Compiler: gcc gcc (Ubuntu 11.4.0-1ubuntu1~22.04) 11.4.0 To view detailed results, visit: https://lab.dpdk.org/results/dashboard/patchsets/33553/ UNH-IOL DPDK Community Lab To manage your email subscriptions, visit: https://lab.dpdk.org/results/dashboard/preferences/subscriptions/