From mboxrd@z Thu Jan 1 00:00:00 1970 Return-Path: Received: from mails.dpdk.org (mails.dpdk.org [217.70.189.124]) by inbox.dpdk.org (Postfix) with ESMTP id E2D6146AD3 for ; Tue, 1 Jul 2025 18:45:19 +0200 (CEST) Received: from mails.dpdk.org (localhost [127.0.0.1]) by mails.dpdk.org (Postfix) with ESMTP id DBCEF40264; Tue, 1 Jul 2025 18:45:19 +0200 (CEST) Received: from mail-qv1-f97.google.com (mail-qv1-f97.google.com [209.85.219.97]) by mails.dpdk.org (Postfix) with ESMTP id 3B74940264 for ; Tue, 1 Jul 2025 18:45:18 +0200 (CEST) Received: by mail-qv1-f97.google.com with SMTP id 6a1803df08f44-6fae04a3795so63766816d6.3 for ; Tue, 01 Jul 2025 09:45:18 -0700 (PDT) DKIM-Signature: v=1; a=rsa-sha256; c=relaxed/relaxed; d=iol.unh.edu; s=unh-iol; t=1751388317; x=1751993117; darn=dpdk.org; h=references:in-reply-to:cc:to:from:subject:message-id:date:from:to :cc:subject:date:message-id:reply-to; bh=jY0G3Nw5dD3qh37GosA4uYC1PWx4sCmu/6yG8G+qbEg=; b=EEjkI+iioH6fxu5N4XMy7X/ixMReRAZjzIQ+lOjYnq36VoziIYGsf1mdk4j6/J1ULj h+dcZjpfsHjiI/WyUkxbfL8SlLhuksXVJ0BsTvrfMV9LG0/7563GOyRAUBZrofS1OKqi q1qQK1HHqmpekVxc0A/yO2texVWM63gWOvOAM= X-Google-DKIM-Signature: v=1; a=rsa-sha256; c=relaxed/relaxed; d=1e100.net; s=20230601; t=1751388317; x=1751993117; h=references:in-reply-to:cc:to:from:subject:message-id:date :x-gm-message-state:from:to:cc:subject:date:message-id:reply-to; bh=jY0G3Nw5dD3qh37GosA4uYC1PWx4sCmu/6yG8G+qbEg=; b=b+qqlOClqHcGKbJLd4UuLZDE7QAtdGpYX6yyEW7IJUWk9ruLoPmAddRfJUY5OhDUGC p/IHr4eItGlB93Gvg4ogR1TfmRJ3IAvZh3y8oe4a5L4iuHsXxgUfJVbzZLbbyJOIBy0y uNcL2m58faJIdHDypVnYJjwu+O1SaXQ3KFX8nTC7Ro35MVP+2Ozu0RPR3QRFbU9mP6y9 W6ogwUsYE4i5X0RCbgEnA9iRVBAgH2gp5hrTvmxKvXd2i4hXIp6PRJRJvmbVajdUSAmE BIj+lZq1slFgCiw6mpLLBPE7YvOJ21M2WXye1GVuKuIuXyyGOSrqS56tNBoxunnGnNEj pgZw== X-Gm-Message-State: AOJu0YzxVephVF0nplu1BS0TS7WUaiFJ99qoMJ+3mjhM6OJTVMqUsMRG dkRoWHjLpX64tqNe9mJ2Gm9qpyBW/2izIiqbNAOnojwY6xAaUKwO8uppCX1aBi1ePx3H/8ftDws DAiIQgISjlwbtSriE5Q8lwU6oWrcCuA/w7UAYX9m/p118 X-Gm-Gg: ASbGncsEF4G1q0Elv1hdiArCLuUYV+hyelnsUaAsoSesFOe9rBMqKqFrhjBe//xcrED gvsP9AmH/J1maIMZRKsOH+5ES0ZluirsUUw1os5lokkKwqySZrv5WT/2emf/Mn1vKBFxWBO9siO uBQ/8u3PHL0aPhPXmJ6N9fHI3Hv+NaKbedGqYjZFuUp/GL23bM4ELi5ZNNMGHuTV3ErmoC6558X KBf3p1hy2uhDtApM+Z+yXaBOFTxmn+31ltd80B4DUMTMBOqZMufkGpBbe5a/4BQDa56yqZtnFlK j0olXWGI1XVhjz93F8Nbv9uuVg2w5bqCiPjP26RhnjeY6P0unxDIo8MWYSc5MEaRBMSKEA== X-Google-Smtp-Source: AGHT+IGaFUC4YO7E8CiLw2r0saIs2l1jHkSgD4+mGZR/w+WFBSr7StiOowz5Oejs+Eh+WJz4KBdoDhEXIKYg X-Received: by 2002:a05:6214:1d06:b0:6e8:fcde:58d5 with SMTP id 6a1803df08f44-70003c91c00mr269734516d6.42.1751388317532; Tue, 01 Jul 2025 09:45:17 -0700 (PDT) Received: from postal.iol.unh.edu (postal.iol.unh.edu. [132.177.123.84]) by smtp-relay.gmail.com with ESMTPS id 6a1803df08f44-6fd772a1c5asm6330706d6.62.2025.07.01.09.45.17 (version=TLS1_2 cipher=ECDHE-ECDSA-AES128-GCM-SHA256 bits=128/128); Tue, 01 Jul 2025 09:45:17 -0700 (PDT) X-Relaying-Domain: iol.unh.edu Date: Tue, 01 Jul 2025 09:45:17 -0700 (PDT) Message-ID: <6864109d.050a0220.3d1943.2fb0SMTPIN_ADDED_MISSING@mx.google.com> Received: from [172.21.0.8] (unknown [172.18.0.240]) by postal.iol.unh.edu (Postfix) with ESMTP id 429ED604D420; Tue, 1 Jul 2025 12:45:17 -0400 (EDT) Subject: |WARNING| pw154841 [PATCH] [v2] net/af_xdp: add rx/tx queue support From: dpdklab@iol.unh.edu To: Test Report Cc: dpdk-test-reports@iol.unh.edu In-Reply-To: <20250630085052.585867-1-shivajikant@google.com> References: <20250630085052.585867-1-shivajikant@google.com> Content-Type: text/plain X-BeenThere: test-report@dpdk.org X-Mailman-Version: 2.1.29 Precedence: list List-Id: automatic DPDK test reports List-Unsubscribe: , List-Archive: List-Post: List-Help: List-Subscribe: , Errors-To: test-report-bounces@dpdk.org Test-Label: iol-compile-amd64-testing Test-Status: WARNING http://dpdk.org/patch/154841 _Testing issues_ Submitter: Shivaji Kant Date: Monday, June 30 2025 08:50:52 DPDK git baseline: Repo:dpdk Branch: master CommitID:798e267824a5b9018fff6e0dc37e9a9f1f73e8fb 154841 --> testing issues Upstream job id: Windows-Compile-DPDK-VS#6219 Test environment and result as below: +-------------------------------+--------------------+-------------------+------------------+-------------------------+----------------------+-------------------+ | Environment | dpdk_meson_compile | dpdk_compile_spdk | dpdk_compile_ovs | dpdk_llvm_clang_compile | dpdk_mingw64_compile | dpdk_msvc_compile | +===============================+====================+===================+==================+=========================+======================+===================+ | CentOS Stream 9 | PASS | PASS | SKIPPED | SKIPPED | SKIPPED | SKIPPED | +-------------------------------+--------------------+-------------------+------------------+-------------------------+----------------------+-------------------+ | Fedora Linux 40 | PASS | PASS | SKIPPED | SKIPPED | SKIPPED | SKIPPED | +-------------------------------+--------------------+-------------------+------------------+-------------------------+----------------------+-------------------+ | CentOS Stream 10 | PASS | SKIPPED | SKIPPED | SKIPPED | SKIPPED | SKIPPED | +-------------------------------+--------------------+-------------------+------------------+-------------------------+----------------------+-------------------+ | Debian GNU/Linux 12 | PASS | PASS | SKIPPED | SKIPPED | SKIPPED | SKIPPED | +-------------------------------+--------------------+-------------------+------------------+-------------------------+----------------------+-------------------+ | Fedora Linux 41 | PASS | PASS | PASS | SKIPPED | SKIPPED | SKIPPED | +-------------------------------+--------------------+-------------------+------------------+-------------------------+----------------------+-------------------+ | openSUSE Leap 15.6 | PASS | SKIPPED | SKIPPED | SKIPPED | SKIPPED | SKIPPED | +-------------------------------+--------------------+-------------------+------------------+-------------------------+----------------------+-------------------+ | Red Hat Enterprise Linux 8.10 | PASS | SKIPPED | SKIPPED | SKIPPED | SKIPPED | SKIPPED | +-------------------------------+--------------------+-------------------+------------------+-------------------------+----------------------+-------------------+ | Ubuntu 20.04 | PASS | SKIPPED | SKIPPED | SKIPPED | SKIPPED | SKIPPED | +-------------------------------+--------------------+-------------------+------------------+-------------------------+----------------------+-------------------+ | Red Hat Enterprise Linux 9.5 | PASS | SKIPPED | SKIPPED | SKIPPED | SKIPPED | SKIPPED | +-------------------------------+--------------------+-------------------+------------------+-------------------------+----------------------+-------------------+ | Ubuntu 22.04 | PASS | PASS | SKIPPED | SKIPPED | SKIPPED | SKIPPED | +-------------------------------+--------------------+-------------------+------------------+-------------------------+----------------------+-------------------+ | Ubuntu 24.04 | PASS | PASS | PASS | SKIPPED | SKIPPED | SKIPPED | +-------------------------------+--------------------+-------------------+------------------+-------------------------+----------------------+-------------------+ | Alpine Linux 3.22.0 | PASS | SKIPPED | SKIPPED | SKIPPED | SKIPPED | SKIPPED | +-------------------------------+--------------------+-------------------+------------------+-------------------------+----------------------+-------------------+ | FreeBSD 14.2 | PASS | SKIPPED | SKIPPED | SKIPPED | SKIPPED | SKIPPED | +-------------------------------+--------------------+-------------------+------------------+-------------------------+----------------------+-------------------+ | Windows Server 2022 | SKIPPED | SKIPPED | SKIPPED | PASS | PASS | PASS | +-------------------------------+--------------------+-------------------+------------------+-------------------------+----------------------+-------------------+ CentOS Stream 9 Kernel: 5.15 Compiler: gcc gcc (GCC) 11.5.0 20240719 (Red Hat 11.5.0-7) Fedora Linux 40 Kernel: 5.15 Compiler: clang gcc (GCC) 14.2.1 20240912 (Red Hat 14.2.1-3) CentOS Stream 10 Kernel: 5.15 Compiler: gcc gcc (GCC) 14.2.1 20250110 (Red Hat 14.2.1-8) Debian GNU/Linux 12 Kernel: 5.15 Compiler: gcc gcc (Debian 12.2.0-14+deb12u1) 12.2.0 Fedora Linux 41 Kernel: 5.15 Compiler: clang gcc (GCC) 14.3.1 20250523 (Red Hat 14.3.1-1) openSUSE Leap 15.6 Kernel: 5.15 Compiler: gcc gcc (SUSE Linux) 7.5.0 Red Hat Enterprise Linux 8.10 Kernel: 5.15 Compiler: gcc gcc (GCC) 8.5.0 20210514 (Red Hat 8.5.0-22) Ubuntu 20.04 Kernel: 5.15 Compiler: gcc gcc (Ubuntu 9.4.0-1ubuntu1~20.04.2) 9.4.0 Red Hat Enterprise Linux 9.5 Kernel: 5.15 Compiler: gcc gcc (GCC) 11.5.0 20240719 (Red Hat 11.5.0-2) Ubuntu 22.04 Kernel: 5.15 Compiler: gcc gcc (Ubuntu 11.4.0-1ubuntu1~22.04) 11.4.0 Ubuntu 24.04 Kernel: 5.15 Compiler: gcc gcc (Ubuntu 13.3.0-6ubuntu2~24.04) 13.3.0 Alpine Linux 3.22.0 Kernel: 5.15 Compiler: gcc gcc (Alpine 14.2.0) 14.2.0 FreeBSD 14.2 Kernel: 14.2-RELEASE Compiler: clang 18.1.6 Windows Server 2022 Kernel: 10.0.20348.2031 Compiler: clang 15.0.7, gcc 14.1.0 (MinGW), and MSVC VS 19.39.33521 To view detailed results, visit: https://lab.dpdk.org/results/dashboard/patchsets/33539/ UNH-IOL DPDK Community Lab To manage your email subscriptions, visit: https://lab.dpdk.org/results/dashboard/preferences/subscriptions/