From mboxrd@z Thu Jan 1 00:00:00 1970 Return-Path: Received: from mails.dpdk.org (mails.dpdk.org [217.70.189.124]) by inbox.dpdk.org (Postfix) with ESMTP id 14F3146AD3 for ; Tue, 1 Jul 2025 18:46:06 +0200 (CEST) Received: from mails.dpdk.org (localhost [127.0.0.1]) by mails.dpdk.org (Postfix) with ESMTP id 1093340264; Tue, 1 Jul 2025 18:46:06 +0200 (CEST) Received: from mail-pl1-f226.google.com (mail-pl1-f226.google.com [209.85.214.226]) by mails.dpdk.org (Postfix) with ESMTP id 422EC40264 for ; Tue, 1 Jul 2025 18:46:05 +0200 (CEST) Received: by mail-pl1-f226.google.com with SMTP id d9443c01a7336-2349f096605so40435835ad.3 for ; Tue, 01 Jul 2025 09:46:05 -0700 (PDT) DKIM-Signature: v=1; a=rsa-sha256; c=relaxed/relaxed; d=iol.unh.edu; s=unh-iol; t=1751388364; x=1751993164; darn=dpdk.org; h=references:in-reply-to:cc:to:from:subject:message-id:date:from:to :cc:subject:date:message-id:reply-to; bh=9BgKDbxtbVwvhvHRIquUGSbGuq7v+K/b+7JXJsrMrlU=; b=NUqKQJCSQTn1kU4B8ZY6ZvaFSNX30TXQ5OnvoOifzmnL5JRBto+viJzKKQ5mQeJV+f Q8+sj1aeUHszDkzBk3J+Bwtoe58/B344NcSX8GECBRhDZKxaakmdT52QgsU0v1uPXupK WzMzXUdFo8/TKaULfl8AztJNc9Ac6UILV3+TE= X-Google-DKIM-Signature: v=1; a=rsa-sha256; c=relaxed/relaxed; d=1e100.net; s=20230601; t=1751388364; x=1751993164; h=references:in-reply-to:cc:to:from:subject:message-id:date :x-gm-message-state:from:to:cc:subject:date:message-id:reply-to; bh=9BgKDbxtbVwvhvHRIquUGSbGuq7v+K/b+7JXJsrMrlU=; b=n4Pe91CaGlGcn49meyPbRsl3NMGZ0UeZnZlS9KFQ9pfOUksAc3QmlV/6yjtIWMv40R bvgO1ME3tdp3m+s9cMO0JC1oowDy8Yytj6Gpm0O3JoJLf4bdrOC72v/BJKSCYS9Sy0H6 /yzAWhtnmv52tPUNfFg4EEAztEO3xQuT/KgLLhNdO1/gqhFugLBTObwDiTszXqnbQGuy vtCKlXRXdKmPPhVy5UKrkf9DIiDeNToviIzgBq6/OLIX/F7l7QJxShyFdUXKlHAK4fMT 5ElPsAVN7S942iR4t5uW6DpD/uE/DYhDG46QnjmM6ZjnZpR9yiAjCbp4xKQhAxmxTCnT zhSw== X-Gm-Message-State: AOJu0YwanWVCHiBNuT/RReSl/cS+90jZSSrp2IiKZS4iaWEZqGh7ZAqh xAqzY5xfUMVvBEwEiwHk+pKKynydFnEsiCYTjyq4/A2CZreYtf/uBt4xWAkLwSvsDHJ9VZlZ+r4 GDa/AKw79bA6ONq/NktHiZFrb3n5yYunC7V3z3BLyo0R2 X-Gm-Gg: ASbGnctLu+R+mNZk4WE9yrNQyDirLLqm16buo4zzQLU9QSqCufIDKXhfgZiXT3bpvVh ElNfHpzXsd3T79sehm7dYEBELSP12MCVcipJrxstuEU+wYtFF0L7N4+nzGm4BQ1NvZtlZQrq8UD 2cYUJc+0U/A8TF1+mtvtif6RR3SbXyka6yeSDL3NzcY308eUd3os1dtPf0fwbNcgRgFFdy1KxCT CEew7oD/rnF0jVlsMEtyKu3UD8bAK51Vlu+yxJ9BOCLKQ3COSnj4nqwtW9kZtHW0ILBA8ouZxiu WBPJui42QBvFovDraCphMwb8A0edmqUg07gQ2Eiu4eVFKGbu6lQt3oHRBjGbSSVCzrUyqQ== X-Google-Smtp-Source: AGHT+IESEvnc/mv9WgRceEsn/30Gg/pXKQNJ+oYi2DpHQsEKu0uL34RI9/lDx7kq4PvCP/DTCYCqvkZekefX X-Received: by 2002:a17:902:ce0e:b0:235:ea0d:ae10 with SMTP id d9443c01a7336-23ac40d4bf7mr304255765ad.12.1751388364365; Tue, 01 Jul 2025 09:46:04 -0700 (PDT) Received: from postal.iol.unh.edu (postal.iol.unh.edu. [132.177.123.84]) by smtp-relay.gmail.com with ESMTPS id d9443c01a7336-23acb34f016sm5546865ad.73.2025.07.01.09.46.04 (version=TLS1_2 cipher=ECDHE-ECDSA-AES128-GCM-SHA256 bits=128/128); Tue, 01 Jul 2025 09:46:04 -0700 (PDT) X-Relaying-Domain: iol.unh.edu Date: Tue, 01 Jul 2025 09:46:04 -0700 (PDT) Message-ID: <686410cc.170a0220.24f3ab.e537SMTPIN_ADDED_MISSING@mx.google.com> Received: from [172.21.0.6] (unknown [172.18.0.240]) by postal.iol.unh.edu (Postfix) with ESMTP id 926CA604D420; Tue, 1 Jul 2025 12:46:03 -0400 (EDT) Subject: |SUCCESS| pw154902 [PATCH] net/mlx5: fix masked indirect age action From: dpdklab@iol.unh.edu To: Test Report Cc: dpdk-test-reports@iol.unh.edu In-Reply-To: <20250701103253.318225-1-dsosnowski@nvidia.com> References: <20250701103253.318225-1-dsosnowski@nvidia.com> Content-Type: text/plain X-BeenThere: test-report@dpdk.org X-Mailman-Version: 2.1.29 Precedence: list List-Id: automatic DPDK test reports List-Unsubscribe: , List-Archive: List-Post: List-Help: List-Subscribe: , Errors-To: test-report-bounces@dpdk.org Test-Label: iol-abi-testing Test-Status: SUCCESS http://dpdk.org/patch/154902 _Testing PASS_ Submitter: Dariusz Sosnowski Date: Tuesday, July 01 2025 10:32:53 DPDK git baseline: Repo:dpdk Branch: master CommitID:5c0c1a13c34aa57c6e18f9ba852a9b5807c58b72 154902 --> testing pass Upstream job id: Generic-DPDK-Compile-ABI#132559 Test environment and result as below: +-------------------------------+----------+ | Environment | abi_test | +===============================+==========+ | CentOS Stream 9 | PASS | +-------------------------------+----------+ | Debian GNU/Linux 12 | PASS | +-------------------------------+----------+ | CentOS Stream 10 | PASS | +-------------------------------+----------+ | Fedora Linux 41 | PASS | +-------------------------------+----------+ | Fedora Linux 40 | PASS | +-------------------------------+----------+ | openSUSE Leap 15.6 | PASS | +-------------------------------+----------+ | Red Hat Enterprise Linux 9.5 | PASS | +-------------------------------+----------+ | Red Hat Enterprise Linux 8.10 | PASS | +-------------------------------+----------+ | Ubuntu 24.04 | PASS | +-------------------------------+----------+ | Ubuntu 22.04 | PASS | +-------------------------------+----------+ CentOS Stream 9 Kernel: 5.15 Compiler: gcc gcc (GCC) 11.5.0 20240719 (Red Hat 11.5.0-7) Debian GNU/Linux 12 Kernel: 5.15 Compiler: gcc gcc (Debian 12.2.0-14+deb12u1) 12.2.0 CentOS Stream 10 Kernel: 5.15 Compiler: gcc gcc (GCC) 14.2.1 20250110 (Red Hat 14.2.1-8) Fedora Linux 41 Kernel: 5.15 Compiler: gcc gcc (GCC) 14.3.1 20250523 (Red Hat 14.3.1-1) Fedora Linux 40 Kernel: 5.15 Compiler: clang gcc (GCC) 14.2.1 20240912 (Red Hat 14.2.1-3) openSUSE Leap 15.6 Kernel: 5.15 Compiler: gcc gcc (SUSE Linux) 7.5.0 Red Hat Enterprise Linux 9.5 Kernel: 5.15 Compiler: gcc gcc (GCC) 11.5.0 20240719 (Red Hat 11.5.0-2) Red Hat Enterprise Linux 8.10 Kernel: 5.15 Compiler: gcc gcc (GCC) 8.5.0 20210514 (Red Hat 8.5.0-22) Ubuntu 24.04 Kernel: 5.15 Compiler: gcc gcc (Ubuntu 13.3.0-6ubuntu2~24.04) 13.3.0 Ubuntu 22.04 Kernel: 5.15 Compiler: gcc gcc (Ubuntu 11.4.0-1ubuntu1~22.04) 11.4.0 To view detailed results, visit: https://lab.dpdk.org/results/dashboard/patchsets/33553/ UNH-IOL DPDK Community Lab To manage your email subscriptions, visit: https://lab.dpdk.org/results/dashboard/preferences/subscriptions/