From mboxrd@z Thu Jan 1 00:00:00 1970 Return-Path: Received: from mails.dpdk.org (mails.dpdk.org [217.70.189.124]) by inbox.dpdk.org (Postfix) with ESMTP id 2037F46AD3 for ; Tue, 1 Jul 2025 18:58:02 +0200 (CEST) Received: from mails.dpdk.org (localhost [127.0.0.1]) by mails.dpdk.org (Postfix) with ESMTP id 011CC40264; Tue, 1 Jul 2025 18:58:02 +0200 (CEST) Received: from mail-oa1-f100.google.com (mail-oa1-f100.google.com [209.85.160.100]) by mails.dpdk.org (Postfix) with ESMTP id 7F3AA40264 for ; Tue, 1 Jul 2025 18:58:01 +0200 (CEST) Received: by mail-oa1-f100.google.com with SMTP id 586e51a60fabf-2edec6c5511so1640012fac.2 for ; Tue, 01 Jul 2025 09:58:01 -0700 (PDT) DKIM-Signature: v=1; a=rsa-sha256; c=relaxed/relaxed; d=iol.unh.edu; s=unh-iol; t=1751389081; x=1751993881; darn=dpdk.org; h=references:in-reply-to:cc:to:from:subject:message-id:date:from:to :cc:subject:date:message-id:reply-to; bh=Hkh7CcRHYXgNR3bbzozBiTCHPi4Ea9MWrJQ6j+vuQog=; b=eTXZ7Pi3AmIKbtstsU5eMV06Ubqba1GxdGQedQwTgNTcbSD4hjSUeyrT038NmYl02g ZENKhNLxQ9H9PCkL2JkqwvQ5wWWiThPYxC3+T4R+AmehoEMhOfTo/w8ZiNEcUjRO8ykV uA+cyXEhKD2ssfZ9zEBjwiHduQABX12HbfVLQ= X-Google-DKIM-Signature: v=1; a=rsa-sha256; c=relaxed/relaxed; d=1e100.net; s=20230601; t=1751389081; x=1751993881; h=references:in-reply-to:cc:to:from:subject:message-id:date :x-gm-message-state:from:to:cc:subject:date:message-id:reply-to; bh=Hkh7CcRHYXgNR3bbzozBiTCHPi4Ea9MWrJQ6j+vuQog=; b=Y28Ga0TdFF5SyEbsdOQawK/wNexdJ0A4/uxYa/xvVsmcXOoeKmSePOX8JjAcA2Wow4 JGOUYXQxPGwv+aSfciqousHsKZmgmRLgDEkawSZTznnGgAbqG+NkTjNj1lN4n7Tz7ZiW Cj7FOrXzAGhkFzHJqI+oI24zCUF8Gqm6bhhbqsL+ou272IWX0n196nv1RuPp4iFGNsu6 1qXBNiQdRMZ5M0Jj/qrZ6L4Fzhm/IQcSvpGQf6x0fVYf6d3rm4M9Z0h8U2kMwalN9oyl 48tQJnnhE+Im3oRdP28jLsdfCohcXH4vmm2Px7CWV6sgy+9uKVhEMlZHQ8D35uDeXgQv Gw4Q== X-Gm-Message-State: AOJu0YwEKzuy9Hz3n4+nPsHAYCJgB3+n4g2dEdVcquCAhfhJhgUkGWHA fZE8UCK/t9HXtzV0D+fZeC30T9OgJuB4AMnv4Ab9KVp5hfQruO6C5pYt9dbUz/4r36+tpPdmv0D fIb2I4+faYKdj5yuyZjysXWJxWBBQ4Ii2xD7yZxBhlROxGOcbAzOiqcP5lZBq X-Gm-Gg: ASbGncteJLeLPUt4jzuyLC5A19wC+nCHnLxOgJXAOeZd2TDIr2mzbA+0i3n6tFWGaCs NziyWoT/GQK7KSutvtEywMn0aHjQ+dr/eXT8VeF4EPivE2JHg/xWXxVk21ucj8BL0xhox+oqQHy IOnB5teV9J2EB69504afDl2cO+57tqCZS2Z/HTW36SZ60BufDDwjpI74SyhOFkO49cNkROY0EUi uqvt7+EZteUn1kUuwhu2IeS2d+PpZ+qQbxZUDSHeMPNd+hkATXsfexC1zyzMYkDz3Cmnw+8wkd0 yrTdMxCVyOhVm4cohgbLKMgsOHS7wUA08MGFGcemFBOq988= X-Google-Smtp-Source: AGHT+IEAnybBpBWZe42b52C201QiHCAXK44lXcGem8/WBbazRB9pdBdBwGimm8X5gn2zvGf1+iKf066NHoIr X-Received: by 2002:a05:6870:a452:b0:2e9:512:ee1a with SMTP id 586e51a60fabf-2efed430668mr13437337fac.4.1751389080720; Tue, 01 Jul 2025 09:58:00 -0700 (PDT) Received: from postal.iol.unh.edu (postal.iol.unh.edu. [2606:4100:3880:1234::84]) by smtp-relay.gmail.com with ESMTPS id 586e51a60fabf-2efd4dcce59sm648615fac.9.2025.07.01.09.58.00 (version=TLS1_2 cipher=ECDHE-ECDSA-AES128-GCM-SHA256 bits=128/128); Tue, 01 Jul 2025 09:58:00 -0700 (PDT) X-Relaying-Domain: iol.unh.edu Date: Tue, 01 Jul 2025 09:58:00 -0700 (PDT) Message-ID: <68641398.050a0220.11921c.35ecSMTPIN_ADDED_MISSING@mx.google.com> Received: from [172.21.0.5] (unknown [172.18.0.240]) by postal.iol.unh.edu (Postfix) with ESMTP id 35C1D604D420; Tue, 1 Jul 2025 12:58:00 -0400 (EDT) Subject: |SUCCESS| pw154899-154901 [PATCH] [v2,3/3] net/ntnic: unmap DMA duri From: dpdklab@iol.unh.edu To: Test Report Cc: dpdk-test-reports@iol.unh.edu In-Reply-To: <20250701102027.3525524-4-sil-plv@napatech.com> References: <20250701102027.3525524-4-sil-plv@napatech.com> Content-Type: text/plain X-BeenThere: test-report@dpdk.org X-Mailman-Version: 2.1.29 Precedence: list List-Id: automatic DPDK test reports List-Unsubscribe: , List-Archive: List-Post: List-Help: List-Subscribe: , Errors-To: test-report-bounces@dpdk.org Test-Label: iol-compile-arm64-testing Test-Status: SUCCESS http://dpdk.org/patch/154901 _Testing PASS_ Submitter: Serhii Iliushyk Date: Tuesday, July 01 2025 10:20:27 DPDK git baseline: Repo:dpdk Branch: master CommitID:77864da82f25a9e1e43c14b2cba68c2049a3ee3e 154899-154901 --> testing pass Upstream job id: Generic-DPDK-Compile-Meson#404163 Test environment and result as below: +------------------------------+--------------------+ | Environment | dpdk_meson_compile | +==============================+====================+ | Red Hat Enterprise Linux 9.5 | PASS | +------------------------------+--------------------+ | Ubuntu 20.04 | PASS | +------------------------------+--------------------+ | Fedora Linux 40 | PASS | +------------------------------+--------------------+ | Debian GNU/Linux 12 | PASS | +------------------------------+--------------------+ | Fedora Linux 41 | PASS | +------------------------------+--------------------+ | Ubuntu 22.04 | PASS | +------------------------------+--------------------+ | Ubuntu 24.04 | PASS | +------------------------------+--------------------+ | CentOS Stream 9 | PASS | +------------------------------+--------------------+ | CentOS Stream 10 | PASS | +------------------------------+--------------------+ Red Hat Enterprise Linux 9.5 Kernel: 5.4 Compiler: gcc gcc (GCC) 11.5.0 20240719 (Red Hat 11.5.0-2) Ubuntu 20.04 Kernel: 5.4 Compiler: gcc gcc (Ubuntu 9.4.0-1ubuntu1~20.04.2) 9.4.0 Fedora Linux 40 Kernel: 5.4 Compiler: gcc gcc (GCC) 14.2.1 20240912 (Red Hat 14.2.1-3) Debian GNU/Linux 12 Kernel: 5.4 Compiler: gcc gcc (Debian 12.2.0-14+deb12u1) 12.2.0 Fedora Linux 41 Kernel: 5.4 Compiler: clang gcc (GCC) 14.3.1 20250523 (Red Hat 14.3.1-1) Ubuntu 22.04 Kernel: 5.4 Compiler: gcc gcc (Ubuntu 11.4.0-1ubuntu1~22.04) 11.4.0 Ubuntu 24.04 Kernel: 5.4 Compiler: gcc gcc (Ubuntu 13.3.0-6ubuntu2~24.04) 13.3.0 CentOS Stream 9 Kernel: 5.4 Compiler: gcc gcc (GCC) 11.5.0 20240719 (Red Hat 11.5.0-7) CentOS Stream 10 Kernel: 5.4 Compiler: gcc gcc (GCC) 14.2.1 20250110 (Red Hat 14.2.1-8) To view detailed results, visit: https://lab.dpdk.org/results/dashboard/patchsets/33552/ UNH-IOL DPDK Community Lab To manage your email subscriptions, visit: https://lab.dpdk.org/results/dashboard/preferences/subscriptions/