From mboxrd@z Thu Jan 1 00:00:00 1970 Return-Path: Received: from mails.dpdk.org (mails.dpdk.org [217.70.189.124]) by inbox.dpdk.org (Postfix) with ESMTP id 436A446AD3 for ; Tue, 1 Jul 2025 19:21:52 +0200 (CEST) Received: from mails.dpdk.org (localhost [127.0.0.1]) by mails.dpdk.org (Postfix) with ESMTP id 2396840264; Tue, 1 Jul 2025 19:21:52 +0200 (CEST) Received: from mail-qk1-f228.google.com (mail-qk1-f228.google.com [209.85.222.228]) by mails.dpdk.org (Postfix) with ESMTP id BB90140264 for ; Tue, 1 Jul 2025 19:21:50 +0200 (CEST) Received: by mail-qk1-f228.google.com with SMTP id af79cd13be357-7d219896edeso629191885a.1 for ; Tue, 01 Jul 2025 10:21:50 -0700 (PDT) DKIM-Signature: v=1; a=rsa-sha256; c=relaxed/relaxed; d=iol.unh.edu; s=unh-iol; t=1751390510; x=1751995310; darn=dpdk.org; h=references:in-reply-to:cc:to:from:subject:message-id:date:from:to :cc:subject:date:message-id:reply-to; bh=/vS3UopyVeMJF8+BSAG/PAz/Yr3yjTE6gy3SeZGesOA=; b=FRZ6vwbT3q/cq/qarfAAqwdddNSE/QyKd9OW/JdVIf004fvZpAuByUSDphm4mG81F2 l1DfO3wfqiT+0IWyNHzZ9bQTMcE9MTsNZWDBqdc8ELRxhBecXzJO6LeySVvdgAepPjrS ha++EkJRkiJCZDv5vKDlJK1KSaTaDJ4XP/45Y= X-Google-DKIM-Signature: v=1; a=rsa-sha256; c=relaxed/relaxed; d=1e100.net; s=20230601; t=1751390510; x=1751995310; h=references:in-reply-to:cc:to:from:subject:message-id:date :x-gm-message-state:from:to:cc:subject:date:message-id:reply-to; bh=/vS3UopyVeMJF8+BSAG/PAz/Yr3yjTE6gy3SeZGesOA=; b=EpkLLrzTRf+Dt5Uapf3rwjY777y/XXCkYTP3QMqBjTRGFcop8QyR3Egmo9P7nAbA8B yStmcYlSwZ643DxLUdDDHJ7+zh8jtvx4eCcLAd5R2tdpE5vw94luagxg2IsWxP+4Ke2Y 06PsVbFXiUtdRVNdpvIKIh2wdRNaN5MguMDfs40aBeNqOUdxy6p/sIt4pnIpnoVi40bD fN5D20JfLeGpiz80x4cefnhR9cuWdBgd1P9kikwjX50B1izMakqVS7nODOtR0oYyE77/ /H7ijEuvVrvDmtFR8ejYjawG3iTbyi7vCdBze2F83Z8fSxbWMLqhULDmaWE+W6LMdMLD bxog== X-Gm-Message-State: AOJu0YzDTwUv10zpys5pVTG+woyQzeVKr0jb2Nt1Agv2vaVhVn9nX9/d z13oYhdLkYJ/Hf8gz6jIFiS9r2DTmu5zzE+aoIKd9o64yxsDsD/+tfN1iF9gV5PGV1U4bAnSKcZ snGHMjEJ9ggSF6Q2Mj1inyStMBVbjU8WlC5h+Dsb9xrSQQLZEL1MoIiCuo+Hp X-Gm-Gg: ASbGncsLzEvMzPQj29YIH3VZUOB4/bfDWwON/9nuL3cvpQe+FRhpD87Aqc9wb/ZhZQA pwyiLxqvTed5ovrN55z7LAk6yNCZV9dm78IAtgD0FwNDx/Kh5zqkooY1v+zpUOaXb4lNU0V8LWs iYc5t/EfXf1dfWqtULEyC9T9BPV84d6HiExhnwbcSYGNupV3teUgh9qxQDbvxg6xSu+a5rScTWT +7TaGBSavHSohf9EDmzHQg6WsyBJqv5S9PH7+Kqo3dnT4eEpd0ONM//CWyS6qSizLT2dH1JyWJa WQQ1uyHtEDxbePEygACE2ddrRK6yzdqBdDyd6ZMivH9+2rs= X-Google-Smtp-Source: AGHT+IGy0YWFuJRZAXQiwvuRtkP4hx2ZYkhLz7WsRrvSLZmLZZX3H/YSjc6f7TorSVvNXRwwcnA7oLoT8Lz1 X-Received: by 2002:ad4:5962:0:b0:6fb:4da2:967c with SMTP id 6a1803df08f44-700036ae38cmr298785636d6.32.1751390509844; Tue, 01 Jul 2025 10:21:49 -0700 (PDT) Received: from postal.iol.unh.edu (postal.iol.unh.edu. [2606:4100:3880:1234::84]) by smtp-relay.gmail.com with ESMTPS id 6a1803df08f44-6fd772a1c5asm6362076d6.62.2025.07.01.10.21.49 (version=TLS1_2 cipher=ECDHE-ECDSA-AES128-GCM-SHA256 bits=128/128); Tue, 01 Jul 2025 10:21:49 -0700 (PDT) X-Relaying-Domain: iol.unh.edu Date: Tue, 01 Jul 2025 10:21:49 -0700 (PDT) Message-ID: <6864192d.050a0220.3d1943.32a4SMTPIN_ADDED_MISSING@mx.google.com> Received: from [172.21.0.13] (unknown [172.18.0.240]) by postal.iol.unh.edu (Postfix) with ESMTP id 9439E604D420; Tue, 1 Jul 2025 13:21:49 -0400 (EDT) Subject: |SUCCESS| pw154902 [PATCH] net/mlx5: fix masked indirect age action From: dpdklab@iol.unh.edu To: Test Report Cc: dpdk-test-reports@iol.unh.edu In-Reply-To: <20250701103253.318225-1-dsosnowski@nvidia.com> References: <20250701103253.318225-1-dsosnowski@nvidia.com> Content-Type: text/plain X-BeenThere: test-report@dpdk.org X-Mailman-Version: 2.1.29 Precedence: list List-Id: automatic DPDK test reports List-Unsubscribe: , List-Archive: List-Post: List-Help: List-Subscribe: , Errors-To: test-report-bounces@dpdk.org Test-Label: iol-unit-amd64-testing Test-Status: SUCCESS http://dpdk.org/patch/154902 _Testing PASS_ Submitter: Dariusz Sosnowski Date: Tuesday, July 01 2025 10:32:53 DPDK git baseline: Repo:dpdk Branch: master CommitID:5c0c1a13c34aa57c6e18f9ba852a9b5807c58b72 154902 --> testing pass Upstream job id: Generic-VM-Unit-Test-DPDK#29623 Test environment and result as below: +-------------------------------+----------------+ | Environment | dpdk_unit_test | +===============================+================+ | CentOS Stream 9 | PASS | +-------------------------------+----------------+ | Fedora Linux 40 | PASS | +-------------------------------+----------------+ | Fedora Linux 41 | PASS | +-------------------------------+----------------+ | CentOS Stream 10 | PASS | +-------------------------------+----------------+ | Red Hat Enterprise Linux 9.5 | PASS | +-------------------------------+----------------+ | Ubuntu 22.04 | PASS | +-------------------------------+----------------+ | Debian GNU/Linux 12 | PASS | +-------------------------------+----------------+ | Ubuntu 20.04 | PASS | +-------------------------------+----------------+ | Red Hat Enterprise Linux 8.10 | PASS | +-------------------------------+----------------+ | Ubuntu 24.04 | PASS | +-------------------------------+----------------+ | Windows Server 2022 | PASS | +-------------------------------+----------------+ CentOS Stream 9 Kernel: 5.15 Compiler: gcc gcc (GCC) 11.5.0 20240719 (Red Hat 11.5.0-7) Fedora Linux 40 Kernel: 5.15 Compiler: gcc gcc (GCC) 14.2.1 20240912 (Red Hat 14.2.1-3) Fedora Linux 41 Kernel: 5.15 Compiler: gcc gcc (GCC) 14.3.1 20250523 (Red Hat 14.3.1-1) CentOS Stream 10 Kernel: 5.15 Compiler: gcc gcc (GCC) 14.2.1 20250110 (Red Hat 14.2.1-8) Red Hat Enterprise Linux 9.5 Kernel: 5.15 Compiler: gcc gcc (GCC) 11.5.0 20240719 (Red Hat 11.5.0-2) Ubuntu 22.04 Kernel: 5.15 Compiler: gcc gcc (Ubuntu 11.4.0-1ubuntu1~22.04) 11.4.0 Debian GNU/Linux 12 Kernel: 5.15 Compiler: gcc gcc (Debian 12.2.0-14+deb12u1) 12.2.0 Ubuntu 20.04 Kernel: 5.15 Compiler: gcc gcc (Ubuntu 9.4.0-1ubuntu1~20.04.2) 9.4.0 Red Hat Enterprise Linux 8.10 Kernel: 5.15 Compiler: gcc gcc (GCC) 8.5.0 20210514 (Red Hat 8.5.0-22) Ubuntu 24.04 Kernel: 5.15 Compiler: gcc gcc (Ubuntu 13.3.0-6ubuntu2~24.04) 13.3.0 Windows Server 2022 Kernel: 10.0.20348.2031 Compiler: clang 15.0.7, gcc 14.1.0 (MinGW), and MSVC VS 19.39.33521 To view detailed results, visit: https://lab.dpdk.org/results/dashboard/patchsets/33553/ UNH-IOL DPDK Community Lab To manage your email subscriptions, visit: https://lab.dpdk.org/results/dashboard/preferences/subscriptions/