From mboxrd@z Thu Jan 1 00:00:00 1970 Return-Path: Received: from mails.dpdk.org (mails.dpdk.org [217.70.189.124]) by inbox.dpdk.org (Postfix) with ESMTP id 6A08D46AD3 for ; Tue, 1 Jul 2025 19:24:09 +0200 (CEST) Received: from mails.dpdk.org (localhost [127.0.0.1]) by mails.dpdk.org (Postfix) with ESMTP id 64A7040264; Tue, 1 Jul 2025 19:24:09 +0200 (CEST) Received: from mail-pl1-f225.google.com (mail-pl1-f225.google.com [209.85.214.225]) by mails.dpdk.org (Postfix) with ESMTP id 472BE40264 for ; Tue, 1 Jul 2025 19:24:08 +0200 (CEST) Received: by mail-pl1-f225.google.com with SMTP id d9443c01a7336-23636167b30so32669285ad.1 for ; Tue, 01 Jul 2025 10:24:08 -0700 (PDT) DKIM-Signature: v=1; a=rsa-sha256; c=relaxed/relaxed; d=iol.unh.edu; s=unh-iol; t=1751390647; x=1751995447; darn=dpdk.org; h=references:in-reply-to:cc:to:from:subject:message-id:date:from:to :cc:subject:date:message-id:reply-to; bh=mX0kIms4HLTqYkc6JJ8CBxLHLw5QvpIW2+/sLmCZmlE=; b=JDvPNmKjVqNc1kKSsawXwwcq0g4oOs3tNInsYr3ZImT7OuTE6FIFXA2fStmAOyjQ1K XRQ3rbPYppQQJFl5XtaR/JnsE/TT539SlJ6DB074h2r+YwgwifzaWopDk2KDKRw4vBh+ t3VqSPDzExnk+/b6i2PsIt/C4GfFpNYY5aJUI= X-Google-DKIM-Signature: v=1; a=rsa-sha256; c=relaxed/relaxed; d=1e100.net; s=20230601; t=1751390647; x=1751995447; h=references:in-reply-to:cc:to:from:subject:message-id:date :x-gm-message-state:from:to:cc:subject:date:message-id:reply-to; bh=mX0kIms4HLTqYkc6JJ8CBxLHLw5QvpIW2+/sLmCZmlE=; b=ra43moYQdYaxLl6ZOvA+aMOd0c7+W/h8BVKCA9cv+3RftG1IibHO80PJOZeZ+/mt9/ 6t+DePkTp3dMOAnOE4KGvXXTYUbW+Sv5M9gz0FEmNTHG33+IjKccoeh+V0BItQsYFsLE vY6O19NK9yjSJWQquytb71v8pjYeRYXp8z6gUP+8mnLOQch5fNYbRZlw0wRcVd2DtUsA npcr1uUjeG/q7Amjm6rPsRLmatNxh2sQVVK7yHfsFLDJ5sOx0lxbsAiTuCoYMWUjlsWj SyVeAXUNtQLBzxJq02a0kCIl1izrhDtwoVh4EBTqsWXNX7uiUho1pfD2BDAFoJO/4A2w 1fZg== X-Gm-Message-State: AOJu0Yxn8r4PGHvST63ks4+fbmxNeRLgIWX5ts4G6kEbBp78Xd/ORY0X rQJGDQ/tZdsGyxjhpjGWVMeyS7LYIZswyhSlsan1xSUc2arNuxbYcyeQPJl7nOprVbBKcr30xp+ W+QODEKcqObQiiWmj6i38N6K3AzNPx7ZavM7+Y8caL+Vh X-Gm-Gg: ASbGncsKF+yXZVeGr7C+yiqg2L9sAnjAUrdbER3O3fY6R5w7w3onU75Ws/hN2QA48/p jN3SY64JW2nCrW6+ZukMP68xpkNfMK+YrikoX+cY6bHXshcuErGoGAkhMBYtuc4FElGjNcYlUzT 8KeDuEfQaasc1duggnvdJGnoeSPbMjQ+3SqwLr5DO5LqR3X9PMXv5dPz97aYZXLxfMxLAO9Jah1 GSa5w0Ncj+wf/c9mqkzHnwNR66yzD9Q9ZuD3PaQzNcpZJMGxEzzHGfA0Vb4Z8TSkbrbnoRON0sh 8ld1h1X8Zu4+WHE/lGTgyAJf4l37wRNzYJnYufEESCVqUf9oZOLOXgB9X2AyP7gpzFmHfg== X-Google-Smtp-Source: AGHT+IGfOfadRBi1Aa3WUybKvZ2cMXLX+RVkT84VUNv9N6q+swP3sYyiix8fnCaKvtDFr+4RB9rZ4yQSgK9g X-Received: by 2002:a17:902:f545:b0:235:ed02:288b with SMTP id d9443c01a7336-23ac460523bmr252392355ad.30.1751390647185; Tue, 01 Jul 2025 10:24:07 -0700 (PDT) Received: from postal.iol.unh.edu (postal.iol.unh.edu. [132.177.123.84]) by smtp-relay.gmail.com with ESMTPS id d9443c01a7336-23acb2e3d83sm5775685ad.14.2025.07.01.10.24.07 (version=TLS1_2 cipher=ECDHE-ECDSA-AES128-GCM-SHA256 bits=128/128); Tue, 01 Jul 2025 10:24:07 -0700 (PDT) X-Relaying-Domain: iol.unh.edu Date: Tue, 01 Jul 2025 10:24:07 -0700 (PDT) Message-ID: <686419b7.170a0220.23868.ff51SMTPIN_ADDED_MISSING@mx.google.com> Received: from [172.21.0.10] (unknown [172.18.0.240]) by postal.iol.unh.edu (Postfix) with ESMTP id 62D74604D420; Tue, 1 Jul 2025 13:24:06 -0400 (EDT) Subject: |SUCCESS| pw154902 [PATCH] net/mlx5: fix masked indirect age action From: dpdklab@iol.unh.edu To: Test Report Cc: dpdk-test-reports@iol.unh.edu In-Reply-To: <20250701103253.318225-1-dsosnowski@nvidia.com> References: <20250701103253.318225-1-dsosnowski@nvidia.com> Content-Type: text/plain X-BeenThere: test-report@dpdk.org X-Mailman-Version: 2.1.29 Precedence: list List-Id: automatic DPDK test reports List-Unsubscribe: , List-Archive: List-Post: List-Help: List-Subscribe: , Errors-To: test-report-bounces@dpdk.org Test-Label: iol-unit-amd64-testing Test-Status: SUCCESS http://dpdk.org/patch/154902 _Testing PASS_ Submitter: Dariusz Sosnowski Date: Tuesday, July 01 2025 10:32:53 DPDK git baseline: Repo:dpdk Branch: master CommitID:5c0c1a13c34aa57c6e18f9ba852a9b5807c58b72 154902 --> testing pass Upstream job id: Generic-Unit-Test-DPDK#351485 Test environment and result as below: +-------------------------------+----------------+ | Environment | dpdk_unit_test | +===============================+================+ | CentOS Stream 9 | PASS | +-------------------------------+----------------+ | CentOS Stream 10 | PASS | +-------------------------------+----------------+ | Debian GNU/Linux 12 | PASS | +-------------------------------+----------------+ | Fedora Linux 40 | PASS | +-------------------------------+----------------+ | Fedora Linux 41 | PASS | +-------------------------------+----------------+ | Ubuntu 20.04 | PASS | +-------------------------------+----------------+ | Ubuntu 22.04 | PASS | +-------------------------------+----------------+ | Red Hat Enterprise Linux 8.10 | PASS | +-------------------------------+----------------+ | Red Hat Enterprise Linux 9.5 | PASS | +-------------------------------+----------------+ | Ubuntu 24.04 | PASS | +-------------------------------+----------------+ CentOS Stream 9 Kernel: 5.15 Compiler: gcc gcc (GCC) 11.5.0 20240719 (Red Hat 11.5.0-7) CentOS Stream 10 Kernel: 5.15 Compiler: gcc gcc (GCC) 14.2.1 20250110 (Red Hat 14.2.1-8) Debian GNU/Linux 12 Kernel: 5.15 Compiler: gcc gcc (Debian 12.2.0-14+deb12u1) 12.2.0 Fedora Linux 40 Kernel: 5.15 Compiler: clang gcc (GCC) 14.2.1 20240912 (Red Hat 14.2.1-3) Fedora Linux 41 Kernel: 5.15 Compiler: gcc gcc (GCC) 14.3.1 20250523 (Red Hat 14.3.1-1) Ubuntu 20.04 Kernel: 5.15 Compiler: gcc gcc (Ubuntu 9.4.0-1ubuntu1~20.04.2) 9.4.0 Ubuntu 22.04 Kernel: 5.15 Compiler: gcc gcc (Ubuntu 11.4.0-1ubuntu1~22.04) 11.4.0 Red Hat Enterprise Linux 8.10 Kernel: 5.15 Compiler: gcc gcc (GCC) 8.5.0 20210514 (Red Hat 8.5.0-22) Red Hat Enterprise Linux 9.5 Kernel: 5.15 Compiler: gcc gcc (GCC) 11.5.0 20240719 (Red Hat 11.5.0-2) Ubuntu 24.04 Kernel: 5.15 Compiler: gcc gcc (Ubuntu 13.3.0-6ubuntu2~24.04) 13.3.0 To view detailed results, visit: https://lab.dpdk.org/results/dashboard/patchsets/33553/ UNH-IOL DPDK Community Lab To manage your email subscriptions, visit: https://lab.dpdk.org/results/dashboard/preferences/subscriptions/