From mboxrd@z Thu Jan 1 00:00:00 1970 Return-Path: Received: from mails.dpdk.org (mails.dpdk.org [217.70.189.124]) by inbox.dpdk.org (Postfix) with ESMTP id D878846AD3 for ; Tue, 1 Jul 2025 19:27:03 +0200 (CEST) Received: from mails.dpdk.org (localhost [127.0.0.1]) by mails.dpdk.org (Postfix) with ESMTP id AB0A740276; Tue, 1 Jul 2025 19:27:03 +0200 (CEST) Received: from mail-io1-f98.google.com (mail-io1-f98.google.com [209.85.166.98]) by mails.dpdk.org (Postfix) with ESMTP id 2FC3D40264 for ; Tue, 1 Jul 2025 19:27:02 +0200 (CEST) Received: by mail-io1-f98.google.com with SMTP id ca18e2360f4ac-8731c3473c3so46368039f.1 for ; Tue, 01 Jul 2025 10:27:02 -0700 (PDT) DKIM-Signature: v=1; a=rsa-sha256; c=relaxed/relaxed; d=iol.unh.edu; s=unh-iol; t=1751390821; x=1751995621; darn=dpdk.org; h=references:in-reply-to:cc:to:from:subject:message-id:date:from:to :cc:subject:date:message-id:reply-to; bh=WRV7riAlmoWoFbx+OX3CikZIGpvgOwO+NV4S80cIGvE=; b=C3HieVV5V0GmNrKRW1CK5vpOq0ifSJjp26SCUI8fYkDKPG0Y+heozAVjgxQEYWHiol DxMPcCba2WFz6bQzZ6AGYrEJoSbzXK5wUTKsj6ar+rhWAHg5AwfxcyF/suX7iI5JuR95 MD9MfvkNUiDkYTJvCpMFs59wivdiqhOGNT0WM= X-Google-DKIM-Signature: v=1; a=rsa-sha256; c=relaxed/relaxed; d=1e100.net; s=20230601; t=1751390821; x=1751995621; h=references:in-reply-to:cc:to:from:subject:message-id:date :x-gm-message-state:from:to:cc:subject:date:message-id:reply-to; bh=WRV7riAlmoWoFbx+OX3CikZIGpvgOwO+NV4S80cIGvE=; b=tcM4CFrLis+VX1iUvJoIbrvI9tcwaDzHeZGOlyzRtXkn4M/NMdazYVdJV2Dy+5nBf0 7tDk5CZY/SF6sdYDmKLPeAtT/JQN5MrVSdRpJaV7aACx0S87Z89tqthCB0L5euq6sV3w IFcKPLLL2b8cM8KP1ETFhw0MDdOtG37UGDbgmED23rq17T2l4aUe1ekpWH4dfVixPLeM SlvSkbEFPgYaQ3cJwEnEGlUE24oTtRWk5cHa2vrqeAm/4wzanmlzy2ywtdzKTSY0TZIS G4st3lrQEUFXj+KIdJiWWU6nLn0g1tAiR0Ejedrrrsfe7nYpOzTIiRv4+JyPh5Cy/FtF 4L6g== X-Gm-Message-State: AOJu0Yw/hMCOi+SAi2n3N0BMVqqNkpDdY6Wa8LnYe0bJ/PcfdA1/Y/3A yS+kUrM1w/OqqOX8eCJ3o37bg8sKJSmXzdQ82SemCs8O7CU43bc3djvP21ZQFiBCxnrng7O9dVo XGsLQXuuzSK393vQuysXObU6CngOTcUP1PBqBVSvEz+24 X-Gm-Gg: ASbGnctKSiC0G68cqhkaQ7UJkvevWDjDhclKvN9+0bp/QzqVF7Ho3tuz4x3AK8O6fLK YEaqed0SvJk13E2j257+LNT2pqA8nChE0c8h/hfKrmy+ny4LJeNdGEGPDdiG+sBP5j4D40PNjTE QbcRhTM/6Yccry5+Pconhh225uWVIEpYIAyFi8K1EyBg3h7fqFvjI1NwIahtAtwSS60ix5YCGPR EoBBtA433V7tSc7itqzMWKHAk8gfcLjLAK/K+8UrDyKFY+GGEFnGuv1dPI/b+O0a20FEQWAVA/q rAkRojZ5a2XE2C+waLLFUl8U2Js8xRStFR7K7H10F7D4rttXy6kVbTUUBMG0DNvQrSrs/A== X-Google-Smtp-Source: AGHT+IE1fickZ1sJn1i+LBtHRuy06u7X++M63Pn97R2LnTWbChRpIh3yZpujxC4JAKF/I59vRWH2JhHWXFy9 X-Received: by 2002:a05:6602:1644:b0:873:1cc1:7749 with SMTP id ca18e2360f4ac-8768834a481mr2250898139f.9.1751390821340; Tue, 01 Jul 2025 10:27:01 -0700 (PDT) Received: from postal.iol.unh.edu (postal.iol.unh.edu. [132.177.123.84]) by smtp-relay.gmail.com with ESMTPS id 8926c6da1cb9f-5020485cf9dsm409255173.10.2025.07.01.10.27.01 (version=TLS1_2 cipher=ECDHE-ECDSA-AES128-GCM-SHA256 bits=128/128); Tue, 01 Jul 2025 10:27:01 -0700 (PDT) X-Relaying-Domain: iol.unh.edu Date: Tue, 01 Jul 2025 10:27:01 -0700 (PDT) Message-ID: <68641a65.050a0220.e791c.7e55SMTPIN_ADDED_MISSING@mx.google.com> Received: from [172.21.0.12] (unknown [172.18.0.240]) by postal.iol.unh.edu (Postfix) with ESMTP id AAE0A604D420; Tue, 1 Jul 2025 13:27:00 -0400 (EDT) Subject: |SUCCESS| pw154776 [PATCH] [v0,1/1] net/octeon_ep: fix increase mbox From: dpdklab@iol.unh.edu To: Test Report Cc: dpdk-test-reports@iol.unh.edu In-Reply-To: <20250627101853.5632-1-mabdulmajeet@marvell.com> References: <20250627101853.5632-1-mabdulmajeet@marvell.com> Content-Type: text/plain X-BeenThere: test-report@dpdk.org X-Mailman-Version: 2.1.29 Precedence: list List-Id: automatic DPDK test reports List-Unsubscribe: , List-Archive: List-Post: List-Help: List-Subscribe: , Errors-To: test-report-bounces@dpdk.org Test-Label: iol-abi-testing Test-Status: SUCCESS http://dpdk.org/patch/154776 _Testing PASS_ Submitter: Mohamed Feroz Abdul Majeeth Date: Friday, June 27 2025 10:18:53 DPDK git baseline: Repo:dpdk Branch: master CommitID:f2ca04b38572a6492121cbfc8cdf5242dd21192e 154776 --> testing pass Upstream job id: Generic-DPDK-Compile-ABI#132581 Test environment and result as below: +-------------------------------+----------+ | Environment | abi_test | +===============================+==========+ | CentOS Stream 9 | PASS | +-------------------------------+----------+ | CentOS Stream 10 | PASS | +-------------------------------+----------+ | Fedora Linux 41 | PASS | +-------------------------------+----------+ | Fedora Linux 40 | PASS | +-------------------------------+----------+ | openSUSE Leap 15.6 | PASS | +-------------------------------+----------+ | Red Hat Enterprise Linux 8.10 | PASS | +-------------------------------+----------+ | Red Hat Enterprise Linux 9.5 | PASS | +-------------------------------+----------+ | Ubuntu 22.04 | PASS | +-------------------------------+----------+ | Ubuntu 24.04 | PASS | +-------------------------------+----------+ CentOS Stream 9 Kernel: 5.15 Compiler: gcc gcc (GCC) 11.5.0 20240719 (Red Hat 11.5.0-7) CentOS Stream 10 Kernel: 5.15 Compiler: gcc gcc (GCC) 14.2.1 20250110 (Red Hat 14.2.1-8) Fedora Linux 41 Kernel: 5.15 Compiler: clang gcc (GCC) 14.3.1 20250523 (Red Hat 14.3.1-1) Fedora Linux 40 Kernel: 5.15 Compiler: gcc gcc (GCC) 14.2.1 20240912 (Red Hat 14.2.1-3) openSUSE Leap 15.6 Kernel: 5.15 Compiler: gcc gcc (SUSE Linux) 7.5.0 Red Hat Enterprise Linux 8.10 Kernel: 5.15 Compiler: gcc gcc (GCC) 8.5.0 20210514 (Red Hat 8.5.0-22) Red Hat Enterprise Linux 9.5 Kernel: 5.15 Compiler: gcc gcc (GCC) 11.5.0 20240719 (Red Hat 11.5.0-2) Ubuntu 22.04 Kernel: 5.15 Compiler: gcc gcc (Ubuntu 11.4.0-1ubuntu1~22.04) 11.4.0 Ubuntu 24.04 Kernel: 5.15 Compiler: gcc gcc (Ubuntu 13.3.0-6ubuntu2~24.04) 13.3.0 To view detailed results, visit: https://lab.dpdk.org/results/dashboard/patchsets/33523/ UNH-IOL DPDK Community Lab To manage your email subscriptions, visit: https://lab.dpdk.org/results/dashboard/preferences/subscriptions/