From mboxrd@z Thu Jan 1 00:00:00 1970 Return-Path: Received: from mails.dpdk.org (mails.dpdk.org [217.70.189.124]) by inbox.dpdk.org (Postfix) with ESMTP id C7A6046AD3 for ; Tue, 1 Jul 2025 19:27:18 +0200 (CEST) Received: from mails.dpdk.org (localhost [127.0.0.1]) by mails.dpdk.org (Postfix) with ESMTP id C0CB940264; Tue, 1 Jul 2025 19:27:18 +0200 (CEST) Received: from mail-il1-f227.google.com (mail-il1-f227.google.com [209.85.166.227]) by mails.dpdk.org (Postfix) with ESMTP id CEB5F40264 for ; Tue, 1 Jul 2025 19:27:17 +0200 (CEST) Received: by mail-il1-f227.google.com with SMTP id e9e14a558f8ab-3df2d8cb8d2so22018865ab.2 for ; Tue, 01 Jul 2025 10:27:17 -0700 (PDT) DKIM-Signature: v=1; a=rsa-sha256; c=relaxed/relaxed; d=iol.unh.edu; s=unh-iol; t=1751390837; x=1751995637; darn=dpdk.org; h=references:in-reply-to:cc:to:from:subject:message-id:date:from:to :cc:subject:date:message-id:reply-to; bh=G5w3nX/L6AkjDAS55dgwQ8/XbYUsjPugjwoedljhWqw=; b=LhqOWYCp3z+bLDLp8D0jXaAELIn4LXYSN0vbcjFs21gGyBJ8rjDzXzc1JlwsOBC1p0 BX3Xz6KJO1n9IcDfVGIXLgYi0ZAf9QjUxVLdLdAOPsQavCRQCMM+ueEZyOm4rVzq9uTi 58yIiiY8GZa+GkjQpnAXUY55r7gJo+hs72CDE= X-Google-DKIM-Signature: v=1; a=rsa-sha256; c=relaxed/relaxed; d=1e100.net; s=20230601; t=1751390837; x=1751995637; h=references:in-reply-to:cc:to:from:subject:message-id:date :x-gm-message-state:from:to:cc:subject:date:message-id:reply-to; bh=G5w3nX/L6AkjDAS55dgwQ8/XbYUsjPugjwoedljhWqw=; b=xMKJwFlF01NC7tbYZxLHKOouJcqrZ3XOLfcgz83OQmFCk02U4lhSvt0XoV0CuxFGc/ LcUZtunSzcaMLwAQkR5nvCKFUmZWInOYUTqZDP9GEukbW6WZhmzB2c9XPg3OH9PzLMzk 5d4hWXTmSWVzklMZH/nn1tgSqKebxJiyMr5LcUtokl9DR/d4lhIFzjaVKtPJd0mO7MJX LA/XXybO6Ue2fzDc/MmFArjY7yZ1bXcSci+SN7cjsdWCGeGyUqSYMDp5W7ErygcKXNpd EtIApWCD3BA+k2Vvz40x8NpEigkgKUq5R/R3Su/m1viczhNZ8Ne66f9+hK/9sb79Envg yn9Q== X-Gm-Message-State: AOJu0Yw0PGjgOBDQ0T2Qq3XAw3n6EtbyDsElSRLyuMBpUtibsAwkH5Aq LWvmfS3S2mPSQIQCcVlOVYllQXTingPrJ4UQj4kR4pMAL34C3ZxIdtGkE/gZefSTZSSN2gsafDp QU6cO4/xg1WM242exZytXanoJ2N2CAL4oR4iDdXaguEZg4GhoKt6znjIfu3hl X-Gm-Gg: ASbGncuNohrz7TUADahK+eI+YZcX7IJfg+SApD95aT7ayHyxCn5VVaS2FTd4yGZOac0 Anlb8qecXpz3l1z7e6qZuAC6c5sf0xa9V5UcpLYCXeh8tEFM+BeL/i0OsDk7GvVxkNSbEzzVJDA 4roeQ2fVuBGpOtefH9Is/oAKDYfx3jXejfFWjpJWePk0Ow0cGIpKXvADKUNF68Zwk32qK8ZvP3x malML3p2mjLoFLP+GNZ/VzxrhStAXyWU2+5nJeoyqfDf3JeI8vJYpFiFIJevKC3v/lcKkXqhqN/ dOH+izagIW28dWAaN2zlTXqUZi8w4UDXjgd8S4CQtG7yYiU= X-Google-Smtp-Source: AGHT+IEZs2L6jBkQxv48mC4BiwT+Zm8lDdvWBUnL3lw8mIYIplldh65wxJ2pwXQceztesrZzC+rEa5FC2V2e X-Received: by 2002:a05:6e02:12cb:b0:3dd:d194:f72d with SMTP id e9e14a558f8ab-3df4ab50ce1mr204868335ab.8.1751390837120; Tue, 01 Jul 2025 10:27:17 -0700 (PDT) Received: from postal.iol.unh.edu (postal.iol.unh.edu. [2606:4100:3880:1234::84]) by smtp-relay.gmail.com with ESMTPS id e9e14a558f8ab-3df4a0cb274sm6219095ab.63.2025.07.01.10.27.17 (version=TLS1_2 cipher=ECDHE-ECDSA-AES128-GCM-SHA256 bits=128/128); Tue, 01 Jul 2025 10:27:17 -0700 (PDT) X-Relaying-Domain: iol.unh.edu Date: Tue, 01 Jul 2025 10:27:17 -0700 (PDT) Message-ID: <68641a75.050a0220.1533c4.2309SMTPIN_ADDED_MISSING@mx.google.com> Received: from [172.21.0.8] (unknown [172.18.0.240]) by postal.iol.unh.edu (Postfix) with ESMTP id A26A1604D420; Tue, 1 Jul 2025 13:27:16 -0400 (EDT) Subject: |SUCCESS| pw154902 [PATCH] net/mlx5: fix masked indirect age action From: dpdklab@iol.unh.edu To: Test Report Cc: dpdk-test-reports@iol.unh.edu In-Reply-To: <20250701103253.318225-1-dsosnowski@nvidia.com> References: <20250701103253.318225-1-dsosnowski@nvidia.com> Content-Type: text/plain X-BeenThere: test-report@dpdk.org X-Mailman-Version: 2.1.29 Precedence: list List-Id: automatic DPDK test reports List-Unsubscribe: , List-Archive: List-Post: List-Help: List-Subscribe: , Errors-To: test-report-bounces@dpdk.org Test-Label: iol-abi-testing Test-Status: SUCCESS http://dpdk.org/patch/154902 _Testing PASS_ Submitter: Dariusz Sosnowski Date: Tuesday, July 01 2025 10:32:53 DPDK git baseline: Repo:dpdk Branch: master CommitID:5c0c1a13c34aa57c6e18f9ba852a9b5807c58b72 154902 --> testing pass Upstream job id: Generic-DPDK-Compile-ABI#132575 Test environment and result as below: +-------------------------------+----------+ | Environment | abi_test | +===============================+==========+ | CentOS Stream 10 | PASS | +-------------------------------+----------+ | CentOS Stream 9 | PASS | +-------------------------------+----------+ | Debian GNU/Linux 12 | PASS | +-------------------------------+----------+ | Fedora Linux 40 | PASS | +-------------------------------+----------+ | Fedora Linux 41 | PASS | +-------------------------------+----------+ | Red Hat Enterprise Linux 8.10 | PASS | +-------------------------------+----------+ | openSUSE Leap 15.6 | PASS | +-------------------------------+----------+ | Red Hat Enterprise Linux 9.5 | PASS | +-------------------------------+----------+ | Ubuntu 22.04 | PASS | +-------------------------------+----------+ | Ubuntu 24.04 | PASS | +-------------------------------+----------+ CentOS Stream 10 Kernel: 5.15 Compiler: gcc gcc (GCC) 14.2.1 20250110 (Red Hat 14.2.1-8) CentOS Stream 9 Kernel: 5.15 Compiler: gcc gcc (GCC) 11.5.0 20240719 (Red Hat 11.5.0-7) Debian GNU/Linux 12 Kernel: 5.15 Compiler: gcc gcc (Debian 12.2.0-14+deb12u1) 12.2.0 Fedora Linux 40 Kernel: 5.15 Compiler: clang gcc (GCC) 14.2.1 20240912 (Red Hat 14.2.1-3) Fedora Linux 41 Kernel: 5.15 Compiler: clang gcc (GCC) 14.3.1 20250523 (Red Hat 14.3.1-1) Red Hat Enterprise Linux 8.10 Kernel: 5.15 Compiler: gcc gcc (GCC) 8.5.0 20210514 (Red Hat 8.5.0-22) openSUSE Leap 15.6 Kernel: 5.15 Compiler: gcc gcc (SUSE Linux) 7.5.0 Red Hat Enterprise Linux 9.5 Kernel: 5.15 Compiler: gcc gcc (GCC) 11.5.0 20240719 (Red Hat 11.5.0-2) Ubuntu 22.04 Kernel: 5.15 Compiler: gcc gcc (Ubuntu 11.4.0-1ubuntu1~22.04) 11.4.0 Ubuntu 24.04 Kernel: 5.15 Compiler: gcc gcc (Ubuntu 13.3.0-6ubuntu2~24.04) 13.3.0 To view detailed results, visit: https://lab.dpdk.org/results/dashboard/patchsets/33553/ UNH-IOL DPDK Community Lab To manage your email subscriptions, visit: https://lab.dpdk.org/results/dashboard/preferences/subscriptions/