From mboxrd@z Thu Jan 1 00:00:00 1970 Return-Path: Received: from mails.dpdk.org (mails.dpdk.org [217.70.189.124]) by inbox.dpdk.org (Postfix) with ESMTP id D993546AD3 for ; Tue, 1 Jul 2025 19:27:39 +0200 (CEST) Received: from mails.dpdk.org (localhost [127.0.0.1]) by mails.dpdk.org (Postfix) with ESMTP id D4B9740264; Tue, 1 Jul 2025 19:27:39 +0200 (CEST) Received: from mail-yb1-f228.google.com (mail-yb1-f228.google.com [209.85.219.228]) by mails.dpdk.org (Postfix) with ESMTP id 7AD9D40264 for ; Tue, 1 Jul 2025 19:27:38 +0200 (CEST) Received: by mail-yb1-f228.google.com with SMTP id 3f1490d57ef6-e73e9e18556so5934623276.0 for ; Tue, 01 Jul 2025 10:27:38 -0700 (PDT) DKIM-Signature: v=1; a=rsa-sha256; c=relaxed/relaxed; d=iol.unh.edu; s=unh-iol; t=1751390858; x=1751995658; darn=dpdk.org; h=references:in-reply-to:cc:to:from:subject:message-id:date:from:to :cc:subject:date:message-id:reply-to; bh=AtQqA2IEIEfVM/Syf8L5oeHP2UCY8GhQBqQmdtJd7WY=; b=gCbr49y9nsFlLQ55I73hEi4/5FVLuT0gq6aIpVBaXHt95kmX2IVEKWydg3qX54U0PL AX5OEB8sXpG3SAkCIUvPKVwfwRa22u5q6NMayK3oqvWzNOeUvkB+vKrFvmdTtm/uhDwF 2l+KkGHeVYMRrVoB45FkwDYzGdN8jm5lON1ms= X-Google-DKIM-Signature: v=1; a=rsa-sha256; c=relaxed/relaxed; d=1e100.net; s=20230601; t=1751390858; x=1751995658; h=references:in-reply-to:cc:to:from:subject:message-id:date :x-gm-message-state:from:to:cc:subject:date:message-id:reply-to; bh=AtQqA2IEIEfVM/Syf8L5oeHP2UCY8GhQBqQmdtJd7WY=; b=tgXqHhFRorT3HJCbMuWWpSw9zGv2ohPlJ1cdwapSl+RXWSjHBw05wQ6NeiCRDFhXT/ GuA00qaY7Myx+JDRmsC54BE/ZdMDigFd/hoGarkQKeItJnfgTQQFV4gvSILdROEKbVz1 xJy93So5KhlpHfXU/j4ln80P/zf0MYzZKaL/dXak3wvLal1BFsCrPLGEtR4J1dR/uvXW eNdLmZc0zfy80JM39SXv8Hwh7QeSn0p46Ia/xDBa7b3hL4MSLHRzEAEl5xU2DM3ocL2w XmsAVjdFab20gjoWKiq3NLWs/W5dlWcL8jBnImZfU5WDfOID7eIgTeqQguXxa4mgLwxy Ifbw== X-Gm-Message-State: AOJu0Ywsv0NO/vxAsqqdqr1kXqWd8nSNHaFqaEYLH23gjT3f0qOXW/0V 6aAOybA+y3yIeY+eqHP7LB4+syDtRpduLnoE/gNy9SIOR7PlaJi+Ec4oyBETkxaovHh6xx7ADfK zaIbye3DTfFuQjumhRY4XQpqpcTQHyxbToPZjtnzzj430 X-Gm-Gg: ASbGnct2Cb3RnlPbq6/9Ybk5dWuDIGVcE7qHUUm0Vs/cLHwu0pvIsksuhg1T9yz5bOG zXqqtgOLVTPhTjnUCmBj8eQ54vEszIknp9ZJh2jOh+SUH1MASgmmSLU67rETP41SQFQEOj1FKcE idq7cz6Ft2bWqMqe7h0Zs4biQU3jGFsyWNb0CI7i06c61J7QCVegwYExwLeamFal+yA5h1gYC2P mXB/sG+rK8MSxaBmy/4d1A6mXniquunX6+3IW2xg8h3HpwE00hWpf6ZYwjuvXG2udYWn/oX2Ca5 AOxrsSRbFqJLnDWCyCP1+Fzh5PFx07XumwC2vVa1Gkl/+waSzEhgJtXNU9YpoiVHbvYMqQ== X-Google-Smtp-Source: AGHT+IE2IC4aZULoH+FVMdAEbbKVl2fz3arZkeDklHNCTLNlFUfLOy/eou/28nwukfNwdLPNYhriFoLyXbb5 X-Received: by 2002:a05:6902:2491:b0:e84:be7:2384 with SMTP id 3f1490d57ef6-e896efcb273mr5441207276.13.1751390857717; Tue, 01 Jul 2025 10:27:37 -0700 (PDT) Received: from postal.iol.unh.edu (postal.iol.unh.edu. [132.177.123.84]) by smtp-relay.gmail.com with ESMTPS id 3f1490d57ef6-e87a6c33dd8sm518256276.31.2025.07.01.10.27.37 (version=TLS1_2 cipher=ECDHE-ECDSA-AES128-GCM-SHA256 bits=128/128); Tue, 01 Jul 2025 10:27:37 -0700 (PDT) X-Relaying-Domain: iol.unh.edu Date: Tue, 01 Jul 2025 10:27:37 -0700 (PDT) Message-ID: <68641a89.250a0220.20476.c120SMTPIN_ADDED_MISSING@mx.google.com> Received: from [172.21.0.13] (unknown [172.18.0.240]) by postal.iol.unh.edu (Postfix) with ESMTP id 643A7604D420; Tue, 1 Jul 2025 13:27:37 -0400 (EDT) Subject: |SUCCESS| pw154749 [PATCH] [v2] app/testpmd: cross NUMA support From: dpdklab@iol.unh.edu To: Test Report Cc: dpdk-test-reports@iol.unh.edu In-Reply-To: <20250626175856.1579-1-mkashani@nvidia.com> References: <20250626175856.1579-1-mkashani@nvidia.com> Content-Type: text/plain X-BeenThere: test-report@dpdk.org X-Mailman-Version: 2.1.29 Precedence: list List-Id: automatic DPDK test reports List-Unsubscribe: , List-Archive: List-Post: List-Help: List-Subscribe: , Errors-To: test-report-bounces@dpdk.org Test-Label: iol-abi-testing Test-Status: SUCCESS http://dpdk.org/patch/154749 _Testing PASS_ Submitter: Maayan Kashani Date: Thursday, June 26 2025 17:58:55 DPDK git baseline: Repo:dpdk Branch: master CommitID:ce2cf3403f2ac2c6e5eac05a43db9207e35e8b9d 154749 --> testing pass Upstream job id: Generic-DPDK-Compile-ABI#132579 Test environment and result as below: +-------------------------------+----------+ | Environment | abi_test | +===============================+==========+ | Debian GNU/Linux 12 | PASS | +-------------------------------+----------+ | CentOS Stream 9 | PASS | +-------------------------------+----------+ | CentOS Stream 10 | PASS | +-------------------------------+----------+ | Fedora Linux 40 | PASS | +-------------------------------+----------+ | Fedora Linux 41 | PASS | +-------------------------------+----------+ | Ubuntu 24.04 | PASS | +-------------------------------+----------+ | Red Hat Enterprise Linux 8.10 | PASS | +-------------------------------+----------+ | openSUSE Leap 15.6 | PASS | +-------------------------------+----------+ | Red Hat Enterprise Linux 9.5 | PASS | +-------------------------------+----------+ | Ubuntu 22.04 | PASS | +-------------------------------+----------+ Debian GNU/Linux 12 Kernel: 5.15 Compiler: gcc gcc (Debian 12.2.0-14+deb12u1) 12.2.0 CentOS Stream 9 Kernel: 5.15 Compiler: gcc gcc (GCC) 11.5.0 20240719 (Red Hat 11.5.0-7) CentOS Stream 10 Kernel: 5.15 Compiler: gcc gcc (GCC) 14.2.1 20250110 (Red Hat 14.2.1-8) Fedora Linux 40 Kernel: 5.15 Compiler: clang gcc (GCC) 14.2.1 20240912 (Red Hat 14.2.1-3) Fedora Linux 41 Kernel: 5.15 Compiler: clang gcc (GCC) 14.3.1 20250523 (Red Hat 14.3.1-1) Ubuntu 24.04 Kernel: 5.15 Compiler: gcc gcc (Ubuntu 13.3.0-6ubuntu2~24.04) 13.3.0 Red Hat Enterprise Linux 8.10 Kernel: 5.15 Compiler: gcc gcc (GCC) 8.5.0 20210514 (Red Hat 8.5.0-22) openSUSE Leap 15.6 Kernel: 5.15 Compiler: gcc gcc (SUSE Linux) 7.5.0 Red Hat Enterprise Linux 9.5 Kernel: 5.15 Compiler: gcc gcc (GCC) 11.5.0 20240719 (Red Hat 11.5.0-2) Ubuntu 22.04 Kernel: 5.15 Compiler: gcc gcc (Ubuntu 11.4.0-1ubuntu1~22.04) 11.4.0 To view detailed results, visit: https://lab.dpdk.org/results/dashboard/patchsets/33515/ UNH-IOL DPDK Community Lab To manage your email subscriptions, visit: https://lab.dpdk.org/results/dashboard/preferences/subscriptions/