From mboxrd@z Thu Jan 1 00:00:00 1970 Return-Path: Received: from mails.dpdk.org (mails.dpdk.org [217.70.189.124]) by inbox.dpdk.org (Postfix) with ESMTP id EE82546AD3 for ; Tue, 1 Jul 2025 19:28:12 +0200 (CEST) Received: from mails.dpdk.org (localhost [127.0.0.1]) by mails.dpdk.org (Postfix) with ESMTP id E8BC840264; Tue, 1 Jul 2025 19:28:12 +0200 (CEST) Received: from mail-yw1-f226.google.com (mail-yw1-f226.google.com [209.85.128.226]) by mails.dpdk.org (Postfix) with ESMTP id 1584540264 for ; Tue, 1 Jul 2025 19:28:12 +0200 (CEST) Received: by mail-yw1-f226.google.com with SMTP id 00721157ae682-712be7e034cso34673017b3.0 for ; Tue, 01 Jul 2025 10:28:12 -0700 (PDT) DKIM-Signature: v=1; a=rsa-sha256; c=relaxed/relaxed; d=iol.unh.edu; s=unh-iol; t=1751390891; x=1751995691; darn=dpdk.org; h=references:in-reply-to:cc:to:from:subject:message-id:date:from:to :cc:subject:date:message-id:reply-to; bh=kfApgazFsUrSBbmwebs14oTr9M3K9Jg5zHuV+z266jE=; b=jesXGIwZnoIJICXBoK61Q1FHJBnJVDsAH4dSRDSjrYJeAXGMgOLdC1pWA0PHWYxqDy AlBI6aNFkat+YEN7xwsist19ZpxIfnK+r3xv1YutXI+wVG5iA53R30ISU+PjE8goAVCH 4+oXWQdSM2WWJr8Jnc8GITdfS9VSCNWUByopI= X-Google-DKIM-Signature: v=1; a=rsa-sha256; c=relaxed/relaxed; d=1e100.net; s=20230601; t=1751390891; x=1751995691; h=references:in-reply-to:cc:to:from:subject:message-id:date :x-gm-message-state:from:to:cc:subject:date:message-id:reply-to; bh=kfApgazFsUrSBbmwebs14oTr9M3K9Jg5zHuV+z266jE=; b=SjFDXA7GgCYm2Y0TEYMj1nQnlB/6oRx6UCTgCfsbX3WAgAjnTM84GqR2+3g5z7G6Ry GketRlijVQnAxC8OahPYwYPub086faGmRx1AWvFJ48FPsPawQopTWwadH4SgSkQNtbOr oMhOivqotyp6rCvHdyrtaI1zyCmuy17+PLPjdJWxZA7uP7gMdt68bp7+aKEwMBD/zy0H 9sWpOZA3dNssrCl1B5TTuVaS6B9kXQ8mdXKVOHZxd5adVkhqrzbA2aJFMIZKS/rhQ619 dhZg+a7jHE1FiOXA6VPN8KQ/dgArFx5WF+aL8vdTkmjGUyCbCEIgFdCQIiWQMkTLM/0r EJrQ== X-Gm-Message-State: AOJu0Yxqtq2B7ASu7QUsWwUSL87XKAg7csKmmFObmD3uT5MA33cqhWfI 4m06vhwVlmaViOe2FtRwKoKkJChlizhAtnZrCkhRcb1SgRLq4UQbiwD4ghHOx2SEr4tzHR2dPnX HT6t98W70PPEPF5f0t5s/cqpZFSDaekunxdFWyuACeCHA X-Gm-Gg: ASbGnctCnlDqUjgeA3megxl5JhfswGrOo8c9LahOQiqGyPsWK+El7M58lgvIJ2rOLbg pZje303DIgfFFutD+5C/dACQVqUyndqca9/K+4OMtnfqjmzSc4T+KYf+yXJ9QIjxtb8VlQ1Xwqs JLvrEhUGnAX3A8DvQuaqGvRtK0IztdOK0IYnBfhELEO3PTOX6zuTw3LaquCiArLzVk87db7wEmE 2MdqHlCGz0ydUtKlYFa13rCq2NdWNr1WjkKxt9d9y47HV9O95NfZZlR2k2m9JmP/RwX1sWAz9ZL SocpFS5iGpZ7odQJ9eDX44VcKs+82wl3hXbYuXBo/Vj6AXNuD7EOaHwsKfmr2K2pXzMmJQ== X-Google-Smtp-Source: AGHT+IEgAk98Mb4xWpaydjeJm9qQhyY1c5vIpAr6DGpC4FvdzYzPlnlwmltmnxpz1xvgxaQaysVFlO3G8hNV X-Received: by 2002:a05:690c:6610:b0:713:f7dd:5d7c with SMTP id 00721157ae682-71517195c3emr294641787b3.19.1751390890957; Tue, 01 Jul 2025 10:28:10 -0700 (PDT) Received: from postal.iol.unh.edu (postal.iol.unh.edu. [132.177.123.84]) by smtp-relay.gmail.com with ESMTPS id 00721157ae682-71515be157csm3749277b3.11.2025.07.01.10.28.10 (version=TLS1_2 cipher=ECDHE-ECDSA-AES128-GCM-SHA256 bits=128/128); Tue, 01 Jul 2025 10:28:10 -0700 (PDT) X-Relaying-Domain: iol.unh.edu Date: Tue, 01 Jul 2025 10:28:10 -0700 (PDT) Message-ID: <68641aaa.050a0220.a2328.4867SMTPIN_ADDED_MISSING@mx.google.com> Received: from [172.21.0.9] (unknown [172.18.0.240]) by postal.iol.unh.edu (Postfix) with ESMTP id 96114604D420; Tue, 1 Jul 2025 13:28:10 -0400 (EDT) Subject: |SUCCESS| pw154902 [PATCH] net/mlx5: fix masked indirect age action From: dpdklab@iol.unh.edu To: Test Report Cc: dpdk-test-reports@iol.unh.edu In-Reply-To: <20250701103253.318225-1-dsosnowski@nvidia.com> References: <20250701103253.318225-1-dsosnowski@nvidia.com> Content-Type: text/plain X-BeenThere: test-report@dpdk.org X-Mailman-Version: 2.1.29 Precedence: list List-Id: automatic DPDK test reports List-Unsubscribe: , List-Archive: List-Post: List-Help: List-Subscribe: , Errors-To: test-report-bounces@dpdk.org Test-Label: iol-abi-testing Test-Status: SUCCESS http://dpdk.org/patch/154902 _Testing PASS_ Submitter: Dariusz Sosnowski Date: Tuesday, July 01 2025 10:32:53 DPDK git baseline: Repo:dpdk Branch: master CommitID:5c0c1a13c34aa57c6e18f9ba852a9b5807c58b72 154902 --> testing pass Upstream job id: Generic-DPDK-Compile-ABI#132577 Test environment and result as below: +-------------------------------+----------+ | Environment | abi_test | +===============================+==========+ | CentOS Stream 10 | PASS | +-------------------------------+----------+ | CentOS Stream 9 | PASS | +-------------------------------+----------+ | Debian GNU/Linux 12 | PASS | +-------------------------------+----------+ | Fedora Linux 40 | PASS | +-------------------------------+----------+ | Fedora Linux 41 | PASS | +-------------------------------+----------+ | Red Hat Enterprise Linux 8.10 | PASS | +-------------------------------+----------+ | openSUSE Leap 15.6 | PASS | +-------------------------------+----------+ | Red Hat Enterprise Linux 9.5 | PASS | +-------------------------------+----------+ | Ubuntu 22.04 | PASS | +-------------------------------+----------+ | Ubuntu 24.04 | PASS | +-------------------------------+----------+ CentOS Stream 10 Kernel: 5.15 Compiler: gcc gcc (GCC) 14.2.1 20250110 (Red Hat 14.2.1-8) CentOS Stream 9 Kernel: 5.15 Compiler: gcc gcc (GCC) 11.5.0 20240719 (Red Hat 11.5.0-7) Debian GNU/Linux 12 Kernel: 5.15 Compiler: gcc gcc (Debian 12.2.0-14+deb12u1) 12.2.0 Fedora Linux 40 Kernel: 5.15 Compiler: clang gcc (GCC) 14.2.1 20240912 (Red Hat 14.2.1-3) Fedora Linux 41 Kernel: 5.15 Compiler: clang gcc (GCC) 14.3.1 20250523 (Red Hat 14.3.1-1) Red Hat Enterprise Linux 8.10 Kernel: 5.15 Compiler: gcc gcc (GCC) 8.5.0 20210514 (Red Hat 8.5.0-22) openSUSE Leap 15.6 Kernel: 5.15 Compiler: gcc gcc (SUSE Linux) 7.5.0 Red Hat Enterprise Linux 9.5 Kernel: 5.15 Compiler: gcc gcc (GCC) 11.5.0 20240719 (Red Hat 11.5.0-2) Ubuntu 22.04 Kernel: 5.15 Compiler: gcc gcc (Ubuntu 11.4.0-1ubuntu1~22.04) 11.4.0 Ubuntu 24.04 Kernel: 5.15 Compiler: gcc gcc (Ubuntu 13.3.0-6ubuntu2~24.04) 13.3.0 To view detailed results, visit: https://lab.dpdk.org/results/dashboard/patchsets/33553/ UNH-IOL DPDK Community Lab To manage your email subscriptions, visit: https://lab.dpdk.org/results/dashboard/preferences/subscriptions/