From mboxrd@z Thu Jan 1 00:00:00 1970 Return-Path: Received: from mails.dpdk.org (mails.dpdk.org [217.70.189.124]) by inbox.dpdk.org (Postfix) with ESMTP id 0A4F146AD3 for ; Tue, 1 Jul 2025 19:28:30 +0200 (CEST) Received: from mails.dpdk.org (localhost [127.0.0.1]) by mails.dpdk.org (Postfix) with ESMTP id 05EAF40264; Tue, 1 Jul 2025 19:28:30 +0200 (CEST) Received: from mail-ua1-f100.google.com (mail-ua1-f100.google.com [209.85.222.100]) by mails.dpdk.org (Postfix) with ESMTP id E9F6340264 for ; Tue, 1 Jul 2025 19:28:28 +0200 (CEST) Received: by mail-ua1-f100.google.com with SMTP id a1e0cc1a2514c-87edd8f4e9fso1470708241.0 for ; Tue, 01 Jul 2025 10:28:28 -0700 (PDT) DKIM-Signature: v=1; a=rsa-sha256; c=relaxed/relaxed; d=iol.unh.edu; s=unh-iol; t=1751390908; x=1751995708; darn=dpdk.org; h=references:in-reply-to:cc:to:from:subject:message-id:date:from:to :cc:subject:date:message-id:reply-to; bh=kSs9+rLiHoewXHc/2tAcKRHoj8EU/VQYz5Oty/itSoA=; b=R2A6rQkO1kEQu4Q/q62zNw3gDr8nRRl36MFk7OBF/tz9sOd9v18JGgnBGrAqt8qhCT WeuXR7tXysKRWKkQBWhDN9AxYUH3xBV2EkXuP/tyjNK5oeE04iNoquxTd5RYr+iro5jC M+qyMrX3FLcBZJa9eUvnmKpuqzMEJbzVa8xE0= X-Google-DKIM-Signature: v=1; a=rsa-sha256; c=relaxed/relaxed; d=1e100.net; s=20230601; t=1751390908; x=1751995708; h=references:in-reply-to:cc:to:from:subject:message-id:date :x-gm-message-state:from:to:cc:subject:date:message-id:reply-to; bh=kSs9+rLiHoewXHc/2tAcKRHoj8EU/VQYz5Oty/itSoA=; b=eDBBML+7Ivt32XQpDSNLZXQvvY6+LHBjV5cgE0nTxW14IhTFpMlBTzrEc1RTLK07ct A1+Mq4LSo1Qfexj9WK74n1F1OSBs2ZI3TgZoH4Qzp/wjwZ2MObb57MXQxc2654XJGr/S wujlOcPstwrABld447sP7NcToQAXhHfg0cqWaL0xxfO4zmXPiK9PCCL9f8qSqTBrmUfu EFIr+eLnRBtligwk0dJ/bmujp8CK4e11Jq7d3HmZGScLYqwmGZPSnXUSSFhcBWxQJxUz tSh4VP/IMgsnv7Sk3FCzCrivZGcGBKUruLmPrbuF8rSs2IwXAoW0ecPw27BL59jBgJgW pvCQ== X-Gm-Message-State: AOJu0YzljzYpwbJW74qFkkE4hWYJkRNs/w1uoNwQ3olCyXT58FYb2xNS zjWXu9YeHE79KCFwUKhGf6cagTblrlWFM5SLtc+4x4FR22tCR/dG7/4DyIiM8tMjyvwNKPXP8ER yE1iK+k++/VrTdNt+yvkl9ncxvywM8yjqBxiagS51nMXMV2HfUJs77lpLbBe4 X-Gm-Gg: ASbGnct4LsUpSrlFJO7ihgROORVTQBUzZYBAfs1XyFW30/h221vB64DADfksSK7b1gl TW13Rx4LYqo5IIBKZ8GabfIkzP0obHnQyCNasar6SMiZjhPtLEM2tfwVGlRv+RLn8PrvpQZ1V9G pMbryj47OUFo52FyHRpjCGxTXIlJWQsJSaieYFZqb75KU+NXnRUo6A8jgZs5Dh+S0uH8rJaSq/6 WvWCXAviGZ1a6Z48OgYBY/8rANX+H619Tobbe+h387j1w3qHykDq4eD2d+nkqmyLJm7ojXN99ER tZbHeH9ORV5hHd+ZAu3NcfDnr/3zEFBrIvwqmDwITBN8mxg= X-Google-Smtp-Source: AGHT+IEo0iwETlIrmPKjYh42bqtajkp9t+8De6bA1TRcAmLqrcJiHLIrNL8NxaxTux8wM1qSmNjy0yYHKYpI X-Received: by 2002:a05:6102:5e8a:b0:4e5:980a:d164 with SMTP id ada2fe7eead31-4ee4f0c2d1bmr14628481137.0.1751390908227; Tue, 01 Jul 2025 10:28:28 -0700 (PDT) Received: from postal.iol.unh.edu (postal.iol.unh.edu. [2606:4100:3880:1234::84]) by smtp-relay.gmail.com with ESMTPS id a1e0cc1a2514c-884eb15fcd3sm90435241.15.2025.07.01.10.28.28 (version=TLS1_2 cipher=ECDHE-ECDSA-AES128-GCM-SHA256 bits=128/128); Tue, 01 Jul 2025 10:28:28 -0700 (PDT) X-Relaying-Domain: iol.unh.edu Date: Tue, 01 Jul 2025 10:28:28 -0700 (PDT) Message-ID: <68641abc.050a0220.88ea9.4f33SMTPIN_ADDED_MISSING@mx.google.com> Received: from [172.21.0.16] (unknown [172.18.0.240]) by postal.iol.unh.edu (Postfix) with ESMTP id 86D48604D420; Tue, 1 Jul 2025 13:28:27 -0400 (EDT) Subject: |SUCCESS| pw154902 [PATCH] net/mlx5: fix masked indirect age action From: dpdklab@iol.unh.edu To: Test Report Cc: dpdk-test-reports@iol.unh.edu In-Reply-To: <20250701103253.318225-1-dsosnowski@nvidia.com> References: <20250701103253.318225-1-dsosnowski@nvidia.com> Content-Type: text/plain X-BeenThere: test-report@dpdk.org X-Mailman-Version: 2.1.29 Precedence: list List-Id: automatic DPDK test reports List-Unsubscribe: , List-Archive: List-Post: List-Help: List-Subscribe: , Errors-To: test-report-bounces@dpdk.org Test-Label: iol-abi-testing Test-Status: SUCCESS http://dpdk.org/patch/154902 _Testing PASS_ Submitter: Dariusz Sosnowski Date: Tuesday, July 01 2025 10:32:53 DPDK git baseline: Repo:dpdk Branch: master CommitID:5c0c1a13c34aa57c6e18f9ba852a9b5807c58b72 154902 --> testing pass Upstream job id: Generic-DPDK-Compile-ABI#132576 Test environment and result as below: +-------------------------------+----------+ | Environment | abi_test | +===============================+==========+ | CentOS Stream 10 | PASS | +-------------------------------+----------+ | CentOS Stream 9 | PASS | +-------------------------------+----------+ | Debian GNU/Linux 12 | PASS | +-------------------------------+----------+ | Fedora Linux 40 | PASS | +-------------------------------+----------+ | Fedora Linux 41 | PASS | +-------------------------------+----------+ | Red Hat Enterprise Linux 8.10 | PASS | +-------------------------------+----------+ | openSUSE Leap 15.6 | PASS | +-------------------------------+----------+ | Red Hat Enterprise Linux 9.5 | PASS | +-------------------------------+----------+ | Ubuntu 22.04 | PASS | +-------------------------------+----------+ | Ubuntu 24.04 | PASS | +-------------------------------+----------+ CentOS Stream 10 Kernel: 5.15 Compiler: gcc gcc (GCC) 14.2.1 20250110 (Red Hat 14.2.1-8) CentOS Stream 9 Kernel: 5.15 Compiler: gcc gcc (GCC) 11.5.0 20240719 (Red Hat 11.5.0-7) Debian GNU/Linux 12 Kernel: 5.15 Compiler: gcc gcc (Debian 12.2.0-14+deb12u1) 12.2.0 Fedora Linux 40 Kernel: 5.15 Compiler: clang gcc (GCC) 14.2.1 20240912 (Red Hat 14.2.1-3) Fedora Linux 41 Kernel: 5.15 Compiler: clang gcc (GCC) 14.3.1 20250523 (Red Hat 14.3.1-1) Red Hat Enterprise Linux 8.10 Kernel: 5.15 Compiler: gcc gcc (GCC) 8.5.0 20210514 (Red Hat 8.5.0-22) openSUSE Leap 15.6 Kernel: 5.15 Compiler: gcc gcc (SUSE Linux) 7.5.0 Red Hat Enterprise Linux 9.5 Kernel: 5.15 Compiler: gcc gcc (GCC) 11.5.0 20240719 (Red Hat 11.5.0-2) Ubuntu 22.04 Kernel: 5.15 Compiler: gcc gcc (Ubuntu 11.4.0-1ubuntu1~22.04) 11.4.0 Ubuntu 24.04 Kernel: 5.15 Compiler: gcc gcc (Ubuntu 13.3.0-6ubuntu2~24.04) 13.3.0 To view detailed results, visit: https://lab.dpdk.org/results/dashboard/patchsets/33553/ UNH-IOL DPDK Community Lab To manage your email subscriptions, visit: https://lab.dpdk.org/results/dashboard/preferences/subscriptions/